BEGIN:VCALENDAR
VERSION:2.0
PRODID:-//First Presbyterian Church, Bentonville - ECPv6.15.20//NONSGML v1.0//EN
CALSCALE:GREGORIAN
METHOD:PUBLISH
X-WR-CALNAME:First Presbyterian Church, Bentonville
X-ORIGINAL-URL:https://fpcbentonville.org
X-WR-CALDESC:Events for First Presbyterian Church, Bentonville
REFRESH-INTERVAL;VALUE=DURATION:PT1H
X-Robots-Tag:noindex
X-PUBLISHED-TTL:PT1H
BEGIN:VTIMEZONE
TZID:America/Chicago
BEGIN:DAYLIGHT
TZOFFSETFROM:-0600
TZOFFSETTO:-0500
TZNAME:CDT
DTSTART:20250309T080000
END:DAYLIGHT
BEGIN:STANDARD
TZOFFSETFROM:-0500
TZOFFSETTO:-0600
TZNAME:CST
DTSTART:20251102T070000
END:STANDARD
BEGIN:DAYLIGHT
TZOFFSETFROM:-0600
TZOFFSETTO:-0500
TZNAME:CDT
DTSTART:20260308T080000
END:DAYLIGHT
BEGIN:STANDARD
TZOFFSETFROM:-0500
TZOFFSETTO:-0600
TZNAME:CST
DTSTART:20261101T070000
END:STANDARD
BEGIN:DAYLIGHT
TZOFFSETFROM:-0600
TZOFFSETTO:-0500
TZNAME:CDT
DTSTART:20270314T080000
END:DAYLIGHT
BEGIN:STANDARD
TZOFFSETFROM:-0500
TZOFFSETTO:-0600
TZNAME:CST
DTSTART:20271107T070000
END:STANDARD
END:VTIMEZONE
BEGIN:VEVENT
DTSTART;TZID=America/Chicago:20260613T090000
DTEND;TZID=America/Chicago:20260613T110000
DTSTAMP:20260421T182358
CREATED:20260206T190616Z
LAST-MODIFIED:20260206T190619Z
UID:8903-1781341200-1781348400@fpcbentonville.org
SUMMARY:FPC Food Pantry
DESCRIPTION:The FPC Food Pantry is available to Benton County Residents. Volunteers welcome!
URL:https://fpcbentonville.org/event/fpc-food-pantry-174/
END:VEVENT
BEGIN:VEVENT
DTSTART;TZID=America/Chicago:20260620T090000
DTEND;TZID=America/Chicago:20260620T110000
DTSTAMP:20260421T182358
CREATED:20260206T190752Z
LAST-MODIFIED:20260206T190755Z
UID:8905-1781946000-1781953200@fpcbentonville.org
SUMMARY:FPC Food Pantry
DESCRIPTION:The FPC Food Pantry is available to Benton County Residents. Volunteers welcome!
URL:https://fpcbentonville.org/event/fpc-food-pantry-175/
END:VEVENT
BEGIN:VEVENT
DTSTART;TZID=America/Chicago:20260627T090000
DTEND;TZID=America/Chicago:20260627T110000
DTSTAMP:20260421T182358
CREATED:20260206T190913Z
LAST-MODIFIED:20260206T190915Z
UID:8907-1782550800-1782558000@fpcbentonville.org
SUMMARY:FPC Food Pantry
DESCRIPTION:The FPC Food Pantry is available to Benton County Residents. Volunteers welcome!
URL:https://fpcbentonville.org/event/fpc-food-pantry-176/
END:VEVENT
BEGIN:VEVENT
DTSTART;TZID=America/Chicago:20260704T090000
DTEND;TZID=America/Chicago:20260704T110000
DTSTAMP:20260421T182358
CREATED:20260206T191303Z
LAST-MODIFIED:20260206T191306Z
UID:8909-1783155600-1783162800@fpcbentonville.org
SUMMARY:FPC Food Pantry
DESCRIPTION:The FPC Food Pantry is available to Benton County Residents. Volunteers welcome!
URL:https://fpcbentonville.org/event/fpc-food-pantry-177/
END:VEVENT
BEGIN:VEVENT
DTSTART;TZID=America/Chicago:20260711T090000
DTEND;TZID=America/Chicago:20260711T110000
DTSTAMP:20260421T182358
CREATED:20260206T191536Z
LAST-MODIFIED:20260206T191539Z
UID:8911-1783760400-1783767600@fpcbentonville.org
SUMMARY:FPC Food Pantry
DESCRIPTION:The FPC Food Pantry is available to Benton County Residents. Volunteers welcome!
URL:https://fpcbentonville.org/event/fpc-food-pantry-178/
END:VEVENT
BEGIN:VEVENT
DTSTART;TZID=America/Chicago:20260718T090000
DTEND;TZID=America/Chicago:20260718T110000
DTSTAMP:20260421T182358
CREATED:20260206T191634Z
LAST-MODIFIED:20260206T191637Z
UID:8913-1784365200-1784372400@fpcbentonville.org
SUMMARY:FPC Food Pantry
DESCRIPTION:The FPC Food Pantry is available to Benton County Residents. Volunteers welcome!
URL:https://fpcbentonville.org/event/fpc-food-pantry-179/
END:VEVENT
BEGIN:VEVENT
DTSTART;TZID=America/Chicago:20260725T090000
DTEND;TZID=America/Chicago:20260725T110000
DTSTAMP:20260421T182358
CREATED:20260206T191726Z
LAST-MODIFIED:20260206T191728Z
UID:8915-1784970000-1784977200@fpcbentonville.org
SUMMARY:FPC Food Pantry
DESCRIPTION:The FPC Food Pantry is available to Benton County Residents. Volunteers welcome!
URL:https://fpcbentonville.org/event/fpc-food-pantry-180/
END:VEVENT
BEGIN:VEVENT
DTSTART;TZID=America/Chicago:20260801T090000
DTEND;TZID=America/Chicago:20260801T110000
DTSTAMP:20260421T182358
CREATED:20260206T191835Z
LAST-MODIFIED:20260206T191838Z
UID:8917-1785574800-1785582000@fpcbentonville.org
SUMMARY:FPC Food Pantry
DESCRIPTION:The FPC Food Pantry is available to Benton County Residents. Volunteers welcome!
URL:https://fpcbentonville.org/event/fpc-food-pantry-181/
END:VEVENT
BEGIN:VEVENT
DTSTART;TZID=America/Chicago:20260808T090000
DTEND;TZID=America/Chicago:20260808T110000
DTSTAMP:20260421T182358
CREATED:20260206T191949Z
LAST-MODIFIED:20260206T191951Z
UID:8919-1786179600-1786186800@fpcbentonville.org
SUMMARY:FPC Food Pantry
DESCRIPTION:The FPC Food Pantry is available to Benton County Residents. Volunteers welcome!
URL:https://fpcbentonville.org/event/fpc-food-pantry-182/
END:VEVENT
BEGIN:VEVENT
DTSTART;TZID=America/Chicago:20260815T090000
DTEND;TZID=America/Chicago:20260815T110000
DTSTAMP:20260421T182358
CREATED:20260206T192048Z
LAST-MODIFIED:20260206T192051Z
UID:8921-1786784400-1786791600@fpcbentonville.org
SUMMARY:FPC Food Pantry
DESCRIPTION:The FPC Food Pantry is available to Benton County Residents. Volunteers welcome!
URL:https://fpcbentonville.org/event/fpc-food-pantry-183/
END:VEVENT
BEGIN:VEVENT
DTSTART;TZID=America/Chicago:20260822T090000
DTEND;TZID=America/Chicago:20260822T110000
DTSTAMP:20260421T182358
CREATED:20260206T192225Z
LAST-MODIFIED:20260206T192228Z
UID:8923-1787389200-1787396400@fpcbentonville.org
SUMMARY:FPC Food Pantry
DESCRIPTION:The FPC Food Pantry is available to Benton County Residents. Volunteers welcome!
URL:https://fpcbentonville.org/event/fpc-food-pantry-184/
END:VEVENT
BEGIN:VEVENT
DTSTART;TZID=America/Chicago:20260829T090000
DTEND;TZID=America/Chicago:20260829T110000
DTSTAMP:20260421T182358
CREATED:20260206T192356Z
LAST-MODIFIED:20260206T192358Z
UID:8925-1787994000-1788001200@fpcbentonville.org
SUMMARY:FPC Food Pantry
DESCRIPTION:The FPC Food Pantry is available to Benton County Residents. Volunteers welcome!
URL:https://fpcbentonville.org/event/fpc-food-pantry-185/
END:VEVENT
BEGIN:VEVENT
DTSTART;TZID=America/Chicago:20260905T090000
DTEND;TZID=America/Chicago:20260905T110000
DTSTAMP:20260421T182358
CREATED:20260206T192518Z
LAST-MODIFIED:20260206T192520Z
UID:8927-1788598800-1788606000@fpcbentonville.org
SUMMARY:FPC Food Pantry
DESCRIPTION:The FPC Food Pantry is available to Benton County Residents. Volunteers welcome!
URL:https://fpcbentonville.org/event/fpc-food-pantry-186/
END:VEVENT
BEGIN:VEVENT
DTSTART;TZID=America/Chicago:20260912T090000
DTEND;TZID=America/Chicago:20260912T110000
DTSTAMP:20260421T182358
CREATED:20260206T192641Z
LAST-MODIFIED:20260206T192643Z
UID:8929-1789203600-1789210800@fpcbentonville.org
SUMMARY:FPC Food Pantry
DESCRIPTION:The FPC Food Pantry is available to Benton County Residents. Volunteers welcome!
URL:https://fpcbentonville.org/event/fpc-food-pantry-187/
END:VEVENT
BEGIN:VEVENT
DTSTART;TZID=America/Chicago:20260919T090000
DTEND;TZID=America/Chicago:20260919T110000
DTSTAMP:20260421T182358
CREATED:20260206T192746Z
LAST-MODIFIED:20260206T192748Z
UID:8931-1789808400-1789815600@fpcbentonville.org
SUMMARY:FPC Food Pantry
DESCRIPTION:The FPC Food Pantry is available to Benton County Residents. Volunteers welcome!
URL:https://fpcbentonville.org/event/fpc-food-pantry-188/
END:VEVENT
BEGIN:VEVENT
DTSTART;TZID=America/Chicago:20260926T090000
DTEND;TZID=America/Chicago:20260926T110000
DTSTAMP:20260421T182358
CREATED:20260206T192839Z
LAST-MODIFIED:20260206T192841Z
UID:8933-1790413200-1790420400@fpcbentonville.org
SUMMARY:FPC Food Pantry
DESCRIPTION:The FPC Food Pantry is available to Benton County Residents. Volunteers welcome!
URL:https://fpcbentonville.org/event/fpc-food-pantry-189/
END:VEVENT
BEGIN:VEVENT
DTSTART;TZID=America/Chicago:20261002T080000
DTEND;TZID=America/Chicago:20261003T170000
DTSTAMP:20260421T182358
CREATED:20260205T212434Z
LAST-MODIFIED:20260205T212436Z
UID:8794-1790928000-1791046800@fpcbentonville.org
SUMMARY:Presbytery of Arkansas Meeting (First Presbyterian Church\, Springdale)
DESCRIPTION:
URL:https://fpcbentonville.org/event/presbytery-of-arkansas-meeting-first-presbyterian-church-springdale/
END:VEVENT
BEGIN:VEVENT
DTSTART;TZID=America/Chicago:20261003T090000
DTEND;TZID=America/Chicago:20261003T110000
DTSTAMP:20260421T182358
CREATED:20260206T193331Z
LAST-MODIFIED:20260206T193333Z
UID:8935-1791018000-1791025200@fpcbentonville.org
SUMMARY:FPC Food Pantry
DESCRIPTION:The FPC Food Pantry is available to Benton County Residents. Volunteers welcome!
URL:https://fpcbentonville.org/event/fpc-food-pantry-190/
END:VEVENT
BEGIN:VEVENT
DTSTART;TZID=America/Chicago:20261004T000000
DTEND;TZID=America/Chicago:20261004T235959
DTSTAMP:20260421T182358
CREATED:20260313T190343Z
LAST-MODIFIED:20260313T190346Z
UID:9115-1791072000-1791158399@fpcbentonville.org
SUMMARY:World Communion Sunday
DESCRIPTION:
URL:https://fpcbentonville.org/event/world-communion-sunday-2/
END:VEVENT
BEGIN:VEVENT
DTSTART;TZID=America/Chicago:20261010T090000
DTEND;TZID=America/Chicago:20261010T110000
DTSTAMP:20260421T182358
CREATED:20260206T193457Z
LAST-MODIFIED:20260206T193459Z
UID:8937-1791622800-1791630000@fpcbentonville.org
SUMMARY:FPC Food Pantry
DESCRIPTION:The FPC Food Pantry is available to Benton County Residents. Volunteers welcome!
URL:https://fpcbentonville.org/event/fpc-food-pantry-191/
END:VEVENT
BEGIN:VEVENT
DTSTART;TZID=America/Chicago:20261017T090000
DTEND;TZID=America/Chicago:20261017T110000
DTSTAMP:20260421T182358
CREATED:20260206T193834Z
LAST-MODIFIED:20260206T193836Z
UID:8939-1792227600-1792234800@fpcbentonville.org
SUMMARY:FPC Food Pantry
DESCRIPTION:The FPC Food Pantry is available to Benton County Residents. Volunteers welcome!
URL:https://fpcbentonville.org/event/fpc-food-pantry-192/
END:VEVENT
BEGIN:VEVENT
DTSTART;TZID=America/Chicago:20261024T090000
DTEND;TZID=America/Chicago:20261024T110000
DTSTAMP:20260421T182358
CREATED:20260206T194002Z
LAST-MODIFIED:20260206T194005Z
UID:8941-1792832400-1792839600@fpcbentonville.org
SUMMARY:FPC Food Pantry
DESCRIPTION:The FPC Food Pantry is available to Benton County Residents. Volunteers welcome!
URL:https://fpcbentonville.org/event/fpc-food-pantry-193/
END:VEVENT
BEGIN:VEVENT
DTSTART;TZID=America/Chicago:20261101T000000
DTEND;TZID=America/Chicago:20261101T235959
DTSTAMP:20260421T182358
CREATED:20260313T190433Z
LAST-MODIFIED:20260313T190437Z
UID:9117-1793491200-1793577599@fpcbentonville.org
SUMMARY:All Saints Sunday
DESCRIPTION:
URL:https://fpcbentonville.org/event/all-saints-sunday/
END:VEVENT
BEGIN:VEVENT
DTSTART;TZID=America/Chicago:20261129T000000
DTEND;TZID=America/Chicago:20261129T235959
DTSTAMP:20260421T182358
CREATED:20260313T190630Z
LAST-MODIFIED:20260313T190633Z
UID:9119-1795910400-1795996799@fpcbentonville.org
SUMMARY:First Sunday in Advent
DESCRIPTION:
URL:https://fpcbentonville.org/event/first-sunday-in-advent/
END:VEVENT
BEGIN:VEVENT
DTSTART;TZID=America/Chicago:20261206T000000
DTEND;TZID=America/Chicago:20261206T235959
DTSTAMP:20260421T182358
CREATED:20260313T190852Z
LAST-MODIFIED:20260313T190855Z
UID:9121-1796515200-1796601599@fpcbentonville.org
SUMMARY:Second Sunday in Advent
DESCRIPTION:
URL:https://fpcbentonville.org/event/second-sunday-in-advent/
END:VEVENT
BEGIN:VEVENT
DTSTART;TZID=America/Chicago:20261206T160000
DTEND;TZID=America/Chicago:20261206T160000
DTSTAMP:20260421T182358
CREATED:20260313T191058Z
LAST-MODIFIED:20260313T191100Z
UID:9123-1796572800-1796572800@fpcbentonville.org
SUMMARY:Service of Solace
DESCRIPTION:
URL:https://fpcbentonville.org/event/service-of-solace/
END:VEVENT
BEGIN:VEVENT
DTSTART;TZID=America/Chicago:20261213T000000
DTEND;TZID=America/Chicago:20261213T235959
DTSTAMP:20260421T182358
CREATED:20260313T191206Z
LAST-MODIFIED:20260313T191210Z
UID:9125-1797120000-1797206399@fpcbentonville.org
SUMMARY:Third Sunday in Advent
DESCRIPTION:
URL:https://fpcbentonville.org/event/third-sunday-in-advent/
END:VEVENT
BEGIN:VEVENT
DTSTART;TZID=America/Chicago:20261220T000000
DTEND;TZID=America/Chicago:20261220T235959
DTSTAMP:20260421T182358
CREATED:20260313T191354Z
LAST-MODIFIED:20260313T191358Z
UID:9127-1797724800-1797811199@fpcbentonville.org
SUMMARY:Fourth Sunday in Advent
DESCRIPTION:
URL:https://fpcbentonville.org/event/fourth-sunday-in-advent/
END:VEVENT
BEGIN:VEVENT
DTSTART;TZID=America/Chicago:20261224T183000
DTEND;TZID=America/Chicago:20261224T183000
DTSTAMP:20260421T182358
CREATED:20260313T192148Z
LAST-MODIFIED:20260313T192151Z
UID:9129-1798137000-1798137000@fpcbentonville.org
SUMMARY:Christmas Eve Candlelight Service
DESCRIPTION:
URL:https://fpcbentonville.org/event/christmas-eve-candlelight-service/
END:VEVENT
END:VCALENDAR