BEGIN:VCALENDAR
VERSION:2.0
PRODID:-//First Presbyterian Church, Bentonville - ECPv6.15.20//NONSGML v1.0//EN
CALSCALE:GREGORIAN
METHOD:PUBLISH
X-WR-CALNAME:First Presbyterian Church, Bentonville
X-ORIGINAL-URL:https://fpcbentonville.org
X-WR-CALDESC:Events for First Presbyterian Church, Bentonville
REFRESH-INTERVAL;VALUE=DURATION:PT1H
X-Robots-Tag:noindex
X-PUBLISHED-TTL:PT1H
BEGIN:VTIMEZONE
TZID:America/Chicago
BEGIN:DAYLIGHT
TZOFFSETFROM:-0600
TZOFFSETTO:-0500
TZNAME:CDT
DTSTART:20250309T080000
END:DAYLIGHT
BEGIN:STANDARD
TZOFFSETFROM:-0500
TZOFFSETTO:-0600
TZNAME:CST
DTSTART:20251102T070000
END:STANDARD
BEGIN:DAYLIGHT
TZOFFSETFROM:-0600
TZOFFSETTO:-0500
TZNAME:CDT
DTSTART:20260308T080000
END:DAYLIGHT
BEGIN:STANDARD
TZOFFSETFROM:-0500
TZOFFSETTO:-0600
TZNAME:CST
DTSTART:20261101T070000
END:STANDARD
BEGIN:DAYLIGHT
TZOFFSETFROM:-0600
TZOFFSETTO:-0500
TZNAME:CDT
DTSTART:20270314T080000
END:DAYLIGHT
BEGIN:STANDARD
TZOFFSETFROM:-0500
TZOFFSETTO:-0600
TZNAME:CST
DTSTART:20271107T070000
END:STANDARD
END:VTIMEZONE
BEGIN:VEVENT
DTSTART;TZID=America/Chicago:20261101T000000
DTEND;TZID=America/Chicago:20261101T235959
DTSTAMP:20260421T164154
CREATED:20260313T190433Z
LAST-MODIFIED:20260313T190437Z
UID:9117-1793491200-1793577599@fpcbentonville.org
SUMMARY:All Saints Sunday
DESCRIPTION:
URL:https://fpcbentonville.org/event/all-saints-sunday/
END:VEVENT
BEGIN:VEVENT
DTSTART;TZID=America/Chicago:20261129T000000
DTEND;TZID=America/Chicago:20261129T235959
DTSTAMP:20260421T164154
CREATED:20260313T190630Z
LAST-MODIFIED:20260313T190633Z
UID:9119-1795910400-1795996799@fpcbentonville.org
SUMMARY:First Sunday in Advent
DESCRIPTION:
URL:https://fpcbentonville.org/event/first-sunday-in-advent/
END:VEVENT
BEGIN:VEVENT
DTSTART;TZID=America/Chicago:20261206T000000
DTEND;TZID=America/Chicago:20261206T235959
DTSTAMP:20260421T164154
CREATED:20260313T190852Z
LAST-MODIFIED:20260313T190855Z
UID:9121-1796515200-1796601599@fpcbentonville.org
SUMMARY:Second Sunday in Advent
DESCRIPTION:
URL:https://fpcbentonville.org/event/second-sunday-in-advent/
END:VEVENT
BEGIN:VEVENT
DTSTART;TZID=America/Chicago:20261206T160000
DTEND;TZID=America/Chicago:20261206T160000
DTSTAMP:20260421T164154
CREATED:20260313T191058Z
LAST-MODIFIED:20260313T191100Z
UID:9123-1796572800-1796572800@fpcbentonville.org
SUMMARY:Service of Solace
DESCRIPTION:
URL:https://fpcbentonville.org/event/service-of-solace/
END:VEVENT
BEGIN:VEVENT
DTSTART;TZID=America/Chicago:20261213T000000
DTEND;TZID=America/Chicago:20261213T235959
DTSTAMP:20260421T164154
CREATED:20260313T191206Z
LAST-MODIFIED:20260313T191210Z
UID:9125-1797120000-1797206399@fpcbentonville.org
SUMMARY:Third Sunday in Advent
DESCRIPTION:
URL:https://fpcbentonville.org/event/third-sunday-in-advent/
END:VEVENT
BEGIN:VEVENT
DTSTART;TZID=America/Chicago:20261220T000000
DTEND;TZID=America/Chicago:20261220T235959
DTSTAMP:20260421T164154
CREATED:20260313T191354Z
LAST-MODIFIED:20260313T191358Z
UID:9127-1797724800-1797811199@fpcbentonville.org
SUMMARY:Fourth Sunday in Advent
DESCRIPTION:
URL:https://fpcbentonville.org/event/fourth-sunday-in-advent/
END:VEVENT
BEGIN:VEVENT
DTSTART;TZID=America/Chicago:20261224T183000
DTEND;TZID=America/Chicago:20261224T183000
DTSTAMP:20260421T164154
CREATED:20260313T192148Z
LAST-MODIFIED:20260313T192151Z
UID:9129-1798137000-1798137000@fpcbentonville.org
SUMMARY:Christmas Eve Candlelight Service
DESCRIPTION:
URL:https://fpcbentonville.org/event/christmas-eve-candlelight-service/
END:VEVENT
END:VCALENDAR