BEGIN:VCALENDAR
VERSION:2.0
PRODID:-//First Presbyterian Church, Bentonville - ECPv6.15.20//NONSGML v1.0//EN
CALSCALE:GREGORIAN
METHOD:PUBLISH
X-WR-CALNAME:First Presbyterian Church, Bentonville
X-ORIGINAL-URL:https://fpcbentonville.org
X-WR-CALDESC:Events for First Presbyterian Church, Bentonville
REFRESH-INTERVAL;VALUE=DURATION:PT1H
X-Robots-Tag:noindex
X-PUBLISHED-TTL:PT1H
BEGIN:VTIMEZONE
TZID:America/Chicago
BEGIN:DAYLIGHT
TZOFFSETFROM:-0600
TZOFFSETTO:-0500
TZNAME:CDT
DTSTART:20250309T080000
END:DAYLIGHT
BEGIN:STANDARD
TZOFFSETFROM:-0500
TZOFFSETTO:-0600
TZNAME:CST
DTSTART:20251102T070000
END:STANDARD
BEGIN:DAYLIGHT
TZOFFSETFROM:-0600
TZOFFSETTO:-0500
TZNAME:CDT
DTSTART:20260308T080000
END:DAYLIGHT
BEGIN:STANDARD
TZOFFSETFROM:-0500
TZOFFSETTO:-0600
TZNAME:CST
DTSTART:20261101T070000
END:STANDARD
BEGIN:DAYLIGHT
TZOFFSETFROM:-0600
TZOFFSETTO:-0500
TZNAME:CDT
DTSTART:20270314T080000
END:DAYLIGHT
BEGIN:STANDARD
TZOFFSETFROM:-0500
TZOFFSETTO:-0600
TZNAME:CST
DTSTART:20271107T070000
END:STANDARD
END:VTIMEZONE
BEGIN:VEVENT
DTSTART;TZID=America/Chicago:20260329T103000
DTEND;TZID=America/Chicago:20260329T113000
DTSTAMP:20260421T193443
CREATED:20260206T162341Z
LAST-MODIFIED:20260206T162344Z
UID:8832-1774780200-1774783800@fpcbentonville.org
SUMMARY:Children's Church
DESCRIPTION:Faith Formation for Children age 3-2nd Grade
URL:https://fpcbentonville.org/event/childrens-church-7/
END:VEVENT
BEGIN:VEVENT
DTSTART;TZID=America/Chicago:20260329T130000
DTEND;TZID=America/Chicago:20260329T143000
DTSTAMP:20260421T193443
CREATED:20260219T182403Z
LAST-MODIFIED:20260219T182406Z
UID:8967-1774789200-1774794600@fpcbentonville.org
SUMMARY:Holy Week Rocks (Fellowship Hall)
DESCRIPTION:An Interactive Faith Formation Experience for children and their families.
URL:https://fpcbentonville.org/event/holy-week-rocks-fellowship-hall/
END:VEVENT
BEGIN:VEVENT
DTSTART;TZID=America/Chicago:20260401T183000
DTEND;TZID=America/Chicago:20260401T183000
DTSTAMP:20260421T193443
CREATED:20260304T171405Z
LAST-MODIFIED:20260304T171407Z
UID:9014-1775068200-1775068200@fpcbentonville.org
SUMMARY:Choir Practice
DESCRIPTION:
URL:https://fpcbentonville.org/event/choir-practice-79/
END:VEVENT
BEGIN:VEVENT
DTSTART;TZID=America/Chicago:20260402T093000
DTEND;TZID=America/Chicago:20260402T093000
DTSTAMP:20260421T193443
CREATED:20260304T174218Z
LAST-MODIFIED:20260304T174221Z
UID:9026-1775122200-1775122200@fpcbentonville.org
SUMMARY:W.O.W. (Women of the Word) Bible Study (Bird’s Eye Room)
DESCRIPTION:
URL:https://fpcbentonville.org/event/w-o-w-women-of-the-word-bible-study-birds-eye-room-10/
END:VEVENT
BEGIN:VEVENT
DTSTART;TZID=America/Chicago:20260402T183000
DTEND;TZID=America/Chicago:20260402T183000
DTSTAMP:20260421T193443
CREATED:20260402T211606Z
LAST-MODIFIED:20260402T211609Z
UID:9157-1775154600-1775154600@fpcbentonville.org
SUMMARY:Maundy Thursday Service
DESCRIPTION:
URL:https://fpcbentonville.org/event/maundy-thursday-service-2/
END:VEVENT
BEGIN:VEVENT
DTSTART;TZID=America/Chicago:20260403T120000
DTEND;TZID=America/Chicago:20260403T120000
DTSTAMP:20260421T193443
CREATED:20260402T211939Z
LAST-MODIFIED:20260402T211941Z
UID:9159-1775217600-1775217600@fpcbentonville.org
SUMMARY:Good Friday Service (online only)
DESCRIPTION:
URL:https://fpcbentonville.org/event/good-friday-service-online-only/
END:VEVENT
BEGIN:VEVENT
DTSTART;TZID=America/Chicago:20260404T090000
DTEND;TZID=America/Chicago:20260404T110000
DTSTAMP:20260421T193443
CREATED:20260206T172639Z
LAST-MODIFIED:20260206T172642Z
UID:8883-1775293200-1775300400@fpcbentonville.org
SUMMARY:FPC Food Pantry
DESCRIPTION:The FPC Food Pantry is available to Benton County Residents. Volunteers welcome!
URL:https://fpcbentonville.org/event/fpc-food-pantry-164/
END:VEVENT
BEGIN:VEVENT
DTSTART;TZID=America/Chicago:20260405T000000
DTEND;TZID=America/Chicago:20260405T235959
DTSTAMP:20260421T193443
CREATED:20260304T174049Z
LAST-MODIFIED:20260304T174051Z
UID:9024-1775347200-1775433599@fpcbentonville.org
SUMMARY:Easter Sunday
DESCRIPTION:
URL:https://fpcbentonville.org/event/easter-sunday-3/
END:VEVENT
BEGIN:VEVENT
DTSTART;TZID=America/Chicago:20260405T084500
DTEND;TZID=America/Chicago:20260405T084500
DTSTAMP:20260421T193443
CREATED:20260304T181340Z
LAST-MODIFIED:20260304T181343Z
UID:9038-1775378700-1775378700@fpcbentonville.org
SUMMARY:J St. Kids
DESCRIPTION:Faith Formation for K-6th Graders
URL:https://fpcbentonville.org/event/j-st-kids-29/
END:VEVENT
BEGIN:VEVENT
DTSTART;TZID=America/Chicago:20260405T090000
DTEND;TZID=America/Chicago:20260405T090000
DTSTAMP:20260421T193443
CREATED:20260304T182834Z
LAST-MODIFIED:20260304T182836Z
UID:9050-1775379600-1775379600@fpcbentonville.org
SUMMARY:Adult Faith Formation
DESCRIPTION:
URL:https://fpcbentonville.org/event/adult-faith-formation-3/
END:VEVENT
BEGIN:VEVENT
DTSTART;TZID=America/Chicago:20260405T101500
DTEND;TZID=America/Chicago:20260405T101500
DTSTAMP:20260421T193443
CREATED:20260304T181151Z
LAST-MODIFIED:20260304T181153Z
UID:9036-1775384100-1775384100@fpcbentonville.org
SUMMARY:Worship with the Lord's Supper (in person and online via Facebook)
DESCRIPTION:
URL:https://fpcbentonville.org/event/worship-with-the-lords-supper-in-person-and-online-via-facebook/
END:VEVENT
BEGIN:VEVENT
DTSTART;TZID=America/Chicago:20260408T183000
DTEND;TZID=America/Chicago:20260408T183000
DTSTAMP:20260421T193443
CREATED:20260304T171826Z
LAST-MODIFIED:20260304T171828Z
UID:9016-1775673000-1775673000@fpcbentonville.org
SUMMARY:Choir Practice
DESCRIPTION:
URL:https://fpcbentonville.org/event/choir-practice-80/
END:VEVENT
BEGIN:VEVENT
DTSTART;TZID=America/Chicago:20260409T093000
DTEND;TZID=America/Chicago:20260409T093000
DTSTAMP:20260421T193443
CREATED:20260304T175128Z
LAST-MODIFIED:20260304T175131Z
UID:9028-1775727000-1775727000@fpcbentonville.org
SUMMARY:Presbyterian Women Horizons Bible Study (Bird's Eye Room)
DESCRIPTION:
URL:https://fpcbentonville.org/event/presbyterian-women-horizons-bible-study-birds-eye-room-3/
END:VEVENT
BEGIN:VEVENT
DTSTART;TZID=America/Chicago:20260411T090000
DTEND;TZID=America/Chicago:20260411T110000
DTSTAMP:20260421T193443
CREATED:20260206T172734Z
LAST-MODIFIED:20260206T172737Z
UID:8885-1775898000-1775905200@fpcbentonville.org
SUMMARY:FPC Food Pantry
DESCRIPTION:The FPC Food Pantry is available to Benton County Residents. Volunteers welcome!
URL:https://fpcbentonville.org/event/fpc-food-pantry-165/
END:VEVENT
BEGIN:VEVENT
DTSTART;TZID=America/Chicago:20260412T084500
DTEND;TZID=America/Chicago:20260412T084500
DTSTAMP:20260421T193443
CREATED:20260304T181429Z
LAST-MODIFIED:20260304T181431Z
UID:9040-1775983500-1775983500@fpcbentonville.org
SUMMARY:J St. Kids
DESCRIPTION:Faith Formation for K-6th Graders
URL:https://fpcbentonville.org/event/j-st-kids-30/
END:VEVENT
BEGIN:VEVENT
DTSTART;TZID=America/Chicago:20260412T090000
DTEND;TZID=America/Chicago:20260412T090000
DTSTAMP:20260421T193443
CREATED:20260304T182916Z
LAST-MODIFIED:20260304T182919Z
UID:9052-1775984400-1775984400@fpcbentonville.org
SUMMARY:Adult Faith Formation
DESCRIPTION:
URL:https://fpcbentonville.org/event/adult-faith-formation-4/
END:VEVENT
BEGIN:VEVENT
DTSTART;TZID=America/Chicago:20260412T101500
DTEND;TZID=America/Chicago:20260412T101500
DTSTAMP:20260421T193443
CREATED:20260304T183828Z
LAST-MODIFIED:20260304T183830Z
UID:9065-1775988900-1775988900@fpcbentonville.org
SUMMARY:Worship (in person and online via Facebook and YouTube)
DESCRIPTION:
URL:https://fpcbentonville.org/event/worship-in-person-and-online-via-facebook-and-youtube-25/
END:VEVENT
BEGIN:VEVENT
DTSTART;TZID=America/Chicago:20260412T103000
DTEND;TZID=America/Chicago:20260412T103000
DTSTAMP:20260421T193443
CREATED:20260304T184338Z
LAST-MODIFIED:20260304T184341Z
UID:9067-1775989800-1775989800@fpcbentonville.org
SUMMARY:Children's Church
DESCRIPTION:Faith Formation for Children age 3-2nd Grade
URL:https://fpcbentonville.org/event/childrens-church-8/
END:VEVENT
BEGIN:VEVENT
DTSTART;TZID=America/Chicago:20260412T160000
DTEND;TZID=America/Chicago:20260412T160000
DTSTAMP:20260421T193443
CREATED:20260304T182504Z
LAST-MODIFIED:20260304T182506Z
UID:9046-1776009600-1776009600@fpcbentonville.org
SUMMARY:Youth Group
DESCRIPTION:Faith Formation for 7-12th Graders
URL:https://fpcbentonville.org/event/youth-group-60/
END:VEVENT
BEGIN:VEVENT
DTSTART;TZID=America/Chicago:20260415T183000
DTEND;TZID=America/Chicago:20260415T183000
DTSTAMP:20260421T193443
CREATED:20260304T172047Z
LAST-MODIFIED:20260304T172050Z
UID:9018-1776277800-1776277800@fpcbentonville.org
SUMMARY:Choir Practice
DESCRIPTION:
URL:https://fpcbentonville.org/event/choir-practice-81/
END:VEVENT
BEGIN:VEVENT
DTSTART;TZID=America/Chicago:20260416T093000
DTEND;TZID=America/Chicago:20260416T093000
DTSTAMP:20260421T193443
CREATED:20260304T175203Z
LAST-MODIFIED:20260304T175205Z
UID:9030-1776331800-1776331800@fpcbentonville.org
SUMMARY:W.O.W. (Women of the Word) Bible Study (Bird’s Eye Room)
DESCRIPTION:
URL:https://fpcbentonville.org/event/w-o-w-women-of-the-word-bible-study-birds-eye-room-11/
END:VEVENT
BEGIN:VEVENT
DTSTART;TZID=America/Chicago:20260418T090000
DTEND;TZID=America/Chicago:20260418T110000
DTSTAMP:20260421T193443
CREATED:20260206T172859Z
LAST-MODIFIED:20260206T172901Z
UID:8887-1776502800-1776510000@fpcbentonville.org
SUMMARY:FPC Food Pantry
DESCRIPTION:The FPC Food Pantry is available to Benton County Residents. Volunteers welcome!
URL:https://fpcbentonville.org/event/fpc-food-pantry-166/
END:VEVENT
BEGIN:VEVENT
DTSTART;TZID=America/Chicago:20260419T084500
DTEND;TZID=America/Chicago:20260419T084500
DTSTAMP:20260421T193443
CREATED:20260304T181544Z
LAST-MODIFIED:20260304T181547Z
UID:9042-1776588300-1776588300@fpcbentonville.org
SUMMARY:J St. Kids
DESCRIPTION:Faith Formation for K-6th Graders
URL:https://fpcbentonville.org/event/j-st-kids-31/
END:VEVENT
BEGIN:VEVENT
DTSTART;TZID=America/Chicago:20260419T090000
DTEND;TZID=America/Chicago:20260419T090000
DTSTAMP:20260421T193443
CREATED:20260304T183329Z
LAST-MODIFIED:20260304T183332Z
UID:9054-1776589200-1776589200@fpcbentonville.org
SUMMARY:Adult Faith Formation
DESCRIPTION:
URL:https://fpcbentonville.org/event/adult-faith-formation-5/
END:VEVENT
BEGIN:VEVENT
DTSTART;TZID=America/Chicago:20260419T101500
DTEND;TZID=America/Chicago:20260419T101500
DTSTAMP:20260421T193443
CREATED:20260304T183635Z
LAST-MODIFIED:20260304T183638Z
UID:9061-1776593700-1776593700@fpcbentonville.org
SUMMARY:Worship (in person and online via Facebook and YouTube)
DESCRIPTION:
URL:https://fpcbentonville.org/event/worship-in-person-and-online-via-facebook-and-youtube-23/
END:VEVENT
BEGIN:VEVENT
DTSTART;TZID=America/Chicago:20260419T103000
DTEND;TZID=America/Chicago:20260419T103000
DTSTAMP:20260421T193443
CREATED:20260304T184420Z
LAST-MODIFIED:20260304T184423Z
UID:9069-1776594600-1776594600@fpcbentonville.org
SUMMARY:Children's Church
DESCRIPTION:Faith Formation for Children age 3-2nd Grade
URL:https://fpcbentonville.org/event/childrens-church-9/
END:VEVENT
BEGIN:VEVENT
DTSTART;TZID=America/Chicago:20260419T160000
DTEND;TZID=America/Chicago:20260419T160000
DTSTAMP:20260421T193443
CREATED:20260304T182619Z
LAST-MODIFIED:20260304T182621Z
UID:9048-1776614400-1776614400@fpcbentonville.org
SUMMARY:Youth Group
DESCRIPTION:Faith Formation for 7-12th Graders
URL:https://fpcbentonville.org/event/youth-group-61/
END:VEVENT
BEGIN:VEVENT
DTSTART;TZID=America/Chicago:20260422T183000
DTEND;TZID=America/Chicago:20260422T183000
DTSTAMP:20260421T193443
CREATED:20260304T172138Z
LAST-MODIFIED:20260304T172140Z
UID:9020-1776882600-1776882600@fpcbentonville.org
SUMMARY:Choir Practice
DESCRIPTION:
URL:https://fpcbentonville.org/event/choir-practice-82/
END:VEVENT
BEGIN:VEVENT
DTSTART;TZID=America/Chicago:20260423T093000
DTEND;TZID=America/Chicago:20260423T093000
DTSTAMP:20260421T193443
CREATED:20260304T175241Z
LAST-MODIFIED:20260304T175244Z
UID:9032-1776936600-1776936600@fpcbentonville.org
SUMMARY:W.O.W. (Women of the Word) Bible Study (Bird’s Eye Room)
DESCRIPTION:
URL:https://fpcbentonville.org/event/w-o-w-women-of-the-word-bible-study-birds-eye-room-12/
END:VEVENT
BEGIN:VEVENT
DTSTART;TZID=America/Chicago:20260425T090000
DTEND;TZID=America/Chicago:20260425T110000
DTSTAMP:20260421T193443
CREATED:20260206T174100Z
LAST-MODIFIED:20260206T174102Z
UID:8889-1777107600-1777114800@fpcbentonville.org
SUMMARY:FPC Food Pantry
DESCRIPTION:The FPC Food Pantry is available to Benton County Residents. Volunteers welcome!
URL:https://fpcbentonville.org/event/fpc-food-pantry-167/
END:VEVENT
END:VCALENDAR