BEGIN:VCALENDAR
VERSION:2.0
PRODID:-//First Presbyterian Church, Bentonville - ECPv6.15.20//NONSGML v1.0//EN
CALSCALE:GREGORIAN
METHOD:PUBLISH
X-WR-CALNAME:First Presbyterian Church, Bentonville
X-ORIGINAL-URL:https://fpcbentonville.org
X-WR-CALDESC:Events for First Presbyterian Church, Bentonville
REFRESH-INTERVAL;VALUE=DURATION:PT1H
X-Robots-Tag:noindex
X-PUBLISHED-TTL:PT1H
BEGIN:VTIMEZONE
TZID:America/Chicago
BEGIN:DAYLIGHT
TZOFFSETFROM:-0600
TZOFFSETTO:-0500
TZNAME:CDT
DTSTART:20240310T080000
END:DAYLIGHT
BEGIN:STANDARD
TZOFFSETFROM:-0500
TZOFFSETTO:-0600
TZNAME:CST
DTSTART:20241103T070000
END:STANDARD
BEGIN:DAYLIGHT
TZOFFSETFROM:-0600
TZOFFSETTO:-0500
TZNAME:CDT
DTSTART:20250309T080000
END:DAYLIGHT
BEGIN:STANDARD
TZOFFSETFROM:-0500
TZOFFSETTO:-0600
TZNAME:CST
DTSTART:20251102T070000
END:STANDARD
BEGIN:DAYLIGHT
TZOFFSETFROM:-0600
TZOFFSETTO:-0500
TZNAME:CDT
DTSTART:20260308T080000
END:DAYLIGHT
BEGIN:STANDARD
TZOFFSETFROM:-0500
TZOFFSETTO:-0600
TZNAME:CST
DTSTART:20261101T070000
END:STANDARD
BEGIN:DAYLIGHT
TZOFFSETFROM:-0600
TZOFFSETTO:-0500
TZNAME:CDT
DTSTART:20270314T080000
END:DAYLIGHT
BEGIN:STANDARD
TZOFFSETFROM:-0500
TZOFFSETTO:-0600
TZNAME:CST
DTSTART:20271107T070000
END:STANDARD
END:VTIMEZONE
BEGIN:VEVENT
DTSTART;TZID=America/Chicago:20260208T090000
DTEND;TZID=America/Chicago:20260208T090000
DTSTAMP:20260425T063632
CREATED:20260205T202318Z
LAST-MODIFIED:20260205T202608Z
UID:8709-1770541200-1770541200@fpcbentonville.org
SUMMARY:Adult Faith Formation (Library)
DESCRIPTION:
URL:https://fpcbentonville.org/event/adult-faith-formation-2/
END:VEVENT
BEGIN:VEVENT
DTSTART;TZID=America/Chicago:20260208T084500
DTEND;TZID=America/Chicago:20260208T084500
DTSTAMP:20260425T063632
CREATED:20260205T202107Z
LAST-MODIFIED:20260205T213217Z
UID:8703-1770540300-1770540300@fpcbentonville.org
SUMMARY:J St. Kids
DESCRIPTION:Faith Formation for K-6th Graders
URL:https://fpcbentonville.org/event/j-st-kids-23/
END:VEVENT
BEGIN:VEVENT
DTSTART;TZID=America/Chicago:20260207T090000
DTEND;TZID=America/Chicago:20260207T110000
DTSTAMP:20260425T063632
CREATED:20260205T211307Z
LAST-MODIFIED:20260205T211309Z
UID:8770-1770454800-1770462000@fpcbentonville.org
SUMMARY:FPC Food Pantry
DESCRIPTION:
URL:https://fpcbentonville.org/event/fpc-food-pantry-155/
END:VEVENT
BEGIN:VEVENT
DTSTART;TZID=America/Chicago:20260205T093000
DTEND;TZID=America/Chicago:20260205T093000
DTSTAMP:20260425T063632
CREATED:20260205T204029Z
LAST-MODIFIED:20260205T204030Z
UID:8742-1770283800-1770283800@fpcbentonville.org
SUMMARY:W.O.W. (Women of the Word) Bible Study (Bird's Eye Room)
DESCRIPTION:
URL:https://fpcbentonville.org/event/w-o-w-women-of-the-word-bible-study-birds-eye-room-4/
END:VEVENT
BEGIN:VEVENT
DTSTART;TZID=America/Chicago:20260204T183000
DTEND;TZID=America/Chicago:20260204T183000
DTSTAMP:20260425T063632
CREATED:20260205T203703Z
LAST-MODIFIED:20260205T203706Z
UID:8736-1770229800-1770229800@fpcbentonville.org
SUMMARY:Choir Practice
DESCRIPTION:
URL:https://fpcbentonville.org/event/choir-practice-72/
END:VEVENT
BEGIN:VEVENT
DTSTART;TZID=America/Chicago:20260202T180000
DTEND;TZID=America/Chicago:20260202T180000
DTSTAMP:20260425T063632
CREATED:20260205T203614Z
LAST-MODIFIED:20260205T203617Z
UID:8734-1770055200-1770055200@fpcbentonville.org
SUMMARY:Stated Session Meeting (Library)
DESCRIPTION:
URL:https://fpcbentonville.org/event/stated-session-meeting-library-14/
END:VEVENT
BEGIN:VEVENT
DTSTART;TZID=America/Chicago:20260202T133000
DTEND;TZID=America/Chicago:20260202T173000
DTSTAMP:20260425T063632
CREATED:20260205T203524Z
LAST-MODIFIED:20260205T203527Z
UID:8732-1770039000-1770053400@fpcbentonville.org
SUMMARY:Blood Drive (Fellowship Hall)
DESCRIPTION:
URL:https://fpcbentonville.org/event/blood-drive-fellowship-hall/
END:VEVENT
BEGIN:VEVENT
DTSTART;TZID=America/Chicago:20260201T160000
DTEND;TZID=America/Chicago:20260201T160000
DTSTAMP:20260425T063632
CREATED:20260205T203108Z
LAST-MODIFIED:20260205T203319Z
UID:8725-1769961600-1769961600@fpcbentonville.org
SUMMARY:Youth Group
DESCRIPTION:
URL:https://fpcbentonville.org/event/youth-group-54/
END:VEVENT
BEGIN:VEVENT
DTSTART;TZID=America/Chicago:20260201T101500
DTEND;TZID=America/Chicago:20260201T101500
DTSTAMP:20260425T063632
CREATED:20260205T202747Z
LAST-MODIFIED:20260205T211357Z
UID:8717-1769940900-1769940900@fpcbentonville.org
SUMMARY:Worship with Lord's Supper (in person and online via Facebook and YouTube)
DESCRIPTION:
URL:https://fpcbentonville.org/event/worship-with-the-sacrament-of-the-lords-supper-in-person-and-online-via-facebook-and-youtube-5/
END:VEVENT
BEGIN:VEVENT
DTSTART;TZID=America/Chicago:20260201T090000
DTEND;TZID=America/Chicago:20260201T090000
DTSTAMP:20260425T063632
CREATED:20260205T202027Z
LAST-MODIFIED:20260205T202030Z
UID:8701-1769936400-1769936400@fpcbentonville.org
SUMMARY:Adult Faith Formation (Library)
DESCRIPTION:
URL:https://fpcbentonville.org/event/adult-faith-formation-library-2/
END:VEVENT
BEGIN:VEVENT
DTSTART;TZID=America/Chicago:20260201T084500
DTEND;TZID=America/Chicago:20260201T084500
DTSTAMP:20260425T063632
CREATED:20260205T201925Z
LAST-MODIFIED:20260205T201928Z
UID:8699-1769935500-1769935500@fpcbentonville.org
SUMMARY:J St. Kids
DESCRIPTION:
URL:https://fpcbentonville.org/event/j-st-kids-22/
END:VEVENT
BEGIN:VEVENT
DTSTART;TZID=America/Chicago:20260129T093000
DTEND;TZID=America/Chicago:20260129T093000
DTSTAMP:20260425T063632
CREATED:20260105T194744Z
LAST-MODIFIED:20260105T194748Z
UID:8672-1769679000-1769679000@fpcbentonville.org
SUMMARY:W.O.W. (Women of the Word) Bible Study (Bird's Eye Room)
DESCRIPTION:
URL:https://fpcbentonville.org/event/w-o-w-women-of-the-word-bible-study-birds-eye-room-3/
END:VEVENT
BEGIN:VEVENT
DTSTART;TZID=America/Chicago:20260128T183000
DTEND;TZID=America/Chicago:20260128T183000
DTSTAMP:20260425T063632
CREATED:20260105T194414Z
LAST-MODIFIED:20260105T194418Z
UID:8666-1769625000-1769625000@fpcbentonville.org
SUMMARY:Choir Practice
DESCRIPTION:
URL:https://fpcbentonville.org/event/choir-practice-71/
END:VEVENT
BEGIN:VEVENT
DTSTART;TZID=America/Chicago:20260122T093000
DTEND;TZID=America/Chicago:20260122T093000
DTSTAMP:20260425T063632
CREATED:20260105T194629Z
LAST-MODIFIED:20260105T194632Z
UID:8670-1769074200-1769074200@fpcbentonville.org
SUMMARY:W.O.W. (Women of the Word) Bible Study (Bird's Eye Room)
DESCRIPTION:
URL:https://fpcbentonville.org/event/w-o-w-women-of-the-word-bible-study-birds-eye-room-2/
END:VEVENT
BEGIN:VEVENT
DTSTART;TZID=America/Chicago:20260121T183000
DTEND;TZID=America/Chicago:20260121T183000
DTSTAMP:20260425T063632
CREATED:20260105T194343Z
LAST-MODIFIED:20260105T194346Z
UID:8664-1769020200-1769020200@fpcbentonville.org
SUMMARY:Choir Practice
DESCRIPTION:
URL:https://fpcbentonville.org/event/choir-practice-70/
END:VEVENT
BEGIN:VEVENT
DTSTART;TZID=America/Chicago:20260117T090000
DTEND;TZID=America/Chicago:20260117T110000
DTSTAMP:20260425T063632
CREATED:20260105T194859Z
LAST-MODIFIED:20260105T194901Z
UID:8674-1768640400-1768647600@fpcbentonville.org
SUMMARY:FPC Food Pantry
DESCRIPTION:
URL:https://fpcbentonville.org/event/fpc-food-pantry-154/
END:VEVENT
BEGIN:VEVENT
DTSTART;TZID=America/Chicago:20260115T093000
DTEND;TZID=America/Chicago:20260115T093000
DTSTAMP:20260425T063632
CREATED:20260105T194557Z
LAST-MODIFIED:20260105T194559Z
UID:8668-1768469400-1768469400@fpcbentonville.org
SUMMARY:W.O.W. (Women of the Word) Bible Study (Bird's Eye Room)
DESCRIPTION:
URL:https://fpcbentonville.org/event/w-o-w-women-of-the-word-bible-study-birds-eye-room/
END:VEVENT
BEGIN:VEVENT
DTSTART;TZID=America/Chicago:20260114T183000
DTEND;TZID=America/Chicago:20260114T183000
DTSTAMP:20260425T063632
CREATED:20260105T194258Z
LAST-MODIFIED:20260105T194301Z
UID:8662-1768415400-1768415400@fpcbentonville.org
SUMMARY:Choir Practice
DESCRIPTION:
URL:https://fpcbentonville.org/event/choir-practice-69/
END:VEVENT
BEGIN:VEVENT
DTSTART;TZID=America/Chicago:20260111T160000
DTEND;TZID=America/Chicago:20260111T160000
DTSTAMP:20260425T063632
CREATED:20260105T194148Z
LAST-MODIFIED:20260105T194151Z
UID:8660-1768147200-1768147200@fpcbentonville.org
SUMMARY:Youth Group
DESCRIPTION:
URL:https://fpcbentonville.org/event/youth-group-53/
END:VEVENT
BEGIN:VEVENT
DTSTART;TZID=America/Chicago:20260111T101500
DTEND;TZID=America/Chicago:20260111T101500
DTSTAMP:20260425T063632
CREATED:20260105T193802Z
LAST-MODIFIED:20260105T193805Z
UID:8652-1768126500-1768126500@fpcbentonville.org
SUMMARY:Worship (in person and online via Facebook and YouTube)
DESCRIPTION:
URL:https://fpcbentonville.org/event/worship-in-person-and-online-via-facebook-and-youtube-19/
END:VEVENT
BEGIN:VEVENT
DTSTART;TZID=America/Chicago:20260111T091500
DTEND;TZID=America/Chicago:20260111T091500
DTSTAMP:20260425T063632
CREATED:20260105T194113Z
LAST-MODIFIED:20260105T194115Z
UID:8658-1768122900-1768122900@fpcbentonville.org
SUMMARY:Adult Faith Formation (Library)
DESCRIPTION:
URL:https://fpcbentonville.org/event/adult-faith-formation-library/
END:VEVENT
BEGIN:VEVENT
DTSTART;TZID=America/Chicago:20260111T090000
DTEND;TZID=America/Chicago:20260111T090000
DTSTAMP:20260425T063632
CREATED:20260105T194017Z
LAST-MODIFIED:20260105T194020Z
UID:8656-1768122000-1768122000@fpcbentonville.org
SUMMARY:Choir Practice
DESCRIPTION:
URL:https://fpcbentonville.org/event/choir-practice-68/
END:VEVENT
BEGIN:VEVENT
DTSTART;TZID=America/Chicago:20260111T084500
DTEND;TZID=America/Chicago:20260111T084500
DTSTAMP:20260425T063632
CREATED:20260105T193849Z
LAST-MODIFIED:20260105T193852Z
UID:8654-1768121100-1768121100@fpcbentonville.org
SUMMARY:J St. Kids
DESCRIPTION:
URL:https://fpcbentonville.org/event/j-st-kids-21/
END:VEVENT
BEGIN:VEVENT
DTSTART;TZID=America/Chicago:20260110T090000
DTEND;TZID=America/Chicago:20260110T110000
DTSTAMP:20260425T063632
CREATED:20260105T193639Z
LAST-MODIFIED:20260105T193643Z
UID:8650-1768035600-1768042800@fpcbentonville.org
SUMMARY:FPC Food Pantry
DESCRIPTION:
URL:https://fpcbentonville.org/event/fpc-food-pantry-153/
END:VEVENT
BEGIN:VEVENT
DTSTART;TZID=America/Chicago:20260108T093000
DTEND;TZID=America/Chicago:20260108T093000
DTSTAMP:20260425T063632
CREATED:20260105T193550Z
LAST-MODIFIED:20260105T193552Z
UID:8648-1767864600-1767864600@fpcbentonville.org
SUMMARY:Men's Fellowship (Library)
DESCRIPTION:
URL:https://fpcbentonville.org/event/mens-fellowship-library-12/
END:VEVENT
BEGIN:VEVENT
DTSTART;TZID=America/Chicago:20260108T093000
DTEND;TZID=America/Chicago:20260108T093000
DTSTAMP:20260425T063632
CREATED:20260105T193505Z
LAST-MODIFIED:20260105T193508Z
UID:8646-1767864600-1767864600@fpcbentonville.org
SUMMARY:Presbyterian Women Bible Study (Bird's Eye Room)
DESCRIPTION:
URL:https://fpcbentonville.org/event/presbyterian-women-bible-study-birds-eye-room-3/
END:VEVENT
BEGIN:VEVENT
DTSTART;TZID=America/Chicago:20260107T183000
DTEND;TZID=America/Chicago:20260107T183000
DTSTAMP:20260425T063632
CREATED:20260105T193356Z
LAST-MODIFIED:20260105T193358Z
UID:8644-1767810600-1767810600@fpcbentonville.org
SUMMARY:Choir Practice
DESCRIPTION:
URL:https://fpcbentonville.org/event/choir-practice-67/
END:VEVENT
BEGIN:VEVENT
DTSTART;TZID=America/Chicago:20251019T091500
DTEND;TZID=America/Chicago:20251019T091500
DTSTAMP:20260425T063632
CREATED:20251006T205309Z
LAST-MODIFIED:20251006T205313Z
UID:8600-1760865300-1760865300@fpcbentonville.org
SUMMARY:Adult Bible Study (Library)
DESCRIPTION:
URL:https://fpcbentonville.org/event/adult-bible-study-library-121/
END:VEVENT
BEGIN:VEVENT
DTSTART;TZID=America/Chicago:20251019T090000
DTEND;TZID=America/Chicago:20251019T090000
DTSTAMP:20260425T063632
CREATED:20251006T205218Z
LAST-MODIFIED:20251006T205222Z
UID:8598-1760864400-1760864400@fpcbentonville.org
SUMMARY:Choir Practice
DESCRIPTION:
URL:https://fpcbentonville.org/event/choir-practice-66/
END:VEVENT
BEGIN:VEVENT
DTSTART;TZID=America/Chicago:20251019T084500
DTEND;TZID=America/Chicago:20251019T084500
DTSTAMP:20260425T063632
CREATED:20251006T205129Z
LAST-MODIFIED:20251006T205132Z
UID:8596-1760863500-1760863500@fpcbentonville.org
SUMMARY:J St. Kids
DESCRIPTION:
URL:https://fpcbentonville.org/event/j-st-kids-20/
END:VEVENT
END:VCALENDAR