BEGIN:VCALENDAR
VERSION:2.0
PRODID:-//First Presbyterian Church, Bentonville - ECPv6.15.20//NONSGML v1.0//EN
CALSCALE:GREGORIAN
METHOD:PUBLISH
X-ORIGINAL-URL:https://fpcbentonville.org
X-WR-CALDESC:Events for First Presbyterian Church, Bentonville
REFRESH-INTERVAL;VALUE=DURATION:PT1H
X-Robots-Tag:noindex
X-PUBLISHED-TTL:PT1H
BEGIN:VTIMEZONE
TZID:America/Chicago
BEGIN:DAYLIGHT
TZOFFSETFROM:-0600
TZOFFSETTO:-0500
TZNAME:CDT
DTSTART:20250309T080000
END:DAYLIGHT
BEGIN:STANDARD
TZOFFSETFROM:-0500
TZOFFSETTO:-0600
TZNAME:CST
DTSTART:20251102T070000
END:STANDARD
BEGIN:DAYLIGHT
TZOFFSETFROM:-0600
TZOFFSETTO:-0500
TZNAME:CDT
DTSTART:20260308T080000
END:DAYLIGHT
BEGIN:STANDARD
TZOFFSETFROM:-0500
TZOFFSETTO:-0600
TZNAME:CST
DTSTART:20261101T070000
END:STANDARD
BEGIN:DAYLIGHT
TZOFFSETFROM:-0600
TZOFFSETTO:-0500
TZNAME:CDT
DTSTART:20270314T080000
END:DAYLIGHT
BEGIN:STANDARD
TZOFFSETFROM:-0500
TZOFFSETTO:-0600
TZNAME:CST
DTSTART:20271107T070000
END:STANDARD
END:VTIMEZONE
BEGIN:VEVENT
DTSTART;TZID=America/Chicago:20260419T160000
DTEND;TZID=America/Chicago:20260419T160000
DTSTAMP:20260421T164226
CREATED:20260304T182619Z
LAST-MODIFIED:20260304T182621Z
UID:9048-1776614400-1776614400@fpcbentonville.org
SUMMARY:Youth Group
DESCRIPTION:Faith Formation for 7-12th Graders
URL:https://fpcbentonville.org/event/youth-group-61/
END:VEVENT
BEGIN:VEVENT
DTSTART;TZID=America/Chicago:20260422T183000
DTEND;TZID=America/Chicago:20260422T183000
DTSTAMP:20260421T164226
CREATED:20260304T172138Z
LAST-MODIFIED:20260304T172140Z
UID:9020-1776882600-1776882600@fpcbentonville.org
SUMMARY:Choir Practice
DESCRIPTION:
URL:https://fpcbentonville.org/event/choir-practice-82/
END:VEVENT
BEGIN:VEVENT
DTSTART;TZID=America/Chicago:20260423T093000
DTEND;TZID=America/Chicago:20260423T093000
DTSTAMP:20260421T164226
CREATED:20260304T175241Z
LAST-MODIFIED:20260304T175244Z
UID:9032-1776936600-1776936600@fpcbentonville.org
SUMMARY:W.O.W. (Women of the Word) Bible Study (Bird’s Eye Room)
DESCRIPTION:
URL:https://fpcbentonville.org/event/w-o-w-women-of-the-word-bible-study-birds-eye-room-12/
END:VEVENT
BEGIN:VEVENT
DTSTART;TZID=America/Chicago:20260425T090000
DTEND;TZID=America/Chicago:20260425T110000
DTSTAMP:20260421T164226
CREATED:20260206T174100Z
LAST-MODIFIED:20260206T174102Z
UID:8889-1777107600-1777114800@fpcbentonville.org
SUMMARY:FPC Food Pantry
DESCRIPTION:The FPC Food Pantry is available to Benton County Residents. Volunteers welcome!
URL:https://fpcbentonville.org/event/fpc-food-pantry-167/
END:VEVENT
BEGIN:VEVENT
DTSTART;TZID=America/Chicago:20260426T000000
DTEND;TZID=America/Chicago:20260426T235959
DTSTAMP:20260421T164226
CREATED:20260313T190018Z
LAST-MODIFIED:20260313T190021Z
UID:9111-1777161600-1777247999@fpcbentonville.org
SUMMARY:Graduating Senior Recognition Sunday
DESCRIPTION:
URL:https://fpcbentonville.org/event/graduating-senior-recognition-sunday/
END:VEVENT
BEGIN:VEVENT
DTSTART;TZID=America/Chicago:20260426T084500
DTEND;TZID=America/Chicago:20260426T084500
DTSTAMP:20260421T164226
CREATED:20260304T181730Z
LAST-MODIFIED:20260304T181732Z
UID:9044-1777193100-1777193100@fpcbentonville.org
SUMMARY:J St. Kids
DESCRIPTION:
URL:https://fpcbentonville.org/event/j-st-kids-32/
END:VEVENT
BEGIN:VEVENT
DTSTART;TZID=America/Chicago:20260426T090000
DTEND;TZID=America/Chicago:20260426T090000
DTSTAMP:20260421T164226
CREATED:20260304T183452Z
LAST-MODIFIED:20260304T183455Z
UID:9056-1777194000-1777194000@fpcbentonville.org
SUMMARY:Adult Faith Formation
DESCRIPTION:
URL:https://fpcbentonville.org/event/adult-faith-formation-6/
END:VEVENT
BEGIN:VEVENT
DTSTART;TZID=America/Chicago:20260426T101500
DTEND;TZID=America/Chicago:20260426T101500
DTSTAMP:20260421T164226
CREATED:20260304T183721Z
LAST-MODIFIED:20260304T183723Z
UID:9063-1777198500-1777198500@fpcbentonville.org
SUMMARY:Worship (in person and online via Facebook and YouTube)
DESCRIPTION:
URL:https://fpcbentonville.org/event/worship-in-person-and-online-via-facebook-and-youtube-24/
END:VEVENT
BEGIN:VEVENT
DTSTART;TZID=America/Chicago:20260426T103000
DTEND;TZID=America/Chicago:20260426T103000
DTSTAMP:20260421T164226
CREATED:20260304T184510Z
LAST-MODIFIED:20260304T184513Z
UID:9071-1777199400-1777199400@fpcbentonville.org
SUMMARY:Faith Formation for Children age 3-2nd Grade
DESCRIPTION:Faith Formation for Children age 3-2nd Grade
URL:https://fpcbentonville.org/event/faith-formation-for-children-age-3-2nd-grade/
END:VEVENT
BEGIN:VEVENT
DTSTART;TZID=America/Chicago:20260426T103000
DTEND;TZID=America/Chicago:20260426T103000
DTSTAMP:20260421T164226
CREATED:20260305T160043Z
LAST-MODIFIED:20260305T160045Z
UID:9076-1777199400-1777199400@fpcbentonville.org
SUMMARY:Children's Church
DESCRIPTION:Faith Formation for Children age 3-2nd Grade
URL:https://fpcbentonville.org/event/childrens-church-10/
END:VEVENT
BEGIN:VEVENT
DTSTART;TZID=America/Chicago:20260427T180000
DTEND;TZID=America/Chicago:20260427T180000
DTSTAMP:20260421T164226
CREATED:20260305T160135Z
LAST-MODIFIED:20260305T160137Z
UID:9078-1777312800-1777312800@fpcbentonville.org
SUMMARY:Stated Session Meeting (Library)
DESCRIPTION:
URL:https://fpcbentonville.org/event/stated-session-meeting-library-17/
END:VEVENT
BEGIN:VEVENT
DTSTART;TZID=America/Chicago:20260429T183000
DTEND;TZID=America/Chicago:20260429T183000
DTSTAMP:20260421T164226
CREATED:20260304T172244Z
LAST-MODIFIED:20260304T172247Z
UID:9022-1777487400-1777487400@fpcbentonville.org
SUMMARY:Choir Practice
DESCRIPTION:
URL:https://fpcbentonville.org/event/choir-practice-83/
END:VEVENT
BEGIN:VEVENT
DTSTART;TZID=America/Chicago:20260430T093000
DTEND;TZID=America/Chicago:20260430T093000
DTSTAMP:20260421T164226
CREATED:20260304T180039Z
LAST-MODIFIED:20260304T180042Z
UID:9034-1777541400-1777541400@fpcbentonville.org
SUMMARY:W.O.W. (Women of the Word) Bible Study (Bird’s Eye Room)
DESCRIPTION:
URL:https://fpcbentonville.org/event/w-o-w-women-of-the-word-bible-study-birds-eye-room-13/
END:VEVENT
BEGIN:VEVENT
DTSTART;TZID=America/Chicago:20260502T090000
DTEND;TZID=America/Chicago:20260502T110000
DTSTAMP:20260421T164226
CREATED:20260206T174718Z
LAST-MODIFIED:20260206T174721Z
UID:8891-1777712400-1777719600@fpcbentonville.org
SUMMARY:FPC Food Pantry
DESCRIPTION:The FPC Food Pantry is available to Benton County Residents. Volunteers welcome!
URL:https://fpcbentonville.org/event/fpc-food-pantry-168/
END:VEVENT
BEGIN:VEVENT
DTSTART;TZID=America/Chicago:20260503T084500
DTEND;TZID=America/Chicago:20260503T084500
DTSTAMP:20260421T164226
CREATED:20260409T182713Z
LAST-MODIFIED:20260409T182715Z
UID:9172-1777797900-1777797900@fpcbentonville.org
SUMMARY:J St. Kids
DESCRIPTION:
URL:https://fpcbentonville.org/event/j-st-kids-33/
END:VEVENT
BEGIN:VEVENT
DTSTART;TZID=America/Chicago:20260503T090000
DTEND;TZID=America/Chicago:20260503T090000
DTSTAMP:20260421T164226
CREATED:20260409T183434Z
LAST-MODIFIED:20260409T183436Z
UID:9182-1777798800-1777798800@fpcbentonville.org
SUMMARY:Adult Faith Formation (Library)
DESCRIPTION:
URL:https://fpcbentonville.org/event/adult-faith-formation-library-10/
END:VEVENT
BEGIN:VEVENT
DTSTART;TZID=America/Chicago:20260503T101500
DTEND;TZID=America/Chicago:20260503T101500
DTSTAMP:20260421T164226
CREATED:20260409T184400Z
LAST-MODIFIED:20260409T184403Z
UID:9192-1777803300-1777803300@fpcbentonville.org
SUMMARY:Worship with the Sacrament of the Lord's Supper(in person and online via Facebook and YouTube)
DESCRIPTION:
URL:https://fpcbentonville.org/event/worship-with-the-sacrament-of-the-lords-supperin-person-and-online-via-facebook-and-youtube/
END:VEVENT
BEGIN:VEVENT
DTSTART;TZID=America/Chicago:20260509T090000
DTEND;TZID=America/Chicago:20260509T110000
DTSTAMP:20260421T164226
CREATED:20260206T174807Z
LAST-MODIFIED:20260206T174809Z
UID:8893-1778317200-1778324400@fpcbentonville.org
SUMMARY:FPC Food Pantry
DESCRIPTION:The FPC Food Pantry is available to Benton County Residents. Volunteers welcome!
URL:https://fpcbentonville.org/event/fpc-food-pantry-169/
END:VEVENT
BEGIN:VEVENT
DTSTART;TZID=America/Chicago:20260510T084500
DTEND;TZID=America/Chicago:20260510T084500
DTSTAMP:20260421T164226
CREATED:20260409T182833Z
LAST-MODIFIED:20260409T182835Z
UID:9174-1778402700-1778402700@fpcbentonville.org
SUMMARY:J St. Kids
DESCRIPTION:
URL:https://fpcbentonville.org/event/j-st-kids-34/
END:VEVENT
BEGIN:VEVENT
DTSTART;TZID=America/Chicago:20260510T090000
DTEND;TZID=America/Chicago:20260510T090000
DTSTAMP:20260421T164226
CREATED:20260409T183550Z
LAST-MODIFIED:20260409T183552Z
UID:9184-1778403600-1778403600@fpcbentonville.org
SUMMARY:Adult Faith Formation (Library)
DESCRIPTION:
URL:https://fpcbentonville.org/event/adult-faith-formation-library-11/
END:VEVENT
BEGIN:VEVENT
DTSTART;TZID=America/Chicago:20260510T101500
DTEND;TZID=America/Chicago:20260510T101500
DTSTAMP:20260421T164226
CREATED:20260409T184535Z
LAST-MODIFIED:20260409T184537Z
UID:9194-1778408100-1778408100@fpcbentonville.org
SUMMARY:Worship (in person and online via Facebook and YouTube)
DESCRIPTION:
URL:https://fpcbentonville.org/event/worship-in-person-and-online-via-facebook-and-youtube-26/
END:VEVENT
BEGIN:VEVENT
DTSTART;TZID=America/Chicago:20260516T090000
DTEND;TZID=America/Chicago:20260516T110000
DTSTAMP:20260421T164226
CREATED:20260206T175450Z
LAST-MODIFIED:20260206T175452Z
UID:8895-1778922000-1778929200@fpcbentonville.org
SUMMARY:FPC Food Pantry
DESCRIPTION:The FPC Food Pantry is available to Benton County Residents. Volunteers welcome!
URL:https://fpcbentonville.org/event/fpc-food-pantry-170/
END:VEVENT
BEGIN:VEVENT
DTSTART;TZID=America/Chicago:20260517T084500
DTEND;TZID=America/Chicago:20260517T084500
DTSTAMP:20260421T164226
CREATED:20260409T182903Z
LAST-MODIFIED:20260409T182905Z
UID:9176-1779007500-1779007500@fpcbentonville.org
SUMMARY:J St. Kids
DESCRIPTION:
URL:https://fpcbentonville.org/event/j-st-kids-35/
END:VEVENT
BEGIN:VEVENT
DTSTART;TZID=America/Chicago:20260517T090000
DTEND;TZID=America/Chicago:20260517T090000
DTSTAMP:20260421T164226
CREATED:20260409T183722Z
LAST-MODIFIED:20260409T183725Z
UID:9186-1779008400-1779008400@fpcbentonville.org
SUMMARY:Adult Faith Formation (Library)
DESCRIPTION:
URL:https://fpcbentonville.org/event/adult-faith-formation-library-12/
END:VEVENT
BEGIN:VEVENT
DTSTART;TZID=America/Chicago:20260517T101500
DTEND;TZID=America/Chicago:20260517T101500
DTSTAMP:20260421T164226
CREATED:20260409T184610Z
LAST-MODIFIED:20260409T184612Z
UID:9196-1779012900-1779012900@fpcbentonville.org
SUMMARY:Worship (in person and online via Facebook and YouTube)
DESCRIPTION:
URL:https://fpcbentonville.org/event/worship-in-person-and-online-via-facebook-and-youtube-27/
END:VEVENT
BEGIN:VEVENT
DTSTART;TZID=America/Chicago:20260523T090000
DTEND;TZID=America/Chicago:20260523T110000
DTSTAMP:20260421T164226
CREATED:20260206T175537Z
LAST-MODIFIED:20260206T175539Z
UID:8897-1779526800-1779534000@fpcbentonville.org
SUMMARY:FPC Food Pantry
DESCRIPTION:The FPC Food Pantry is available to Benton County Residents. Volunteers welcome!
URL:https://fpcbentonville.org/event/fpc-food-pantry-171/
END:VEVENT
BEGIN:VEVENT
DTSTART;TZID=America/Chicago:20260524T000000
DTEND;TZID=America/Chicago:20260524T235959
DTSTAMP:20260421T164226
CREATED:20260313T190223Z
LAST-MODIFIED:20260313T190225Z
UID:9113-1779580800-1779667199@fpcbentonville.org
SUMMARY:Pentecost Sunday
DESCRIPTION:
URL:https://fpcbentonville.org/event/pentecost-sunday-2/
END:VEVENT
BEGIN:VEVENT
DTSTART;TZID=America/Chicago:20260524T084500
DTEND;TZID=America/Chicago:20260524T084500
DTSTAMP:20260421T164226
CREATED:20260409T183052Z
LAST-MODIFIED:20260409T183055Z
UID:9178-1779612300-1779612300@fpcbentonville.org
SUMMARY:J St. Kids
DESCRIPTION:
URL:https://fpcbentonville.org/event/j-st-kids-36/
END:VEVENT
BEGIN:VEVENT
DTSTART;TZID=America/Chicago:20260524T090000
DTEND;TZID=America/Chicago:20260524T090000
DTSTAMP:20260421T164226
CREATED:20260409T183842Z
LAST-MODIFIED:20260409T183845Z
UID:9188-1779613200-1779613200@fpcbentonville.org
SUMMARY:Adult Faith Formation (Library)
DESCRIPTION:
URL:https://fpcbentonville.org/event/adult-faith-formation-library-13/
END:VEVENT
BEGIN:VEVENT
DTSTART;TZID=America/Chicago:20260524T101500
DTEND;TZID=America/Chicago:20260524T101500
DTSTAMP:20260421T164226
CREATED:20260409T184659Z
LAST-MODIFIED:20260409T184701Z
UID:9198-1779617700-1779617700@fpcbentonville.org
SUMMARY:Worship (in person and online via Facebook and YouTube)
DESCRIPTION:
URL:https://fpcbentonville.org/event/worship-in-person-and-online-via-facebook-and-youtube-28/
END:VEVENT
END:VCALENDAR