BEGIN:VCALENDAR
VERSION:2.0
PRODID:-//First Presbyterian Church, Bentonville - ECPv6.15.20//NONSGML v1.0//EN
CALSCALE:GREGORIAN
METHOD:PUBLISH
X-WR-CALNAME:First Presbyterian Church, Bentonville
X-ORIGINAL-URL:https://fpcbentonville.org
X-WR-CALDESC:Events for First Presbyterian Church, Bentonville
REFRESH-INTERVAL;VALUE=DURATION:PT1H
X-Robots-Tag:noindex
X-PUBLISHED-TTL:PT1H
BEGIN:VTIMEZONE
TZID:America/Chicago
BEGIN:DAYLIGHT
TZOFFSETFROM:-0600
TZOFFSETTO:-0500
TZNAME:CDT
DTSTART:20240310T080000
END:DAYLIGHT
BEGIN:STANDARD
TZOFFSETFROM:-0500
TZOFFSETTO:-0600
TZNAME:CST
DTSTART:20241103T070000
END:STANDARD
BEGIN:DAYLIGHT
TZOFFSETFROM:-0600
TZOFFSETTO:-0500
TZNAME:CDT
DTSTART:20250309T080000
END:DAYLIGHT
BEGIN:STANDARD
TZOFFSETFROM:-0500
TZOFFSETTO:-0600
TZNAME:CST
DTSTART:20251102T070000
END:STANDARD
BEGIN:DAYLIGHT
TZOFFSETFROM:-0600
TZOFFSETTO:-0500
TZNAME:CDT
DTSTART:20260308T080000
END:DAYLIGHT
BEGIN:STANDARD
TZOFFSETFROM:-0500
TZOFFSETTO:-0600
TZNAME:CST
DTSTART:20261101T070000
END:STANDARD
END:VTIMEZONE
BEGIN:VEVENT
DTSTART;TZID=America/Chicago:20251012T084500
DTEND;TZID=America/Chicago:20251012T084500
DTSTAMP:20260423T092614
CREATED:20251006T204109Z
LAST-MODIFIED:20251006T204113Z
UID:8582-1760258700-1760258700@fpcbentonville.org
SUMMARY:J St. Kids
DESCRIPTION:
URL:https://fpcbentonville.org/event/j-st-kids-19/
END:VEVENT
BEGIN:VEVENT
DTSTART;TZID=America/Chicago:20251008T183000
DTEND;TZID=America/Chicago:20251008T183000
DTSTAMP:20260423T092614
CREATED:20251006T203936Z
LAST-MODIFIED:20251006T203938Z
UID:8580-1759948200-1759948200@fpcbentonville.org
SUMMARY:Choir Practice
DESCRIPTION:
URL:https://fpcbentonville.org/event/choir-practice-59/
END:VEVENT
BEGIN:VEVENT
DTSTART;TZID=America/Chicago:20250928T101500
DTEND;TZID=America/Chicago:20250928T101500
DTSTAMP:20260423T092614
CREATED:20250815T174301Z
LAST-MODIFIED:20250815T174304Z
UID:8378-1759054500-1759054500@fpcbentonville.org
SUMMARY:Worship in the Park (Orchard's Park)
DESCRIPTION:
URL:https://fpcbentonville.org/event/worship-in-the-park-orchards-park/
END:VEVENT
BEGIN:VEVENT
DTSTART;TZID=America/Chicago:20250927T090000
DTEND;TZID=America/Chicago:20250927T110000
DTSTAMP:20260423T092614
CREATED:20250815T172307Z
LAST-MODIFIED:20250815T172310Z
UID:8370-1758963600-1758970800@fpcbentonville.org
SUMMARY:FPC Food Pantry
DESCRIPTION:
URL:https://fpcbentonville.org/event/fpc-food-pantry-152/
END:VEVENT
BEGIN:VEVENT
DTSTART;TZID=America/Chicago:20250924T183000
DTEND;TZID=America/Chicago:20250924T183000
DTSTAMP:20260423T092614
CREATED:20250814T204856Z
LAST-MODIFIED:20250814T204859Z
UID:8358-1758738600-1758738600@fpcbentonville.org
SUMMARY:Choir Practice
DESCRIPTION:
URL:https://fpcbentonville.org/event/choir-practice-63/
END:VEVENT
BEGIN:VEVENT
DTSTART;TZID=America/Chicago:20250921T101500
DTEND;TZID=America/Chicago:20250921T101500
DTSTAMP:20260423T092614
CREATED:20250815T174200Z
LAST-MODIFIED:20250815T174202Z
UID:8376-1758449700-1758449700@fpcbentonville.org
SUMMARY:Worship (in person and online via Facebook and YouTube)
DESCRIPTION:
URL:https://fpcbentonville.org/event/worship-in-person-and-online-via-facebook-and-youtube-17/
END:VEVENT
BEGIN:VEVENT
DTSTART;TZID=America/Chicago:20250921T091500
DTEND;TZID=America/Chicago:20250921T091500
DTSTAMP:20260423T092614
CREATED:20250814T203837Z
LAST-MODIFIED:20250814T203840Z
UID:8347-1758446100-1758446100@fpcbentonville.org
SUMMARY:Choir Practice
DESCRIPTION:
URL:https://fpcbentonville.org/event/choir-practice-58/
END:VEVENT
BEGIN:VEVENT
DTSTART;TZID=America/Chicago:20250921T090000
DTEND;TZID=America/Chicago:20250921T090000
DTSTAMP:20260423T092614
CREATED:20250814T203435Z
LAST-MODIFIED:20250814T203438Z
UID:8339-1758445200-1758445200@fpcbentonville.org
SUMMARY:Adult Bible Study (Library)
DESCRIPTION:
URL:https://fpcbentonville.org/event/adult-bible-study-library-120/
END:VEVENT
BEGIN:VEVENT
DTSTART;TZID=America/Chicago:20250920T090000
DTEND;TZID=America/Chicago:20250920T110000
DTSTAMP:20260423T092614
CREATED:20250815T172043Z
LAST-MODIFIED:20250815T172046Z
UID:8368-1758358800-1758366000@fpcbentonville.org
SUMMARY:FPC Food Pantry
DESCRIPTION:
URL:https://fpcbentonville.org/event/fpc-food-pantry-151/
END:VEVENT
BEGIN:VEVENT
DTSTART;TZID=America/Chicago:20250917T183000
DTEND;TZID=America/Chicago:20250917T183000
DTSTAMP:20260423T092614
CREATED:20250814T204324Z
LAST-MODIFIED:20250814T204327Z
UID:8356-1758133800-1758133800@fpcbentonville.org
SUMMARY:Choir Practice
DESCRIPTION:
URL:https://fpcbentonville.org/event/choir-practice-62/
END:VEVENT
BEGIN:VEVENT
DTSTART;TZID=America/Chicago:20250914T113000
DTEND;TZID=America/Chicago:20250914T113000
DTSTAMP:20260423T092614
CREATED:20250814T205928Z
LAST-MODIFIED:20250814T205938Z
UID:8362-1757849400-1757849400@fpcbentonville.org
SUMMARY:J St. Kids
DESCRIPTION:
URL:https://fpcbentonville.org/event/j-st-kids-18/
END:VEVENT
BEGIN:VEVENT
DTSTART;TZID=America/Chicago:20250914T101500
DTEND;TZID=America/Chicago:20250914T101500
DTSTAMP:20260423T092614
CREATED:20250815T173643Z
LAST-MODIFIED:20250815T173645Z
UID:8374-1757844900-1757844900@fpcbentonville.org
SUMMARY:Worship (in person and online via Facebook and YouTube)
DESCRIPTION:
URL:https://fpcbentonville.org/event/worship-in-person-and-online-via-facebook-and-youtube-16/
END:VEVENT
BEGIN:VEVENT
DTSTART;TZID=America/Chicago:20250914T091500
DTEND;TZID=America/Chicago:20250914T091500
DTSTAMP:20260423T092614
CREATED:20250814T203800Z
LAST-MODIFIED:20250814T203803Z
UID:8345-1757841300-1757841300@fpcbentonville.org
SUMMARY:Choir Practice
DESCRIPTION:
URL:https://fpcbentonville.org/event/choir-practice-57/
END:VEVENT
BEGIN:VEVENT
DTSTART;TZID=America/Chicago:20250914T090000
DTEND;TZID=America/Chicago:20250914T090000
DTSTAMP:20260423T092614
CREATED:20250814T203325Z
LAST-MODIFIED:20250814T203328Z
UID:8337-1757840400-1757840400@fpcbentonville.org
SUMMARY:Adult Bible Study (Library)
DESCRIPTION:
URL:https://fpcbentonville.org/event/adult-bible-study-library-119/
END:VEVENT
BEGIN:VEVENT
DTSTART;TZID=America/Chicago:20250913T090000
DTEND;TZID=America/Chicago:20250913T110000
DTSTAMP:20260423T092614
CREATED:20250815T170644Z
LAST-MODIFIED:20250815T170647Z
UID:8366-1757754000-1757761200@fpcbentonville.org
SUMMARY:FPC Food Pantry
DESCRIPTION:
URL:https://fpcbentonville.org/event/fpc-food-pantry-150/
END:VEVENT
BEGIN:VEVENT
DTSTART;TZID=America/Chicago:20250910T183000
DTEND;TZID=America/Chicago:20250910T183000
DTSTAMP:20260423T092614
CREATED:20250814T204224Z
LAST-MODIFIED:20250814T204226Z
UID:8354-1757529000-1757529000@fpcbentonville.org
SUMMARY:Choir Practice
DESCRIPTION:
URL:https://fpcbentonville.org/event/choir-practice-61/
END:VEVENT
BEGIN:VEVENT
DTSTART;TZID=America/Chicago:20250907T113000
DTEND;TZID=America/Chicago:20250907T113000
DTSTAMP:20260423T092614
CREATED:20250814T205824Z
LAST-MODIFIED:20250814T205826Z
UID:8360-1757244600-1757244600@fpcbentonville.org
SUMMARY:J St. Kids
DESCRIPTION:
URL:https://fpcbentonville.org/event/j-st-kids-17/
END:VEVENT
BEGIN:VEVENT
DTSTART;TZID=America/Chicago:20250907T101500
DTEND;TZID=America/Chicago:20250907T101500
DTSTAMP:20260423T092614
CREATED:20250815T173120Z
LAST-MODIFIED:20250815T173122Z
UID:8372-1757240100-1757240100@fpcbentonville.org
SUMMARY:Worship with the Sacrament of the Lord's Supper (in person and online via Facebook and YouTube)
DESCRIPTION:
URL:https://fpcbentonville.org/event/worship-with-the-sacrament-of-the-lords-supper-in-person-and-online-via-facebook-and-youtube-4/
END:VEVENT
BEGIN:VEVENT
DTSTART;TZID=America/Chicago:20250907T091500
DTEND;TZID=America/Chicago:20250907T091500
DTSTAMP:20260423T092614
CREATED:20250814T203614Z
LAST-MODIFIED:20250814T203617Z
UID:8343-1757236500-1757236500@fpcbentonville.org
SUMMARY:Choir Practice
DESCRIPTION:
URL:https://fpcbentonville.org/event/choir-practice-56/
END:VEVENT
BEGIN:VEVENT
DTSTART;TZID=America/Chicago:20250907T090000
DTEND;TZID=America/Chicago:20250907T090000
DTSTAMP:20260423T092614
CREATED:20250814T203252Z
LAST-MODIFIED:20250814T203254Z
UID:8335-1757235600-1757235600@fpcbentonville.org
SUMMARY:Adult Bible Study (Library)
DESCRIPTION:
URL:https://fpcbentonville.org/event/adult-bible-study-library-112/
END:VEVENT
BEGIN:VEVENT
DTSTART;TZID=America/Chicago:20250906T090000
DTEND;TZID=America/Chicago:20250906T110000
DTSTAMP:20260423T092614
CREATED:20250815T170102Z
LAST-MODIFIED:20250815T170104Z
UID:8364-1757149200-1757156400@fpcbentonville.org
SUMMARY:FPC Food Pantry
DESCRIPTION:
URL:https://fpcbentonville.org/event/fpc-food-pantry-149/
END:VEVENT
BEGIN:VEVENT
DTSTART;TZID=America/Chicago:20250903T183000
DTEND;TZID=America/Chicago:20250903T183000
DTSTAMP:20260423T092614
CREATED:20250814T204145Z
LAST-MODIFIED:20250814T204148Z
UID:8352-1756924200-1756924200@fpcbentonville.org
SUMMARY:Choir Practice
DESCRIPTION:
URL:https://fpcbentonville.org/event/choir-practice-60/
END:VEVENT
BEGIN:VEVENT
DTSTART;TZID=America/Chicago:20250831T160000
DTEND;TZID=America/Chicago:20250831T160000
DTSTAMP:20260423T092614
CREATED:20250801T184225Z
LAST-MODIFIED:20250801T184228Z
UID:8319-1756656000-1756656000@fpcbentonville.org
SUMMARY:Youth Group
DESCRIPTION:
URL:https://fpcbentonville.org/event/youth-group-51/
END:VEVENT
BEGIN:VEVENT
DTSTART;TZID=America/Chicago:20250831T113000
DTEND;TZID=America/Chicago:20250831T113000
DTSTAMP:20260423T092614
CREATED:20250801T184150Z
LAST-MODIFIED:20250801T184153Z
UID:8317-1756639800-1756639800@fpcbentonville.org
SUMMARY:J St. Kids
DESCRIPTION:
URL:https://fpcbentonville.org/event/j-st-kids-16/
END:VEVENT
BEGIN:VEVENT
DTSTART;TZID=America/Chicago:20250831T101500
DTEND;TZID=America/Chicago:20250831T101500
DTSTAMP:20260423T092614
CREATED:20250502T201428Z
LAST-MODIFIED:20250502T201430Z
UID:7942-1756635300-1756635300@fpcbentonville.org
SUMMARY:Worship (in person and online via Facebook and YouTube)
DESCRIPTION:
URL:https://fpcbentonville.org/event/worship-in-person-and-online-via-facebook-and-youtube-15/
END:VEVENT
BEGIN:VEVENT
DTSTART;TZID=America/Chicago:20250830T090000
DTEND;TZID=America/Chicago:20250830T110000
DTSTAMP:20260423T092614
CREATED:20250801T185011Z
LAST-MODIFIED:20250801T185014Z
UID:8331-1756544400-1756551600@fpcbentonville.org
SUMMARY:FPC Food Pantry
DESCRIPTION:
URL:https://fpcbentonville.org/event/fpc-food-pantry-148/
END:VEVENT
BEGIN:VEVENT
DTSTART;TZID=America/Chicago:20250828T110000
DTEND;TZID=America/Chicago:20250828T110000
DTSTAMP:20260423T092614
CREATED:20250801T184113Z
LAST-MODIFIED:20250801T184116Z
UID:8315-1756378800-1756378800@fpcbentonville.org
SUMMARY:J.O.Y. Life Group (Library)
DESCRIPTION:
URL:https://fpcbentonville.org/event/j-o-y-life-group-library-2/
END:VEVENT
BEGIN:VEVENT
DTSTART;TZID=America/Chicago:20250825T180000
DTEND;TZID=America/Chicago:20250825T180000
DTSTAMP:20260423T092614
CREATED:20250801T184016Z
LAST-MODIFIED:20250801T184018Z
UID:8313-1756144800-1756144800@fpcbentonville.org
SUMMARY:Stated Session Meeting (Library)
DESCRIPTION:
URL:https://fpcbentonville.org/event/stated-session-meeting-library-13/
END:VEVENT
BEGIN:VEVENT
DTSTART;TZID=America/Chicago:20250824T160000
DTEND;TZID=America/Chicago:20250824T160000
DTSTAMP:20260423T092614
CREATED:20250801T183929Z
LAST-MODIFIED:20250801T183932Z
UID:8311-1756051200-1756051200@fpcbentonville.org
SUMMARY:Youth Group
DESCRIPTION:
URL:https://fpcbentonville.org/event/youth-group-50/
END:VEVENT
BEGIN:VEVENT
DTSTART;TZID=America/Chicago:20250824T113000
DTEND;TZID=America/Chicago:20250824T113000
DTSTAMP:20260423T092614
CREATED:20250801T183842Z
LAST-MODIFIED:20250801T183844Z
UID:8309-1756035000-1756035000@fpcbentonville.org
SUMMARY:J St. Kids
DESCRIPTION:
URL:https://fpcbentonville.org/event/j-st-kids-15/
END:VEVENT
END:VCALENDAR