BEGIN:VCALENDAR
VERSION:2.0
PRODID:-//First Presbyterian Church, Bentonville - ECPv6.15.20//NONSGML v1.0//EN
CALSCALE:GREGORIAN
METHOD:PUBLISH
X-WR-CALNAME:First Presbyterian Church, Bentonville
X-ORIGINAL-URL:https://fpcbentonville.org
X-WR-CALDESC:Events for First Presbyterian Church, Bentonville
REFRESH-INTERVAL;VALUE=DURATION:PT1H
X-Robots-Tag:noindex
X-PUBLISHED-TTL:PT1H
BEGIN:VTIMEZONE
TZID:America/Chicago
BEGIN:DAYLIGHT
TZOFFSETFROM:-0600
TZOFFSETTO:-0500
TZNAME:CDT
DTSTART:20230312T080000
END:DAYLIGHT
BEGIN:STANDARD
TZOFFSETFROM:-0500
TZOFFSETTO:-0600
TZNAME:CST
DTSTART:20231105T070000
END:STANDARD
BEGIN:DAYLIGHT
TZOFFSETFROM:-0600
TZOFFSETTO:-0500
TZNAME:CDT
DTSTART:20240310T080000
END:DAYLIGHT
BEGIN:STANDARD
TZOFFSETFROM:-0500
TZOFFSETTO:-0600
TZNAME:CST
DTSTART:20241103T070000
END:STANDARD
BEGIN:DAYLIGHT
TZOFFSETFROM:-0600
TZOFFSETTO:-0500
TZNAME:CDT
DTSTART:20250309T080000
END:DAYLIGHT
BEGIN:STANDARD
TZOFFSETFROM:-0500
TZOFFSETTO:-0600
TZNAME:CST
DTSTART:20251102T070000
END:STANDARD
END:VTIMEZONE
BEGIN:VEVENT
DTSTART;TZID=America/Chicago:20241106T183000
DTEND;TZID=America/Chicago:20241106T183000
DTSTAMP:20260424T005049
CREATED:20241101T161615Z
LAST-MODIFIED:20241101T161617Z
UID:7555-1730917800-1730917800@fpcbentonville.org
SUMMARY:Choir Practice
DESCRIPTION:
URL:https://fpcbentonville.org/event/choir-practice-48/
END:VEVENT
BEGIN:VEVENT
DTSTART;TZID=America/Chicago:20241104T180000
DTEND;TZID=America/Chicago:20241104T183000
DTSTAMP:20260424T005049
CREATED:20241101T161049Z
LAST-MODIFIED:20241101T161051Z
UID:7551-1730743200-1730745000@fpcbentonville.org
SUMMARY:Prayer Vigil (Chapel)
DESCRIPTION:
URL:https://fpcbentonville.org/event/prayer-vigil-chapel/
END:VEVENT
BEGIN:VEVENT
DTSTART;TZID=America/Chicago:20241103T160000
DTEND;TZID=America/Chicago:20241103T160000
DTSTAMP:20260424T005049
CREATED:20241101T155015Z
LAST-MODIFIED:20241101T155017Z
UID:7515-1730649600-1730649600@fpcbentonville.org
SUMMARY:Youth Group
DESCRIPTION:
URL:https://fpcbentonville.org/event/youth-group-46/
END:VEVENT
BEGIN:VEVENT
DTSTART;TZID=America/Chicago:20241103T113000
DTEND;TZID=America/Chicago:20241103T113000
DTSTAMP:20260424T005049
CREATED:20241101T154932Z
LAST-MODIFIED:20241101T154934Z
UID:7513-1730633400-1730633400@fpcbentonville.org
SUMMARY:J St. Kids
DESCRIPTION:
URL:https://fpcbentonville.org/event/j-st-kids-12/
END:VEVENT
BEGIN:VEVENT
DTSTART;TZID=America/Chicago:20241103T113000
DTEND;TZID=America/Chicago:20241103T113000
DTSTAMP:20260424T005049
CREATED:20241101T154831Z
LAST-MODIFIED:20241101T154832Z
UID:7511-1730633400-1730633400@fpcbentonville.org
SUMMARY:Handbell practice
DESCRIPTION:
URL:https://fpcbentonville.org/event/handbell-practice-5/
END:VEVENT
BEGIN:VEVENT
DTSTART;TZID=America/Chicago:20241103T101500
DTEND;TZID=America/Chicago:20241103T101500
DTSTAMP:20260424T005049
CREATED:20240514T205422Z
LAST-MODIFIED:20240514T205425Z
UID:6989-1730628900-1730628900@fpcbentonville.org
SUMMARY:Worship with the Lord's Supper (Sanctuary and online via Facebook and YouTube)
DESCRIPTION:
URL:https://fpcbentonville.org/event/worship-with-the-lords-supper-sanctuary-and-online-via-facebook-and-youtube-29/
END:VEVENT
BEGIN:VEVENT
DTSTART;TZID=America/Chicago:20241103T091500
DTEND;TZID=America/Chicago:20241103T091500
DTSTAMP:20260424T005049
CREATED:20241101T154649Z
LAST-MODIFIED:20241101T154651Z
UID:7509-1730625300-1730625300@fpcbentonville.org
SUMMARY:Choir Practice
DESCRIPTION:
URL:https://fpcbentonville.org/event/choir-practice-44/
END:VEVENT
BEGIN:VEVENT
DTSTART;TZID=America/Chicago:20241103T090000
DTEND;TZID=America/Chicago:20241103T090000
DTSTAMP:20260424T005049
CREATED:20241101T154617Z
LAST-MODIFIED:20241101T154619Z
UID:7507-1730624400-1730624400@fpcbentonville.org
SUMMARY:Adult Bible Study (Library)
DESCRIPTION:
URL:https://fpcbentonville.org/event/adult-bible-study-library-100/
END:VEVENT
BEGIN:VEVENT
DTSTART;TZID=America/Chicago:20241102T090000
DTEND;TZID=America/Chicago:20241102T110000
DTSTAMP:20260424T005049
CREATED:20240821T163734Z
LAST-MODIFIED:20240821T163736Z
UID:7324-1730538000-1730545200@fpcbentonville.org
SUMMARY:FPC Food Pantry
DESCRIPTION:
URL:https://fpcbentonville.org/event/fpc-food-pantry-119/
END:VEVENT
BEGIN:VEVENT
DTSTART;TZID=America/Chicago:20241030T183000
DTEND;TZID=America/Chicago:20241030T183000
DTSTAMP:20260424T005049
CREATED:20241003T172945Z
LAST-MODIFIED:20241003T172947Z
UID:7400-1730313000-1730313000@fpcbentonville.org
SUMMARY:Choir Practice
DESCRIPTION:
URL:https://fpcbentonville.org/event/choir-practice-43/
END:VEVENT
BEGIN:VEVENT
DTSTART;TZID=America/Chicago:20241030T180000
DTEND;TZID=America/Chicago:20241030T180000
DTSTAMP:20260424T005049
CREATED:20240828T154439Z
LAST-MODIFIED:20240828T154441Z
UID:7362-1730311200-1730311200@fpcbentonville.org
SUMMARY:Newcomer Gathering (Library)
DESCRIPTION:
URL:https://fpcbentonville.org/event/newcomer-gathering-library-4/
END:VEVENT
BEGIN:VEVENT
DTSTART;TZID=America/Chicago:20241027T130000
DTEND;TZID=America/Chicago:20241027T150000
DTSTAMP:20260424T005049
CREATED:20241003T180653Z
LAST-MODIFIED:20241003T180654Z
UID:7432-1730034000-1730041200@fpcbentonville.org
SUMMARY:Trunk or Treat
DESCRIPTION:
URL:https://fpcbentonville.org/event/trunk-or-treat-4/
END:VEVENT
BEGIN:VEVENT
DTSTART;TZID=America/Chicago:20241027T113000
DTEND;TZID=America/Chicago:20241027T113000
DTSTAMP:20260424T005049
CREATED:20241003T184103Z
LAST-MODIFIED:20241003T184104Z
UID:7448-1730028600-1730028600@fpcbentonville.org
SUMMARY:Handbell practice
DESCRIPTION:
URL:https://fpcbentonville.org/event/handbell-practice-4/
END:VEVENT
BEGIN:VEVENT
DTSTART;TZID=America/Chicago:20241027T101500
DTEND;TZID=America/Chicago:20241027T101500
DTSTAMP:20260424T005049
CREATED:20241003T174916Z
LAST-MODIFIED:20241003T174918Z
UID:7418-1730024100-1730024100@fpcbentonville.org
SUMMARY:Worship (Sanctuary and online via Facebook and YouTube)
DESCRIPTION:
URL:https://fpcbentonville.org/event/worship-sanctuary-and-online-via-facebook-and-youtube-139/
END:VEVENT
BEGIN:VEVENT
DTSTART;TZID=America/Chicago:20241027T090000
DTEND;TZID=America/Chicago:20241027T090000
DTSTAMP:20260424T005049
CREATED:20241003T173745Z
LAST-MODIFIED:20241003T173747Z
UID:7411-1730019600-1730019600@fpcbentonville.org
SUMMARY:Adult Bible Study
DESCRIPTION:
URL:https://fpcbentonville.org/event/adult-bible-study-22/
END:VEVENT
BEGIN:VEVENT
DTSTART;TZID=America/Chicago:20241026T090000
DTEND;TZID=America/Chicago:20241026T110000
DTSTAMP:20260424T005049
CREATED:20240821T163658Z
LAST-MODIFIED:20240821T163659Z
UID:7322-1729933200-1729940400@fpcbentonville.org
SUMMARY:FPC Food Pantry
DESCRIPTION:
URL:https://fpcbentonville.org/event/fpc-food-pantry-118/
END:VEVENT
BEGIN:VEVENT
DTSTART;TZID=America/Chicago:20241023T183000
DTEND;TZID=America/Chicago:20241023T183000
DTSTAMP:20260424T005049
CREATED:20241003T172716Z
LAST-MODIFIED:20241003T172718Z
UID:7397-1729708200-1729708200@fpcbentonville.org
SUMMARY:Choir Practice
DESCRIPTION:
URL:https://fpcbentonville.org/event/choir-practice-42/
END:VEVENT
BEGIN:VEVENT
DTSTART;TZID=America/Chicago:20241020T113000
DTEND;TZID=America/Chicago:20241020T113000
DTSTAMP:20260424T005049
CREATED:20241003T183822Z
LAST-MODIFIED:20241003T183824Z
UID:7445-1729423800-1729423800@fpcbentonville.org
SUMMARY:Handbell practice
DESCRIPTION:
URL:https://fpcbentonville.org/event/handbell-practice-3/
END:VEVENT
BEGIN:VEVENT
DTSTART;TZID=America/Chicago:20241020T101500
DTEND;TZID=America/Chicago:20241020T101500
DTSTAMP:20260424T005049
CREATED:20241003T174832Z
LAST-MODIFIED:20241003T174833Z
UID:7415-1729419300-1729419300@fpcbentonville.org
SUMMARY:Worship (Sanctuary and online via Facebook and YouTube)
DESCRIPTION:
URL:https://fpcbentonville.org/event/worship-sanctuary-and-online-via-facebook-and-youtube-138/
END:VEVENT
BEGIN:VEVENT
DTSTART;TZID=America/Chicago:20241020T090000
DTEND;TZID=America/Chicago:20241020T090000
DTSTAMP:20260424T005049
CREATED:20241003T173703Z
LAST-MODIFIED:20241003T173704Z
UID:7409-1729414800-1729414800@fpcbentonville.org
SUMMARY:Adult Bible Study
DESCRIPTION:
URL:https://fpcbentonville.org/event/adult-bible-study-21/
END:VEVENT
BEGIN:VEVENT
DTSTART;TZID=America/Chicago:20241019T090000
DTEND;TZID=America/Chicago:20241019T110000
DTSTAMP:20260424T005049
CREATED:20240821T163622Z
LAST-MODIFIED:20240821T163624Z
UID:7320-1729328400-1729335600@fpcbentonville.org
SUMMARY:FPC Food Pantry
DESCRIPTION:
URL:https://fpcbentonville.org/event/fpc-food-pantry-117/
END:VEVENT
BEGIN:VEVENT
DTSTART;TZID=America/Chicago:20241016T183000
DTEND;TZID=America/Chicago:20241016T183000
DTSTAMP:20260424T005049
CREATED:20241003T172646Z
LAST-MODIFIED:20241003T172647Z
UID:7395-1729103400-1729103400@fpcbentonville.org
SUMMARY:Choir Practice
DESCRIPTION:
URL:https://fpcbentonville.org/event/choir-practice-41/
END:VEVENT
BEGIN:VEVENT
DTSTART;TZID=America/Chicago:20241013T160000
DTEND;TZID=America/Chicago:20241013T173000
DTSTAMP:20260424T005049
CREATED:20241003T180614Z
LAST-MODIFIED:20241003T180616Z
UID:7430-1728835200-1728840600@fpcbentonville.org
SUMMARY:Youth Group
DESCRIPTION:
URL:https://fpcbentonville.org/event/youth-group-45/
END:VEVENT
BEGIN:VEVENT
DTSTART;TZID=America/Chicago:20241013T113000
DTEND;TZID=America/Chicago:20241013T130000
DTSTAMP:20260424T005049
CREATED:20241003T181345Z
LAST-MODIFIED:20241003T181346Z
UID:7436-1728819000-1728824400@fpcbentonville.org
SUMMARY:J St. Kids
DESCRIPTION:
URL:https://fpcbentonville.org/event/j-st-kids-11/
END:VEVENT
BEGIN:VEVENT
DTSTART;TZID=America/Chicago:20241013T113000
DTEND;TZID=America/Chicago:20241013T113000
DTSTAMP:20260424T005049
CREATED:20241003T183723Z
LAST-MODIFIED:20241003T183724Z
UID:7442-1728819000-1728819000@fpcbentonville.org
SUMMARY:Handbell practice
DESCRIPTION:
URL:https://fpcbentonville.org/event/handbell-practice-2/
END:VEVENT
BEGIN:VEVENT
DTSTART;TZID=America/Chicago:20241013T101500
DTEND;TZID=America/Chicago:20241013T101500
DTSTAMP:20260424T005049
CREATED:20241003T174805Z
LAST-MODIFIED:20241003T174807Z
UID:7413-1728814500-1728814500@fpcbentonville.org
SUMMARY:Worship (Sanctuary and online via Facebook and YouTube)
DESCRIPTION:
URL:https://fpcbentonville.org/event/worship-sanctuary-and-online-via-facebook-and-youtube-137/
END:VEVENT
BEGIN:VEVENT
DTSTART;TZID=America/Chicago:20241013T090000
DTEND;TZID=America/Chicago:20241013T090000
DTSTAMP:20260424T005049
CREATED:20241003T173201Z
LAST-MODIFIED:20241003T173203Z
UID:7406-1728810000-1728810000@fpcbentonville.org
SUMMARY:Adult Bible Study
DESCRIPTION:
URL:https://fpcbentonville.org/event/adult-bible-study-20/
END:VEVENT
BEGIN:VEVENT
DTSTART;TZID=America/Chicago:20241012T090000
DTEND;TZID=America/Chicago:20241012T110000
DTSTAMP:20260424T005049
CREATED:20240821T163531Z
LAST-MODIFIED:20240821T163533Z
UID:7318-1728723600-1728730800@fpcbentonville.org
SUMMARY:FPC Food Pantry
DESCRIPTION:
URL:https://fpcbentonville.org/event/fpc-food-pantry-116/
END:VEVENT
BEGIN:VEVENT
DTSTART;TZID=America/Chicago:20241011T180000
DTEND;TZID=America/Chicago:20241012T130000
DTSTAMP:20260424T005049
CREATED:20241003T180502Z
LAST-MODIFIED:20241003T180504Z
UID:7427-1728669600-1728738000@fpcbentonville.org
SUMMARY:NWA Youth Campout
DESCRIPTION:
URL:https://fpcbentonville.org/event/nwa-youth-campout/
END:VEVENT
BEGIN:VEVENT
DTSTART;TZID=America/Chicago:20241009T183000
DTEND;TZID=America/Chicago:20241009T183000
DTSTAMP:20260424T005049
CREATED:20241003T172238Z
LAST-MODIFIED:20241003T172239Z
UID:7393-1728498600-1728498600@fpcbentonville.org
SUMMARY:Choir Practice
DESCRIPTION:
URL:https://fpcbentonville.org/event/choir-practice-40/
END:VEVENT
END:VCALENDAR