BEGIN:VCALENDAR
VERSION:2.0
PRODID:-//First Presbyterian Church, Bentonville - ECPv6.15.20//NONSGML v1.0//EN
CALSCALE:GREGORIAN
METHOD:PUBLISH
X-WR-CALNAME:First Presbyterian Church, Bentonville
X-ORIGINAL-URL:https://fpcbentonville.org
X-WR-CALDESC:Events for First Presbyterian Church, Bentonville
REFRESH-INTERVAL;VALUE=DURATION:PT1H
X-Robots-Tag:noindex
X-PUBLISHED-TTL:PT1H
BEGIN:VTIMEZONE
TZID:America/Chicago
BEGIN:DAYLIGHT
TZOFFSETFROM:-0600
TZOFFSETTO:-0500
TZNAME:CDT
DTSTART:20190310T080000
END:DAYLIGHT
BEGIN:STANDARD
TZOFFSETFROM:-0500
TZOFFSETTO:-0600
TZNAME:CST
DTSTART:20191103T070000
END:STANDARD
BEGIN:DAYLIGHT
TZOFFSETFROM:-0600
TZOFFSETTO:-0500
TZNAME:CDT
DTSTART:20200308T080000
END:DAYLIGHT
BEGIN:STANDARD
TZOFFSETFROM:-0500
TZOFFSETTO:-0600
TZNAME:CST
DTSTART:20201101T070000
END:STANDARD
BEGIN:DAYLIGHT
TZOFFSETFROM:-0600
TZOFFSETTO:-0500
TZNAME:CDT
DTSTART:20210314T080000
END:DAYLIGHT
BEGIN:STANDARD
TZOFFSETFROM:-0500
TZOFFSETTO:-0600
TZNAME:CST
DTSTART:20211107T070000
END:STANDARD
END:VTIMEZONE
BEGIN:VEVENT
DTSTART;TZID=America/Chicago:20200913T160000
DTEND;TZID=America/Chicago:20200913T160000
DTSTAMP:20260423T160203
CREATED:20200909T182353Z
LAST-MODIFIED:20200909T182355Z
UID:2012-1600012800-1600012800@fpcbentonville.org
SUMMARY:J St. Kids/Club 456 Kick-Off (Zoom)
DESCRIPTION:
URL:https://fpcbentonville.org/event/j-st-kids-club-456-kick-off-zoom/
END:VEVENT
BEGIN:VEVENT
DTSTART;TZID=America/Chicago:20200913T160000
DTEND;TZID=America/Chicago:20200913T160000
DTSTAMP:20260423T160203
CREATED:20200819T185129Z
LAST-MODIFIED:20200826T183817Z
UID:1895-1600012800-1600012800@fpcbentonville.org
SUMMARY:Adult Sunday School (Zoom)
DESCRIPTION:
URL:https://fpcbentonville.org/event/adult-faith-building-class-zoom-3/
END:VEVENT
BEGIN:VEVENT
DTSTART;TZID=America/Chicago:20200913T113000
DTEND;TZID=America/Chicago:20200913T113000
DTSTAMP:20260423T160203
CREATED:20200821T152355Z
LAST-MODIFIED:20200821T152357Z
UID:1910-1599996600-1599996600@fpcbentonville.org
SUMMARY:Mission Committee Meeting (Zoom)
DESCRIPTION:
URL:https://fpcbentonville.org/event/mission-committee-meeting-zoom/
END:VEVENT
BEGIN:VEVENT
DTSTART;TZID=America/Chicago:20200913T101500
DTEND;TZID=America/Chicago:20200913T101500
DTSTAMP:20260423T160203
CREATED:20200812T175840Z
LAST-MODIFIED:20200814T161805Z
UID:1768-1599992100-1599992100@fpcbentonville.org
SUMMARY:Worship Service (Online)
DESCRIPTION:via Facebook and YouTube
URL:https://fpcbentonville.org/event/worship-service-12/
END:VEVENT
BEGIN:VEVENT
DTSTART;TZID=America/Chicago:20200912T090000
DTEND;TZID=America/Chicago:20200912T113000
DTSTAMP:20260423T160203
CREATED:20200812T191222Z
LAST-MODIFIED:20200812T194754Z
UID:1785-1599901200-1599910200@fpcbentonville.org
SUMMARY:FPC Food Pantry
DESCRIPTION:
URL:https://fpcbentonville.org/event/fpc-food-pantry-5/
END:VEVENT
BEGIN:VEVENT
DTSTART;TZID=America/Chicago:20200912T083000
DTEND;TZID=America/Chicago:20200912T130000
DTSTAMP:20260423T160203
CREATED:20200826T180032Z
LAST-MODIFIED:20200826T180034Z
UID:1943-1599899400-1599915600@fpcbentonville.org
SUMMARY:Happyfeet Youth Soccer Practice (North Field)
DESCRIPTION:
URL:https://fpcbentonville.org/event/happyfeet-youth-soccer-practice-north-field-9/
END:VEVENT
BEGIN:VEVENT
DTSTART;TZID=America/Chicago:20200911T080000
DTEND;TZID=America/Chicago:20200911T100000
DTSTAMP:20260423T160203
CREATED:20200814T163656Z
LAST-MODIFIED:20200814T163659Z
UID:1833-1599811200-1599818400@fpcbentonville.org
SUMMARY:Pantry Packers
DESCRIPTION:
URL:https://fpcbentonville.org/event/pantry-packers-5/
END:VEVENT
BEGIN:VEVENT
DTSTART;TZID=America/Chicago:20200910T093000
DTEND;TZID=America/Chicago:20200910T093000
DTSTAMP:20260423T160203
CREATED:20200821T150421Z
LAST-MODIFIED:20200821T150423Z
UID:1907-1599730200-1599730200@fpcbentonville.org
SUMMARY:Presbyterian Women Bible Study (Zoom)
DESCRIPTION:
URL:https://fpcbentonville.org/event/presbyterian-women-bible-study-zoom/
END:VEVENT
BEGIN:VEVENT
DTSTART;TZID=America/Chicago:20200909T183000
DTEND;TZID=America/Chicago:20200909T183000
DTSTAMP:20260423T160203
CREATED:20200819T184759Z
LAST-MODIFIED:20200819T184801Z
UID:1893-1599676200-1599676200@fpcbentonville.org
SUMMARY:Adult Faith Building Class (Zoom)
DESCRIPTION:
URL:https://fpcbentonville.org/event/adult-faith-building-class-zoom-2/
END:VEVENT
BEGIN:VEVENT
DTSTART;TZID=America/Chicago:20200909T163000
DTEND;TZID=America/Chicago:20200909T183000
DTSTAMP:20260423T160203
CREATED:20200826T175056Z
LAST-MODIFIED:20200826T175058Z
UID:1929-1599669000-1599676200@fpcbentonville.org
SUMMARY:Happyfeet Youth Soccer Practice (North Field)
DESCRIPTION:
URL:https://fpcbentonville.org/event/happyfeet-youth-soccer-practice-north-field-2/
END:VEVENT
BEGIN:VEVENT
DTSTART;TZID=America/Chicago:20200908T103000
DTEND;TZID=America/Chicago:20200908T113000
DTSTAMP:20260423T160203
CREATED:20200812T175637Z
LAST-MODIFIED:20200812T175639Z
UID:1766-1599561000-1599564600@fpcbentonville.org
SUMMARY:Staff Meeting
DESCRIPTION:
URL:https://fpcbentonville.org/event/staff-meeting-2/
END:VEVENT
BEGIN:VEVENT
DTSTART;TZID=America/Chicago:20200907T080000
DTEND;TZID=America/Chicago:20200907T170000
DTSTAMP:20260423T160203
CREATED:20200814T164857Z
LAST-MODIFIED:20200814T164859Z
UID:1839-1599465600-1599498000@fpcbentonville.org
SUMMARY:Labor Day Church and My Friends and Me Learning Center Closed
DESCRIPTION:
URL:https://fpcbentonville.org/event/labor-day-church-and-my-friends-and-me-learning-center-closed/
END:VEVENT
BEGIN:VEVENT
DTSTART;TZID=America/Chicago:20200906T190000
DTEND;TZID=America/Chicago:20200906T190000
DTSTAMP:20260423T160203
CREATED:20200819T175027Z
LAST-MODIFIED:20200819T175029Z
UID:1879-1599418800-1599418800@fpcbentonville.org
SUMMARY:Evening Vespers (outdoors)
DESCRIPTION:
URL:https://fpcbentonville.org/event/evening-vespers-outdoors/
END:VEVENT
BEGIN:VEVENT
DTSTART;TZID=America/Chicago:20200906T101500
DTEND;TZID=America/Chicago:20200906T101500
DTSTAMP:20260423T160203
CREATED:20200812T175520Z
LAST-MODIFIED:20200814T161654Z
UID:1764-1599387300-1599387300@fpcbentonville.org
SUMMARY:Worship with The Lord's Supper (Online)
DESCRIPTION:via Facebook and YouTube
URL:https://fpcbentonville.org/event/worship-with-the-lords-supper-2/
END:VEVENT
BEGIN:VEVENT
DTSTART;TZID=America/Chicago:20200905T090000
DTEND;TZID=America/Chicago:20200905T113000
DTSTAMP:20260423T160203
CREATED:20200812T191047Z
LAST-MODIFIED:20200812T191049Z
UID:1783-1599296400-1599305400@fpcbentonville.org
SUMMARY:FPC Food Pantry
DESCRIPTION:
URL:https://fpcbentonville.org/event/fpc-food-pantry-4/
END:VEVENT
BEGIN:VEVENT
DTSTART;TZID=America/Chicago:20200905T083000
DTEND;TZID=America/Chicago:20200905T130000
DTSTAMP:20260423T160203
CREATED:20200826T175752Z
LAST-MODIFIED:20200826T175753Z
UID:1941-1599294600-1599310800@fpcbentonville.org
SUMMARY:Happyfeet Youth Soccer Practice (North Field)
DESCRIPTION:
URL:https://fpcbentonville.org/event/happyfeet-youth-soccer-practice-north-field-8/
END:VEVENT
BEGIN:VEVENT
DTSTART;TZID=America/Chicago:20200904T080000
DTEND;TZID=America/Chicago:20200904T100000
DTSTAMP:20260423T160203
CREATED:20200814T163507Z
LAST-MODIFIED:20200814T163509Z
UID:1831-1599206400-1599213600@fpcbentonville.org
SUMMARY:Pantry Packers
DESCRIPTION:
URL:https://fpcbentonville.org/event/pantry-packers-4/
END:VEVENT
BEGIN:VEVENT
DTSTART;TZID=America/Chicago:20200903T180000
DTEND;TZID=America/Chicago:20200903T180000
DTSTAMP:20260423T160203
CREATED:20200821T150155Z
LAST-MODIFIED:20200821T152103Z
UID:1905-1599156000-1599156000@fpcbentonville.org
SUMMARY:Personnel Committee Meeting (Zoom)
DESCRIPTION:
URL:https://fpcbentonville.org/event/personnel-committee-meeting/
END:VEVENT
BEGIN:VEVENT
DTSTART;TZID=America/Chicago:20200902T163000
DTEND;TZID=America/Chicago:20200902T183000
DTSTAMP:20260423T160203
CREATED:20200826T174933Z
LAST-MODIFIED:20200826T174935Z
UID:1927-1599064200-1599071400@fpcbentonville.org
SUMMARY:Happyfeet Youth Soccer Practice (North Field)
DESCRIPTION:
URL:https://fpcbentonville.org/event/happyfeet-youth-soccer-practice-north-field/
END:VEVENT
BEGIN:VEVENT
DTSTART;TZID=America/Chicago:20200901T180000
DTEND;TZID=America/Chicago:20200901T180000
DTSTAMP:20260423T160203
CREATED:20200819T184357Z
LAST-MODIFIED:20200819T184359Z
UID:1891-1598983200-1598983200@fpcbentonville.org
SUMMARY:Worship Committee Meeting (Zoom)
DESCRIPTION:
URL:https://fpcbentonville.org/event/worship-committee-meeting-zoom/
END:VEVENT
BEGIN:VEVENT
DTSTART;TZID=America/Chicago:20200901T171500
DTEND;TZID=America/Chicago:20200901T171500
DTSTAMP:20260423T160203
CREATED:20200819T184031Z
LAST-MODIFIED:20200819T184033Z
UID:1889-1598980500-1598980500@fpcbentonville.org
SUMMARY:Fellowship Committee Meeting (Zoom)
DESCRIPTION:
URL:https://fpcbentonville.org/event/fellowship-committee-meeting-zoom/
END:VEVENT
BEGIN:VEVENT
DTSTART;TZID=America/Chicago:20200830T101500
DTEND;TZID=America/Chicago:20200830T101500
DTSTAMP:20260423T160203
CREATED:20200812T171453Z
LAST-MODIFIED:20200814T161351Z
UID:1757-1598782500-1598782500@fpcbentonville.org
SUMMARY:Worship Service (Online)
DESCRIPTION:via Facebook and YouTube
URL:https://fpcbentonville.org/event/worship-service-11/
END:VEVENT
BEGIN:VEVENT
DTSTART;TZID=America/Chicago:20200829T090000
DTEND;TZID=America/Chicago:20200829T113000
DTSTAMP:20260423T160203
CREATED:20200812T181041Z
LAST-MODIFIED:20200812T181043Z
UID:1780-1598691600-1598700600@fpcbentonville.org
SUMMARY:FPC Food Pantry
DESCRIPTION:
URL:https://fpcbentonville.org/event/fpc-food-pantry-3/
END:VEVENT
BEGIN:VEVENT
DTSTART;TZID=America/Chicago:20200829T083000
DTEND;TZID=America/Chicago:20200829T130000
DTSTAMP:20260423T160203
CREATED:20200826T175642Z
LAST-MODIFIED:20200826T175644Z
UID:1939-1598689800-1598706000@fpcbentonville.org
SUMMARY:Happyfeet Youth Soccer Practice (North Field)
DESCRIPTION:
URL:https://fpcbentonville.org/event/happyfeet-youth-soccer-practice-north-field-7/
END:VEVENT
BEGIN:VEVENT
DTSTART;TZID=America/Chicago:20200828T080000
DTEND;TZID=America/Chicago:20200828T100000
DTSTAMP:20260423T160203
CREATED:20200814T163231Z
LAST-MODIFIED:20200814T163233Z
UID:1829-1598601600-1598608800@fpcbentonville.org
SUMMARY:Pantry Packers
DESCRIPTION:
URL:https://fpcbentonville.org/event/pantry-packers-3/
END:VEVENT
BEGIN:VEVENT
DTSTART;TZID=America/Chicago:20200827T133000
DTEND;TZID=America/Chicago:20200827T133000
DTSTAMP:20260423T160203
CREATED:20200819T182758Z
LAST-MODIFIED:20200819T182800Z
UID:1887-1598535000-1598535000@fpcbentonville.org
SUMMARY:Nominating Committee Meeting (Zoom)
DESCRIPTION:
URL:https://fpcbentonville.org/event/nominating-committee-meeting-zoom-2/
END:VEVENT
BEGIN:VEVENT
DTSTART;TZID=America/Chicago:20200826T170000
DTEND;TZID=America/Chicago:20200826T170000
DTSTAMP:20260423T160203
CREATED:20200813T205957Z
LAST-MODIFIED:20200813T205958Z
UID:1808-1598461200-1598461200@fpcbentonville.org
SUMMARY:Girl Scout First Aid training (outdoors)
DESCRIPTION:
URL:https://fpcbentonville.org/event/girl-scout-first-aid-training-outdoors/
END:VEVENT
BEGIN:VEVENT
DTSTART;TZID=America/Chicago:20200825T103000
DTEND;TZID=America/Chicago:20200825T113000
DTSTAMP:20260423T160203
CREATED:20200812T171806Z
LAST-MODIFIED:20200812T171809Z
UID:1759-1598351400-1598355000@fpcbentonville.org
SUMMARY:Staff Meeting
DESCRIPTION:
URL:https://fpcbentonville.org/event/staff-meeting/
END:VEVENT
BEGIN:VEVENT
DTSTART;TZID=America/Chicago:20200823T160000
DTEND;TZID=America/Chicago:20200823T160000
DTSTAMP:20260423T160203
CREATED:20200812T171235Z
LAST-MODIFIED:20200813T205748Z
UID:1755-1598198400-1598198400@fpcbentonville.org
SUMMARY:Blessing of the Backpacks (outdoors)
DESCRIPTION:Each year as school is about to begin\, we have a Blessing of the Backpacks during worship to pray especially for the upcoming school year\, students\, families\, educators\, and staff.  Everyone is invite to bring what they carry during the day – backpacks\, briefcases\, or any kind of bag – and we pile them up near the communion table. We pray for those who will carry them\, and for all of the places and circumstances they will encounter in the coming year\, affirming that God and God’s love go with us into each one of our days. \n\n\n\nThis year\, we are taking our annual Blessing of the Backpacks outside\, and giving it a drive-thru format. Here’s how it will work: \n\n\n\nFor all who would like to receive a backpack/briefcase/bag tag\, you will drive into the north entrance of the church parking lot\, circle around the back of the church\, and drive up under the south portico. \n\n\n\nWithout leaving your car\, you will receive your tag(s)\, and Pastor Katie and Pastor Georgia will be there to say a blessing.
URL:https://fpcbentonville.org/event/drive-thru-blessing-of-the-backpacks/
END:VEVENT
BEGIN:VEVENT
DTSTART;TZID=America/Chicago:20200823T101500
DTEND;TZID=America/Chicago:20200823T101500
DTSTAMP:20260423T160203
CREATED:20200812T170612Z
LAST-MODIFIED:20200814T160909Z
UID:1753-1598177700-1598177700@fpcbentonville.org
SUMMARY:Worship Service (Online)
DESCRIPTION:via Facebook and YouTube
URL:https://fpcbentonville.org/event/worship-service-10/
END:VEVENT
END:VCALENDAR