BEGIN:VCALENDAR
VERSION:2.0
PRODID:-//First Presbyterian Church, Bentonville - ECPv6.15.20//NONSGML v1.0//EN
CALSCALE:GREGORIAN
METHOD:PUBLISH
X-WR-CALNAME:First Presbyterian Church, Bentonville
X-ORIGINAL-URL:https://fpcbentonville.org
X-WR-CALDESC:Events for First Presbyterian Church, Bentonville
REFRESH-INTERVAL;VALUE=DURATION:PT1H
X-Robots-Tag:noindex
X-PUBLISHED-TTL:PT1H
BEGIN:VTIMEZONE
TZID:America/Chicago
BEGIN:DAYLIGHT
TZOFFSETFROM:-0600
TZOFFSETTO:-0500
TZNAME:CDT
DTSTART:20190310T080000
END:DAYLIGHT
BEGIN:STANDARD
TZOFFSETFROM:-0500
TZOFFSETTO:-0600
TZNAME:CST
DTSTART:20191103T070000
END:STANDARD
BEGIN:DAYLIGHT
TZOFFSETFROM:-0600
TZOFFSETTO:-0500
TZNAME:CDT
DTSTART:20200308T080000
END:DAYLIGHT
BEGIN:STANDARD
TZOFFSETFROM:-0500
TZOFFSETTO:-0600
TZNAME:CST
DTSTART:20201101T070000
END:STANDARD
BEGIN:DAYLIGHT
TZOFFSETFROM:-0600
TZOFFSETTO:-0500
TZNAME:CDT
DTSTART:20210314T080000
END:DAYLIGHT
BEGIN:STANDARD
TZOFFSETFROM:-0500
TZOFFSETTO:-0600
TZNAME:CST
DTSTART:20211107T070000
END:STANDARD
END:VTIMEZONE
BEGIN:VEVENT
DTSTART;TZID=America/Chicago:20200922T130000
DTEND;TZID=America/Chicago:20200922T130000
DTSTAMP:20260425T171251
CREATED:20200921T143343Z
LAST-MODIFIED:20200921T143546Z
UID:2053-1600779600-1600779600@fpcbentonville.org
SUMMARY:Library Committee Meeting
DESCRIPTION:
URL:https://fpcbentonville.org/event/library-committee-meeting/
END:VEVENT
BEGIN:VEVENT
DTSTART;TZID=America/Chicago:20200922T103000
DTEND;TZID=America/Chicago:20200922T113000
DTSTAMP:20260425T171251
CREATED:20200812T180057Z
LAST-MODIFIED:20200812T180059Z
UID:1772-1600770600-1600774200@fpcbentonville.org
SUMMARY:Staff Meeting
DESCRIPTION:
URL:https://fpcbentonville.org/event/staff-meeting-3/
END:VEVENT
BEGIN:VEVENT
DTSTART;TZID=America/Chicago:20200920T183000
DTEND;TZID=America/Chicago:20200920T190000
DTSTAMP:20260425T171251
CREATED:20200819T175222Z
LAST-MODIFIED:20200921T143130Z
UID:1881-1600626600-1600628400@fpcbentonville.org
SUMMARY:Congregational meeting via Zoom and in person (south parking lot)\, immediately followed by Evening Vespers Service
DESCRIPTION:
URL:https://fpcbentonville.org/event/evening-vespers-outdoors-2/
END:VEVENT
BEGIN:VEVENT
DTSTART;TZID=America/Chicago:20200920T160000
DTEND;TZID=America/Chicago:20200920T160000
DTSTAMP:20260425T171251
CREATED:20200909T182749Z
LAST-MODIFIED:20200909T182750Z
UID:2016-1600617600-1600617600@fpcbentonville.org
SUMMARY:Youth Group (South Parking Lot)
DESCRIPTION:
URL:https://fpcbentonville.org/event/youth-group-south-parking-lot/
END:VEVENT
BEGIN:VEVENT
DTSTART;TZID=America/Chicago:20200920T160000
DTEND;TZID=America/Chicago:20200920T160000
DTSTAMP:20260425T171251
CREATED:20200909T182523Z
LAST-MODIFIED:20200921T143235Z
UID:2014-1600617600-1600617600@fpcbentonville.org
SUMMARY:J St. Kids/Club 456 (Zoom)
DESCRIPTION:
URL:https://fpcbentonville.org/event/j-st-kids-club-456-kick-off-zoom-2/
END:VEVENT
BEGIN:VEVENT
DTSTART;TZID=America/Chicago:20200920T160000
DTEND;TZID=America/Chicago:20200920T160000
DTSTAMP:20260425T171251
CREATED:20200819T185331Z
LAST-MODIFIED:20200826T183918Z
UID:1897-1600617600-1600617600@fpcbentonville.org
SUMMARY:Adult Sunday School (Zoom)
DESCRIPTION:
URL:https://fpcbentonville.org/event/adult-faith-building-class-zoom-4/
END:VEVENT
BEGIN:VEVENT
DTSTART;TZID=America/Chicago:20200920T101500
DTEND;TZID=America/Chicago:20200920T101500
DTSTAMP:20260425T171251
CREATED:20200812T175953Z
LAST-MODIFIED:20200814T161859Z
UID:1770-1600596900-1600596900@fpcbentonville.org
SUMMARY:Worship Service (Online)
DESCRIPTION:via Facebook and YouTube
URL:https://fpcbentonville.org/event/worship-service-13/
END:VEVENT
BEGIN:VEVENT
DTSTART;TZID=America/Chicago:20200919T090000
DTEND;TZID=America/Chicago:20200919T113000
DTSTAMP:20260425T171251
CREATED:20200812T191511Z
LAST-MODIFIED:20200812T194444Z
UID:1787-1600506000-1600515000@fpcbentonville.org
SUMMARY:FPC Food Pantry
DESCRIPTION:
URL:https://fpcbentonville.org/event/fpc-food-pantry-6/
END:VEVENT
BEGIN:VEVENT
DTSTART;TZID=America/Chicago:20200919T083000
DTEND;TZID=America/Chicago:20200919T130000
DTSTAMP:20260425T171251
CREATED:20200826T180121Z
LAST-MODIFIED:20200826T180122Z
UID:1945-1600504200-1600520400@fpcbentonville.org
SUMMARY:Happyfeet Youth Soccer Practice (North Field)
DESCRIPTION:
URL:https://fpcbentonville.org/event/happyfeet-youth-soccer-practice-north-field-10/
END:VEVENT
BEGIN:VEVENT
DTSTART;TZID=America/Chicago:20200918T080000
DTEND;TZID=America/Chicago:20200918T100000
DTSTAMP:20260425T171251
CREATED:20200814T164037Z
LAST-MODIFIED:20200814T164040Z
UID:1835-1600416000-1600423200@fpcbentonville.org
SUMMARY:Pantry Packers
DESCRIPTION:
URL:https://fpcbentonville.org/event/pantry-packers-6/
END:VEVENT
BEGIN:VEVENT
DTSTART;TZID=America/Chicago:20200916T183000
DTEND;TZID=America/Chicago:20200916T183000
DTSTAMP:20260425T171251
CREATED:20200921T142751Z
LAST-MODIFIED:20200921T142753Z
UID:2047-1600281000-1600281000@fpcbentonville.org
SUMMARY:PIT Committee Meeting
DESCRIPTION:
URL:https://fpcbentonville.org/event/pit-committee-meeting/
END:VEVENT
BEGIN:VEVENT
DTSTART;TZID=America/Chicago:20200916T183000
DTEND;TZID=America/Chicago:20200916T183000
DTSTAMP:20260425T171251
CREATED:20200819T192351Z
LAST-MODIFIED:20200819T192353Z
UID:1901-1600281000-1600281000@fpcbentonville.org
SUMMARY:Adult Faith Building Class (Zoom)
DESCRIPTION:
URL:https://fpcbentonville.org/event/adult-faith-building-class-zoom-6/
END:VEVENT
BEGIN:VEVENT
DTSTART;TZID=America/Chicago:20200916T173000
DTEND;TZID=America/Chicago:20200916T173000
DTSTAMP:20260425T171251
CREATED:20200821T152626Z
LAST-MODIFIED:20200821T152627Z
UID:1912-1600277400-1600277400@fpcbentonville.org
SUMMARY:Finance Committee Meeting (Zoom)
DESCRIPTION:
URL:https://fpcbentonville.org/event/finance-committee-meeting-zoom/
END:VEVENT
BEGIN:VEVENT
DTSTART;TZID=America/Chicago:20200916T163000
DTEND;TZID=America/Chicago:20200916T183000
DTSTAMP:20260425T171251
CREATED:20200826T175154Z
LAST-MODIFIED:20200826T175155Z
UID:1931-1600273800-1600281000@fpcbentonville.org
SUMMARY:Happyfeet Youth Soccer Practice (North Field)
DESCRIPTION:
URL:https://fpcbentonville.org/event/happyfeet-youth-soccer-practice-north-field-3/
END:VEVENT
BEGIN:VEVENT
DTSTART;TZID=America/Chicago:20200914T173000
DTEND;TZID=America/Chicago:20200914T173000
DTSTAMP:20260425T171251
CREATED:20200914T160841Z
LAST-MODIFIED:20200914T160843Z
UID:2031-1600104600-1600104600@fpcbentonville.org
SUMMARY:Adult Christian Ed. Committee (south parking lot)
DESCRIPTION:
URL:https://fpcbentonville.org/event/adult-christian-ed-committee-south-parking-lot/
END:VEVENT
BEGIN:VEVENT
DTSTART;TZID=America/Chicago:20200913T163000
DTEND;TZID=America/Chicago:20200913T163000
DTSTAMP:20260425T171251
CREATED:20200909T182217Z
LAST-MODIFIED:20200909T182219Z
UID:2010-1600014600-1600014600@fpcbentonville.org
SUMMARY:Youth Group Kick-Off Picnic (North Field)
DESCRIPTION:
URL:https://fpcbentonville.org/event/youth-group-kick-off-picnic-north-field/
END:VEVENT
BEGIN:VEVENT
DTSTART;TZID=America/Chicago:20200913T160000
DTEND;TZID=America/Chicago:20200913T160000
DTSTAMP:20260425T171251
CREATED:20200909T182353Z
LAST-MODIFIED:20200909T182355Z
UID:2012-1600012800-1600012800@fpcbentonville.org
SUMMARY:J St. Kids/Club 456 Kick-Off (Zoom)
DESCRIPTION:
URL:https://fpcbentonville.org/event/j-st-kids-club-456-kick-off-zoom/
END:VEVENT
BEGIN:VEVENT
DTSTART;TZID=America/Chicago:20200913T160000
DTEND;TZID=America/Chicago:20200913T160000
DTSTAMP:20260425T171251
CREATED:20200819T185129Z
LAST-MODIFIED:20200826T183817Z
UID:1895-1600012800-1600012800@fpcbentonville.org
SUMMARY:Adult Sunday School (Zoom)
DESCRIPTION:
URL:https://fpcbentonville.org/event/adult-faith-building-class-zoom-3/
END:VEVENT
BEGIN:VEVENT
DTSTART;TZID=America/Chicago:20200913T113000
DTEND;TZID=America/Chicago:20200913T113000
DTSTAMP:20260425T171251
CREATED:20200821T152355Z
LAST-MODIFIED:20200821T152357Z
UID:1910-1599996600-1599996600@fpcbentonville.org
SUMMARY:Mission Committee Meeting (Zoom)
DESCRIPTION:
URL:https://fpcbentonville.org/event/mission-committee-meeting-zoom/
END:VEVENT
BEGIN:VEVENT
DTSTART;TZID=America/Chicago:20200913T101500
DTEND;TZID=America/Chicago:20200913T101500
DTSTAMP:20260425T171251
CREATED:20200812T175840Z
LAST-MODIFIED:20200814T161805Z
UID:1768-1599992100-1599992100@fpcbentonville.org
SUMMARY:Worship Service (Online)
DESCRIPTION:via Facebook and YouTube
URL:https://fpcbentonville.org/event/worship-service-12/
END:VEVENT
BEGIN:VEVENT
DTSTART;TZID=America/Chicago:20200912T090000
DTEND;TZID=America/Chicago:20200912T113000
DTSTAMP:20260425T171251
CREATED:20200812T191222Z
LAST-MODIFIED:20200812T194754Z
UID:1785-1599901200-1599910200@fpcbentonville.org
SUMMARY:FPC Food Pantry
DESCRIPTION:
URL:https://fpcbentonville.org/event/fpc-food-pantry-5/
END:VEVENT
BEGIN:VEVENT
DTSTART;TZID=America/Chicago:20200912T083000
DTEND;TZID=America/Chicago:20200912T130000
DTSTAMP:20260425T171251
CREATED:20200826T180032Z
LAST-MODIFIED:20200826T180034Z
UID:1943-1599899400-1599915600@fpcbentonville.org
SUMMARY:Happyfeet Youth Soccer Practice (North Field)
DESCRIPTION:
URL:https://fpcbentonville.org/event/happyfeet-youth-soccer-practice-north-field-9/
END:VEVENT
BEGIN:VEVENT
DTSTART;TZID=America/Chicago:20200911T080000
DTEND;TZID=America/Chicago:20200911T100000
DTSTAMP:20260425T171251
CREATED:20200814T163656Z
LAST-MODIFIED:20200814T163659Z
UID:1833-1599811200-1599818400@fpcbentonville.org
SUMMARY:Pantry Packers
DESCRIPTION:
URL:https://fpcbentonville.org/event/pantry-packers-5/
END:VEVENT
BEGIN:VEVENT
DTSTART;TZID=America/Chicago:20200910T093000
DTEND;TZID=America/Chicago:20200910T093000
DTSTAMP:20260425T171251
CREATED:20200821T150421Z
LAST-MODIFIED:20200821T150423Z
UID:1907-1599730200-1599730200@fpcbentonville.org
SUMMARY:Presbyterian Women Bible Study (Zoom)
DESCRIPTION:
URL:https://fpcbentonville.org/event/presbyterian-women-bible-study-zoom/
END:VEVENT
BEGIN:VEVENT
DTSTART;TZID=America/Chicago:20200909T183000
DTEND;TZID=America/Chicago:20200909T183000
DTSTAMP:20260425T171251
CREATED:20200819T184759Z
LAST-MODIFIED:20200819T184801Z
UID:1893-1599676200-1599676200@fpcbentonville.org
SUMMARY:Adult Faith Building Class (Zoom)
DESCRIPTION:
URL:https://fpcbentonville.org/event/adult-faith-building-class-zoom-2/
END:VEVENT
BEGIN:VEVENT
DTSTART;TZID=America/Chicago:20200909T163000
DTEND;TZID=America/Chicago:20200909T183000
DTSTAMP:20260425T171251
CREATED:20200826T175056Z
LAST-MODIFIED:20200826T175058Z
UID:1929-1599669000-1599676200@fpcbentonville.org
SUMMARY:Happyfeet Youth Soccer Practice (North Field)
DESCRIPTION:
URL:https://fpcbentonville.org/event/happyfeet-youth-soccer-practice-north-field-2/
END:VEVENT
BEGIN:VEVENT
DTSTART;TZID=America/Chicago:20200908T103000
DTEND;TZID=America/Chicago:20200908T113000
DTSTAMP:20260425T171251
CREATED:20200812T175637Z
LAST-MODIFIED:20200812T175639Z
UID:1766-1599561000-1599564600@fpcbentonville.org
SUMMARY:Staff Meeting
DESCRIPTION:
URL:https://fpcbentonville.org/event/staff-meeting-2/
END:VEVENT
BEGIN:VEVENT
DTSTART;TZID=America/Chicago:20200907T080000
DTEND;TZID=America/Chicago:20200907T170000
DTSTAMP:20260425T171251
CREATED:20200814T164857Z
LAST-MODIFIED:20200814T164859Z
UID:1839-1599465600-1599498000@fpcbentonville.org
SUMMARY:Labor Day Church and My Friends and Me Learning Center Closed
DESCRIPTION:
URL:https://fpcbentonville.org/event/labor-day-church-and-my-friends-and-me-learning-center-closed/
END:VEVENT
BEGIN:VEVENT
DTSTART;TZID=America/Chicago:20200906T190000
DTEND;TZID=America/Chicago:20200906T190000
DTSTAMP:20260425T171251
CREATED:20200819T175027Z
LAST-MODIFIED:20200819T175029Z
UID:1879-1599418800-1599418800@fpcbentonville.org
SUMMARY:Evening Vespers (outdoors)
DESCRIPTION:
URL:https://fpcbentonville.org/event/evening-vespers-outdoors/
END:VEVENT
BEGIN:VEVENT
DTSTART;TZID=America/Chicago:20200906T101500
DTEND;TZID=America/Chicago:20200906T101500
DTSTAMP:20260425T171251
CREATED:20200812T175520Z
LAST-MODIFIED:20200814T161654Z
UID:1764-1599387300-1599387300@fpcbentonville.org
SUMMARY:Worship with The Lord's Supper (Online)
DESCRIPTION:via Facebook and YouTube
URL:https://fpcbentonville.org/event/worship-with-the-lords-supper-2/
END:VEVENT
END:VCALENDAR