BEGIN:VCALENDAR
VERSION:2.0
PRODID:-//First Presbyterian Church, Bentonville - ECPv6.15.20//NONSGML v1.0//EN
CALSCALE:GREGORIAN
METHOD:PUBLISH
X-WR-CALNAME:First Presbyterian Church, Bentonville
X-ORIGINAL-URL:https://fpcbentonville.org
X-WR-CALDESC:Events for First Presbyterian Church, Bentonville
REFRESH-INTERVAL;VALUE=DURATION:PT1H
X-Robots-Tag:noindex
X-PUBLISHED-TTL:PT1H
BEGIN:VTIMEZONE
TZID:America/Chicago
BEGIN:DAYLIGHT
TZOFFSETFROM:-0600
TZOFFSETTO:-0500
TZNAME:CDT
DTSTART:20190310T080000
END:DAYLIGHT
BEGIN:STANDARD
TZOFFSETFROM:-0500
TZOFFSETTO:-0600
TZNAME:CST
DTSTART:20191103T070000
END:STANDARD
BEGIN:DAYLIGHT
TZOFFSETFROM:-0600
TZOFFSETTO:-0500
TZNAME:CDT
DTSTART:20200308T080000
END:DAYLIGHT
BEGIN:STANDARD
TZOFFSETFROM:-0500
TZOFFSETTO:-0600
TZNAME:CST
DTSTART:20201101T070000
END:STANDARD
BEGIN:DAYLIGHT
TZOFFSETFROM:-0600
TZOFFSETTO:-0500
TZNAME:CDT
DTSTART:20210314T080000
END:DAYLIGHT
BEGIN:STANDARD
TZOFFSETFROM:-0500
TZOFFSETTO:-0600
TZNAME:CST
DTSTART:20211107T070000
END:STANDARD
END:VTIMEZONE
BEGIN:VEVENT
DTSTART;TZID=America/Chicago:20200813T174500
DTEND;TZID=America/Chicago:20200813T174500
DTSTAMP:20260424T084335
CREATED:20200813T200255Z
LAST-MODIFIED:20200814T151602Z
UID:1793-1597340700-1597340700@fpcbentonville.org
SUMMARY:Stewardship Committee (Zoom)
DESCRIPTION:via Zoom
URL:https://fpcbentonville.org/event/stewardship-committee/
END:VEVENT
BEGIN:VEVENT
DTSTART;TZID=America/Chicago:20200628T101500
DTEND;TZID=America/Chicago:20200628T101500
DTSTAMP:20260424T084335
CREATED:20200430T131256Z
LAST-MODIFIED:20200704T192232Z
UID:1272-1593339300-1593339300@fpcbentonville.org
SUMMARY:Worship Service
DESCRIPTION:
URL:https://fpcbentonville.org/event/worship-service-8/
CATEGORIES:Worship
END:VEVENT
BEGIN:VEVENT
DTSTART;TZID=America/Chicago:20200621T051500
DTEND;TZID=America/Chicago:20200621T051500
DTSTAMP:20260424T084335
CREATED:20200430T131220Z
LAST-MODIFIED:20200430T131230Z
UID:1270-1592716500-1592716500@fpcbentonville.org
SUMMARY:Worship Service
DESCRIPTION:
URL:https://fpcbentonville.org/event/worship-service-7/
CATEGORIES:Worship
END:VEVENT
BEGIN:VEVENT
DTSTART;TZID=America/Chicago:20200614T051500
DTEND;TZID=America/Chicago:20200614T051500
DTSTAMP:20260424T084335
CREATED:20200430T131128Z
LAST-MODIFIED:20200430T131138Z
UID:1267-1592111700-1592111700@fpcbentonville.org
SUMMARY:Worship Service
DESCRIPTION:
URL:https://fpcbentonville.org/event/worship-service-6/
CATEGORIES:Worship
END:VEVENT
BEGIN:VEVENT
DTSTART;TZID=America/Chicago:20200607T051500
DTEND;TZID=America/Chicago:20200607T051500
DTSTAMP:20260424T084335
CREATED:20200430T130733Z
LAST-MODIFIED:20200430T131153Z
UID:1265-1591506900-1591506900@fpcbentonville.org
SUMMARY:Worship Service with the Lord's Supper
DESCRIPTION:
URL:https://fpcbentonville.org/event/worship-service-5/
CATEGORIES:Worship
END:VEVENT
BEGIN:VEVENT
DTSTART;TZID=America/Chicago:20200531T051500
DTEND;TZID=America/Chicago:20200531T051500
DTSTAMP:20260424T084335
CREATED:20200430T130703Z
LAST-MODIFIED:20200430T130849Z
UID:1263-1590902100-1590902100@fpcbentonville.org
SUMMARY:Worship Service
DESCRIPTION:
URL:https://fpcbentonville.org/event/worship-service-4/
CATEGORIES:Worship
END:VEVENT
BEGIN:VEVENT
DTSTART;TZID=America/Chicago:20200524T051500
DTEND;TZID=America/Chicago:20200524T051500
DTSTAMP:20260424T084335
CREATED:20200430T130628Z
LAST-MODIFIED:20200430T130849Z
UID:1261-1590297300-1590297300@fpcbentonville.org
SUMMARY:Worship Service
DESCRIPTION:
URL:https://fpcbentonville.org/event/worship-service-3/
CATEGORIES:Worship
END:VEVENT
BEGIN:VEVENT
DTSTART;TZID=America/Chicago:20200517T051500
DTEND;TZID=America/Chicago:20200517T051500
DTSTAMP:20260424T084335
CREATED:20200430T130546Z
LAST-MODIFIED:20200430T130849Z
UID:1259-1589692500-1589692500@fpcbentonville.org
SUMMARY:Worship Service
DESCRIPTION:
URL:https://fpcbentonville.org/event/worship-service-2/
CATEGORIES:Worship
END:VEVENT
BEGIN:VEVENT
DTSTART;TZID=America/Chicago:20200510T051500
DTEND;TZID=America/Chicago:20200510T051500
DTSTAMP:20260424T084335
CREATED:20200430T130414Z
LAST-MODIFIED:20200430T130849Z
UID:1257-1589087700-1589087700@fpcbentonville.org
SUMMARY:Worship Service
DESCRIPTION:
URL:https://fpcbentonville.org/event/worship-service/
CATEGORIES:Worship
END:VEVENT
BEGIN:VEVENT
DTSTART;TZID=America/Chicago:20200503T051500
DTEND;TZID=America/Chicago:20200503T051500
DTSTAMP:20260424T084335
CREATED:20200430T130317Z
LAST-MODIFIED:20200430T130849Z
UID:1255-1588482900-1588482900@fpcbentonville.org
SUMMARY:Worship Service with the Lord's Supper
DESCRIPTION:
URL:https://fpcbentonville.org/event/worship-service-with-the-lords-supper/
CATEGORIES:Worship
END:VEVENT
BEGIN:VEVENT
DTSTART;TZID=America/Chicago:20200414T183000
DTEND;TZID=America/Chicago:20200414T183000
DTSTAMP:20260424T084335
CREATED:20200414T200247Z
LAST-MODIFIED:20200414T200248Z
UID:1028-1586889000-1586889000@fpcbentonville.org
SUMMARY:Communications Committee
DESCRIPTION:
URL:https://fpcbentonville.org/event/communications-committee/
END:VEVENT
END:VCALENDAR