BEGIN:VCALENDAR
VERSION:2.0
PRODID:-//First Presbyterian Church, Bentonville - ECPv6.15.20//NONSGML v1.0//EN
CALSCALE:GREGORIAN
METHOD:PUBLISH
X-WR-CALNAME:First Presbyterian Church, Bentonville
X-ORIGINAL-URL:https://fpcbentonville.org
X-WR-CALDESC:Events for First Presbyterian Church, Bentonville
REFRESH-INTERVAL;VALUE=DURATION:PT1H
X-Robots-Tag:noindex
X-PUBLISHED-TTL:PT1H
BEGIN:VTIMEZONE
TZID:America/Chicago
BEGIN:DAYLIGHT
TZOFFSETFROM:-0600
TZOFFSETTO:-0500
TZNAME:CDT
DTSTART:20230312T080000
END:DAYLIGHT
BEGIN:STANDARD
TZOFFSETFROM:-0500
TZOFFSETTO:-0600
TZNAME:CST
DTSTART:20231105T070000
END:STANDARD
BEGIN:DAYLIGHT
TZOFFSETFROM:-0600
TZOFFSETTO:-0500
TZNAME:CDT
DTSTART:20240310T080000
END:DAYLIGHT
BEGIN:STANDARD
TZOFFSETFROM:-0500
TZOFFSETTO:-0600
TZNAME:CST
DTSTART:20241103T070000
END:STANDARD
BEGIN:DAYLIGHT
TZOFFSETFROM:-0600
TZOFFSETTO:-0500
TZNAME:CDT
DTSTART:20250309T080000
END:DAYLIGHT
BEGIN:STANDARD
TZOFFSETFROM:-0500
TZOFFSETTO:-0600
TZNAME:CST
DTSTART:20251102T070000
END:STANDARD
BEGIN:DAYLIGHT
TZOFFSETFROM:-0600
TZOFFSETTO:-0500
TZNAME:CDT
DTSTART:20260308T080000
END:DAYLIGHT
BEGIN:STANDARD
TZOFFSETFROM:-0500
TZOFFSETTO:-0600
TZNAME:CST
DTSTART:20261101T070000
END:STANDARD
END:VTIMEZONE
BEGIN:VEVENT
DTSTART;TZID=America/Chicago:20250426T090000
DTEND;TZID=America/Chicago:20250426T110000
DTSTAMP:20260423T204210
CREATED:20250325T201204Z
LAST-MODIFIED:20250325T201206Z
UID:7806-1745658000-1745665200@fpcbentonville.org
SUMMARY:FPC Food Pantry
DESCRIPTION:
URL:https://fpcbentonville.org/event/fpc-food-pantry-130/
END:VEVENT
BEGIN:VEVENT
DTSTART;TZID=America/Chicago:20250419T090000
DTEND;TZID=America/Chicago:20250419T110000
DTSTAMP:20260423T204210
CREATED:20250325T201128Z
LAST-MODIFIED:20250325T201130Z
UID:7804-1745053200-1745060400@fpcbentonville.org
SUMMARY:FPC Food Pantry
DESCRIPTION:
URL:https://fpcbentonville.org/event/fpc-food-pantry-129/
END:VEVENT
BEGIN:VEVENT
DTSTART;TZID=America/Chicago:20250412T090000
DTEND;TZID=America/Chicago:20250412T110000
DTSTAMP:20260423T204210
CREATED:20250325T201034Z
LAST-MODIFIED:20250325T201037Z
UID:7802-1744448400-1744455600@fpcbentonville.org
SUMMARY:FPC Food Pantry
DESCRIPTION:
URL:https://fpcbentonville.org/event/fpc-food-pantry-128/
END:VEVENT
BEGIN:VEVENT
DTSTART;TZID=America/Chicago:20250405T090000
DTEND;TZID=America/Chicago:20250405T110000
DTSTAMP:20260423T204210
CREATED:20250325T201002Z
LAST-MODIFIED:20250325T201004Z
UID:7800-1743843600-1743850800@fpcbentonville.org
SUMMARY:FPC Food Pantry
DESCRIPTION:
URL:https://fpcbentonville.org/event/fpc-food-pantry-127/
END:VEVENT
BEGIN:VEVENT
DTSTART;TZID=America/Chicago:20250402T183000
DTEND;TZID=America/Chicago:20250402T183000
DTSTAMP:20260423T204210
CREATED:20250325T205944Z
LAST-MODIFIED:20250325T205945Z
UID:7830-1743618600-1743618600@fpcbentonville.org
SUMMARY:Choir Practice
DESCRIPTION:
URL:https://fpcbentonville.org/event/choir-practice-52/
END:VEVENT
BEGIN:VEVENT
DTSTART;TZID=America/Chicago:20250330T101500
DTEND;TZID=America/Chicago:20250330T101500
DTSTAMP:20260423T204210
CREATED:20250325T203427Z
LAST-MODIFIED:20250325T203428Z
UID:7828-1743329700-1743329700@fpcbentonville.org
SUMMARY:Worship (Sanctuary and online via Facebook and YouTube)
DESCRIPTION:
URL:https://fpcbentonville.org/event/worship-sanctuary-and-online-via-facebook-and-youtube-147/
END:VEVENT
BEGIN:VEVENT
DTSTART;TZID=America/Chicago:20250330T090000
DTEND;TZID=America/Chicago:20250330T090000
DTSTAMP:20260423T204210
CREATED:20250325T203131Z
LAST-MODIFIED:20250325T203133Z
UID:7826-1743325200-1743325200@fpcbentonville.org
SUMMARY:Adult Bible Study (Library)
DESCRIPTION:
URL:https://fpcbentonville.org/event/adult-bible-study-library-108/
END:VEVENT
BEGIN:VEVENT
DTSTART;TZID=America/Chicago:20250329T090000
DTEND;TZID=America/Chicago:20250329T110000
DTSTAMP:20260423T204210
CREATED:20250325T200922Z
LAST-MODIFIED:20250325T200925Z
UID:7798-1743238800-1743246000@fpcbentonville.org
SUMMARY:FPC Food Pantry
DESCRIPTION:
URL:https://fpcbentonville.org/event/fpc-food-pantry-126/
END:VEVENT
BEGIN:VEVENT
DTSTART;TZID=America/Chicago:20250327T110000
DTEND;TZID=America/Chicago:20250327T110000
DTSTAMP:20260423T204210
CREATED:20250325T200449Z
LAST-MODIFIED:20250325T200452Z
UID:7796-1743073200-1743073200@fpcbentonville.org
SUMMARY:J.O.Y. (Just Older Youth) Group
DESCRIPTION:
URL:https://fpcbentonville.org/event/j-o-y-just-older-youth-group/
END:VEVENT
BEGIN:VEVENT
DTSTART;TZID=America/Chicago:20250327T093000
DTEND;TZID=America/Chicago:20250327T093000
DTSTAMP:20260423T204210
CREATED:20250325T200222Z
LAST-MODIFIED:20250325T200224Z
UID:7794-1743067800-1743067800@fpcbentonville.org
SUMMARY:Women of the Word (W.O.W) Bible Study
DESCRIPTION:
URL:https://fpcbentonville.org/event/women-of-the-word-w-o-w-bible-study/
END:VEVENT
BEGIN:VEVENT
DTSTART;TZID=America/Chicago:20250326T183000
DTEND;TZID=America/Chicago:20250326T183000
DTSTAMP:20260423T204210
CREATED:20250325T200108Z
LAST-MODIFIED:20250325T200111Z
UID:7792-1743013800-1743013800@fpcbentonville.org
SUMMARY:Choir Practice
DESCRIPTION:
URL:https://fpcbentonville.org/event/choir-practice-51/
END:VEVENT
BEGIN:VEVENT
DTSTART;TZID=America/Chicago:20241229T101500
DTEND;TZID=America/Chicago:20241229T101500
DTSTAMP:20260423T204210
CREATED:20241101T164739Z
LAST-MODIFIED:20241101T164741Z
UID:7602-1735467300-1735467300@fpcbentonville.org
SUMMARY:Worship (Sanctuary and online via Facebook and YouTube)
DESCRIPTION:
URL:https://fpcbentonville.org/event/worship-sanctuary-and-online-via-facebook-and-youtube-146/
END:VEVENT
BEGIN:VEVENT
DTSTART;TZID=America/Chicago:20241229T090000
DTEND;TZID=America/Chicago:20241229T090000
DTSTAMP:20260423T204210
CREATED:20241101T164126Z
LAST-MODIFIED:20241101T164128Z
UID:7592-1735462800-1735462800@fpcbentonville.org
SUMMARY:Adult Bible Study (Library)
DESCRIPTION:
URL:https://fpcbentonville.org/event/adult-bible-study-library-107/
END:VEVENT
BEGIN:VEVENT
DTSTART;TZID=America/Chicago:20241225T080000
DTEND;TZID=America/Chicago:20250101T170000
DTSTAMP:20260423T204210
CREATED:20241101T163454Z
LAST-MODIFIED:20241101T163457Z
UID:7579-1735113600-1735750800@fpcbentonville.org
SUMMARY:Church office closed
DESCRIPTION:
URL:https://fpcbentonville.org/event/church-office-closed-18/
END:VEVENT
BEGIN:VEVENT
DTSTART;TZID=America/Chicago:20241223T080000
DTEND;TZID=America/Chicago:20250101T170000
DTSTAMP:20260423T204210
CREATED:20241101T163625Z
LAST-MODIFIED:20241101T163628Z
UID:7581-1734940800-1735750800@fpcbentonville.org
SUMMARY:My Friends and Me Learning Center Closed
DESCRIPTION:
URL:https://fpcbentonville.org/event/my-friends-and-me-learning-center-closed-13/
END:VEVENT
BEGIN:VEVENT
DTSTART;TZID=America/Chicago:20241222T101500
DTEND;TZID=America/Chicago:20241222T101500
DTSTAMP:20260423T204210
CREATED:20241101T164703Z
LAST-MODIFIED:20241101T164705Z
UID:7600-1734862500-1734862500@fpcbentonville.org
SUMMARY:Worship (Sanctuary and online via Facebook and YouTube)
DESCRIPTION:
URL:https://fpcbentonville.org/event/worship-sanctuary-and-online-via-facebook-and-youtube-145/
END:VEVENT
BEGIN:VEVENT
DTSTART;TZID=America/Chicago:20241222T090000
DTEND;TZID=America/Chicago:20241222T090000
DTSTAMP:20260423T204210
CREATED:20241101T164028Z
LAST-MODIFIED:20241101T164030Z
UID:7590-1734858000-1734858000@fpcbentonville.org
SUMMARY:Adult Bible Study (Library)
DESCRIPTION:
URL:https://fpcbentonville.org/event/adult-bible-study-library-106/
END:VEVENT
BEGIN:VEVENT
DTSTART;TZID=America/Chicago:20241221T090000
DTEND;TZID=America/Chicago:20241221T110000
DTSTAMP:20260423T204210
CREATED:20240821T164331Z
LAST-MODIFIED:20240821T164333Z
UID:7336-1734771600-1734778800@fpcbentonville.org
SUMMARY:FPC Food Pantry
DESCRIPTION:
URL:https://fpcbentonville.org/event/fpc-food-pantry-125/
END:VEVENT
BEGIN:VEVENT
DTSTART;TZID=America/Chicago:20241215T101500
DTEND;TZID=America/Chicago:20241215T101500
DTSTAMP:20260423T204210
CREATED:20241101T164632Z
LAST-MODIFIED:20241101T164634Z
UID:7598-1734257700-1734257700@fpcbentonville.org
SUMMARY:Worship (Sanctuary and online via Facebook and YouTube)
DESCRIPTION:
URL:https://fpcbentonville.org/event/worship-sanctuary-and-online-via-facebook-and-youtube-144/
END:VEVENT
BEGIN:VEVENT
DTSTART;TZID=America/Chicago:20241215T090000
DTEND;TZID=America/Chicago:20241215T090000
DTSTAMP:20260423T204210
CREATED:20241101T163956Z
LAST-MODIFIED:20241101T163958Z
UID:7588-1734253200-1734253200@fpcbentonville.org
SUMMARY:Adult Bible Study (Library)
DESCRIPTION:
URL:https://fpcbentonville.org/event/adult-bible-study-library-105/
END:VEVENT
BEGIN:VEVENT
DTSTART;TZID=America/Chicago:20241214T090000
DTEND;TZID=America/Chicago:20241214T110000
DTSTAMP:20260423T204210
CREATED:20240821T164114Z
LAST-MODIFIED:20240821T164116Z
UID:7334-1734166800-1734174000@fpcbentonville.org
SUMMARY:FPC Food Pantry
DESCRIPTION:
URL:https://fpcbentonville.org/event/fpc-food-pantry-124/
END:VEVENT
BEGIN:VEVENT
DTSTART;TZID=America/Chicago:20241208T160000
DTEND;TZID=America/Chicago:20241208T160000
DTSTAMP:20260423T204210
CREATED:20241101T183014Z
LAST-MODIFIED:20241101T183015Z
UID:7604-1733673600-1733673600@fpcbentonville.org
SUMMARY:Service of Solace (Sanctuary)
DESCRIPTION:
URL:https://fpcbentonville.org/event/service-of-solace-sanctuary-4/
END:VEVENT
BEGIN:VEVENT
DTSTART;TZID=America/Chicago:20241208T101500
DTEND;TZID=America/Chicago:20241208T101500
DTSTAMP:20260423T204210
CREATED:20241101T164553Z
LAST-MODIFIED:20241101T164555Z
UID:7596-1733652900-1733652900@fpcbentonville.org
SUMMARY:Worship (Sanctuary and online via Facebook and YouTube)
DESCRIPTION:
URL:https://fpcbentonville.org/event/worship-sanctuary-and-online-via-facebook-and-youtube-143/
END:VEVENT
BEGIN:VEVENT
DTSTART;TZID=America/Chicago:20241208T090000
DTEND;TZID=America/Chicago:20241208T090000
DTSTAMP:20260423T204210
CREATED:20241101T163923Z
LAST-MODIFIED:20241101T163924Z
UID:7586-1733648400-1733648400@fpcbentonville.org
SUMMARY:Adult Bible Study (Library)
DESCRIPTION:
URL:https://fpcbentonville.org/event/adult-bible-study-library-104/
END:VEVENT
BEGIN:VEVENT
DTSTART;TZID=America/Chicago:20241207T090000
DTEND;TZID=America/Chicago:20241207T110000
DTSTAMP:20260423T204210
CREATED:20240821T164033Z
LAST-MODIFIED:20240821T164036Z
UID:7332-1733562000-1733569200@fpcbentonville.org
SUMMARY:FPC Food Pantry
DESCRIPTION:
URL:https://fpcbentonville.org/event/fpc-food-pantry-123/
END:VEVENT
BEGIN:VEVENT
DTSTART;TZID=America/Chicago:20241201T101500
DTEND;TZID=America/Chicago:20241201T101500
DTSTAMP:20260423T204210
CREATED:20241101T164511Z
LAST-MODIFIED:20241101T164513Z
UID:7594-1733048100-1733048100@fpcbentonville.org
SUMMARY:Worship with the Lord's Supper (Sanctuary and online via Facebook and YouTube)
DESCRIPTION:
URL:https://fpcbentonville.org/event/worship-with-the-lords-supper-sanctuary-and-online-via-facebook-and-youtube-31/
END:VEVENT
BEGIN:VEVENT
DTSTART;TZID=America/Chicago:20241201T101500
DTEND;TZID=America/Chicago:20241201T101500
DTSTAMP:20260423T204210
CREATED:20240514T205537Z
LAST-MODIFIED:20240514T205539Z
UID:6991-1733048100-1733048100@fpcbentonville.org
SUMMARY:Worship with the Lord's Supper (Sanctuary and online via Facebook and YouTube)
DESCRIPTION:
URL:https://fpcbentonville.org/event/worship-with-the-lords-supper-sanctuary-and-online-via-facebook-and-youtube-30/
END:VEVENT
BEGIN:VEVENT
DTSTART;TZID=America/Chicago:20241201T090000
DTEND;TZID=America/Chicago:20241201T090000
DTSTAMP:20260423T204210
CREATED:20241101T163816Z
LAST-MODIFIED:20241101T163853Z
UID:7583-1733043600-1733043600@fpcbentonville.org
SUMMARY:Adult Bible Study (Library)
DESCRIPTION:
URL:https://fpcbentonville.org/event/adult-bible-study-23/
END:VEVENT
BEGIN:VEVENT
DTSTART;TZID=America/Chicago:20241128T080000
DTEND;TZID=America/Chicago:20241129T170000
DTSTAMP:20260423T204210
CREATED:20241101T163159Z
LAST-MODIFIED:20241101T163200Z
UID:7575-1732780800-1732899600@fpcbentonville.org
SUMMARY:Church office closed
DESCRIPTION:
URL:https://fpcbentonville.org/event/church-office-closed-17/
END:VEVENT
BEGIN:VEVENT
DTSTART;TZID=America/Chicago:20241125T080000
DTEND;TZID=America/Chicago:20241129T170000
DTSTAMP:20260423T204210
CREATED:20241101T163301Z
LAST-MODIFIED:20241101T163302Z
UID:7577-1732521600-1732899600@fpcbentonville.org
SUMMARY:My Friends and Me Learning Center Closed
DESCRIPTION:
URL:https://fpcbentonville.org/event/my-friends-and-me-learning-center-closed-12/
END:VEVENT
END:VCALENDAR