BEGIN:VCALENDAR
VERSION:2.0
PRODID:-//First Presbyterian Church, Bentonville - ECPv6.15.20//NONSGML v1.0//EN
CALSCALE:GREGORIAN
METHOD:PUBLISH
X-WR-CALNAME:First Presbyterian Church, Bentonville
X-ORIGINAL-URL:https://fpcbentonville.org
X-WR-CALDESC:Events for First Presbyterian Church, Bentonville
REFRESH-INTERVAL;VALUE=DURATION:PT1H
X-Robots-Tag:noindex
X-PUBLISHED-TTL:PT1H
BEGIN:VTIMEZONE
TZID:America/Chicago
BEGIN:DAYLIGHT
TZOFFSETFROM:-0600
TZOFFSETTO:-0500
TZNAME:CDT
DTSTART:20240310T080000
END:DAYLIGHT
BEGIN:STANDARD
TZOFFSETFROM:-0500
TZOFFSETTO:-0600
TZNAME:CST
DTSTART:20241103T070000
END:STANDARD
BEGIN:DAYLIGHT
TZOFFSETFROM:-0600
TZOFFSETTO:-0500
TZNAME:CDT
DTSTART:20250309T080000
END:DAYLIGHT
BEGIN:STANDARD
TZOFFSETFROM:-0500
TZOFFSETTO:-0600
TZNAME:CST
DTSTART:20251102T070000
END:STANDARD
BEGIN:DAYLIGHT
TZOFFSETFROM:-0600
TZOFFSETTO:-0500
TZNAME:CDT
DTSTART:20260308T080000
END:DAYLIGHT
BEGIN:STANDARD
TZOFFSETFROM:-0500
TZOFFSETTO:-0600
TZNAME:CST
DTSTART:20261101T070000
END:STANDARD
END:VTIMEZONE
BEGIN:VEVENT
DTSTART;TZID=America/Chicago:20250608T101500
DTEND;TZID=America/Chicago:20250608T101500
DTSTAMP:20260423T175320
CREATED:20250502T194639Z
LAST-MODIFIED:20250502T194640Z
UID:7912-1749377700-1749377700@fpcbentonville.org
SUMMARY:Worship (in person and online via Facebook and YouTube)
DESCRIPTION:
URL:https://fpcbentonville.org/event/worship-in-person-and-online-via-facebook-and-youtube-4/
END:VEVENT
BEGIN:VEVENT
DTSTART;TZID=America/Chicago:20250608T090000
DTEND;TZID=America/Chicago:20250608T090000
DTSTAMP:20260423T175320
CREATED:20250502T192138Z
LAST-MODIFIED:20250502T192140Z
UID:7873-1749373200-1749373200@fpcbentonville.org
SUMMARY:Adult Bible Study (Library)
DESCRIPTION:
URL:https://fpcbentonville.org/event/adult-bible-study-library-115/
END:VEVENT
BEGIN:VEVENT
DTSTART;TZID=America/Chicago:20250607T090000
DTEND;TZID=America/Chicago:20250607T110000
DTSTAMP:20260423T175320
CREATED:20250325T201901Z
LAST-MODIFIED:20250325T201904Z
UID:7818-1749286800-1749294000@fpcbentonville.org
SUMMARY:FPC Food Pantry
DESCRIPTION:
URL:https://fpcbentonville.org/event/fpc-food-pantry-136/
END:VEVENT
BEGIN:VEVENT
DTSTART;TZID=America/Chicago:20250601T101500
DTEND;TZID=America/Chicago:20250601T101500
DTSTAMP:20260423T175320
CREATED:20250502T194607Z
LAST-MODIFIED:20250502T194608Z
UID:7910-1748772900-1748772900@fpcbentonville.org
SUMMARY:Worship with the Sacrament of the Lord's Supper (in person and online via Facebook and YouTube)
DESCRIPTION:
URL:https://fpcbentonville.org/event/worship-with-the-sacrament-of-the-lords-supper-in-person-and-online-via-facebook-and-youtube/
END:VEVENT
BEGIN:VEVENT
DTSTART;TZID=America/Chicago:20250601T090000
DTEND;TZID=America/Chicago:20250601T090000
DTSTAMP:20260423T175320
CREATED:20250502T192107Z
LAST-MODIFIED:20250502T192108Z
UID:7871-1748768400-1748768400@fpcbentonville.org
SUMMARY:Adult Bible Study (Library)
DESCRIPTION:
URL:https://fpcbentonville.org/event/adult-bible-study-library-114/
END:VEVENT
BEGIN:VEVENT
DTSTART;TZID=America/Chicago:20250531T090000
DTEND;TZID=America/Chicago:20250531T110000
DTSTAMP:20260423T175320
CREATED:20250325T201616Z
LAST-MODIFIED:20250325T201618Z
UID:7816-1748682000-1748689200@fpcbentonville.org
SUMMARY:FPC Food Pantry
DESCRIPTION:
URL:https://fpcbentonville.org/event/fpc-food-pantry-135/
END:VEVENT
BEGIN:VEVENT
DTSTART;TZID=America/Chicago:20250531T000000
DTEND;TZID=America/Chicago:20250531T235959
DTSTAMP:20260423T175320
CREATED:20250502T204109Z
LAST-MODIFIED:20250502T204110Z
UID:7986-1748649600-1748735999@fpcbentonville.org
SUMMARY:Presbytery of Arkansas Meeting (Ferncliff)
DESCRIPTION:
URL:https://fpcbentonville.org/event/presbytery-of-arkansas-meeting-ferncliff/
END:VEVENT
BEGIN:VEVENT
DTSTART;TZID=America/Chicago:20250529T090000
DTEND;TZID=America/Chicago:20250529T090000
DTSTAMP:20260423T175320
CREATED:20250502T204023Z
LAST-MODIFIED:20250502T204024Z
UID:7984-1748509200-1748509200@fpcbentonville.org
SUMMARY:Women of the Word (W.O.W.) Bible Study
DESCRIPTION:
URL:https://fpcbentonville.org/event/women-of-the-word-w-o-w-bible-study-3/
END:VEVENT
BEGIN:VEVENT
DTSTART;TZID=America/Chicago:20250527T180000
DTEND;TZID=America/Chicago:20250527T180000
DTSTAMP:20260423T175320
CREATED:20250502T203921Z
LAST-MODIFIED:20250502T203922Z
UID:7982-1748368800-1748368800@fpcbentonville.org
SUMMARY:Stated Session Meeting (Library)
DESCRIPTION:
URL:https://fpcbentonville.org/event/stated-session-meeting-library-12/
END:VEVENT
BEGIN:VEVENT
DTSTART;TZID=America/Chicago:20250526T000000
DTEND;TZID=America/Chicago:20250526T235959
DTSTAMP:20260423T175320
CREATED:20250502T203837Z
LAST-MODIFIED:20250502T203839Z
UID:7980-1748217600-1748303999@fpcbentonville.org
SUMMARY:Church Office Closed
DESCRIPTION:
URL:https://fpcbentonville.org/event/church-office-closed-19/
END:VEVENT
BEGIN:VEVENT
DTSTART;TZID=America/Chicago:20250525T101500
DTEND;TZID=America/Chicago:20250525T101500
DTSTAMP:20260423T175320
CREATED:20250502T194518Z
LAST-MODIFIED:20250502T194519Z
UID:7908-1748168100-1748168100@fpcbentonville.org
SUMMARY:Worship (in person and online via Facebook and YouTube)
DESCRIPTION:
URL:https://fpcbentonville.org/event/worship-in-person-and-online-via-facebook-and-youtube-3/
END:VEVENT
BEGIN:VEVENT
DTSTART;TZID=America/Chicago:20250525T090000
DTEND;TZID=America/Chicago:20250525T090000
DTSTAMP:20260423T175320
CREATED:20250502T191950Z
LAST-MODIFIED:20250502T191952Z
UID:7869-1748163600-1748163600@fpcbentonville.org
SUMMARY:Adult Bible Study (Library)
DESCRIPTION:
URL:https://fpcbentonville.org/event/adult-bible-study-library-113/
END:VEVENT
BEGIN:VEVENT
DTSTART;TZID=America/Chicago:20250524T090000
DTEND;TZID=America/Chicago:20250524T110000
DTSTAMP:20260423T175320
CREATED:20250325T201515Z
LAST-MODIFIED:20250325T201517Z
UID:7814-1748077200-1748084400@fpcbentonville.org
SUMMARY:FPC Food Pantry
DESCRIPTION:
URL:https://fpcbentonville.org/event/fpc-food-pantry-134/
END:VEVENT
BEGIN:VEVENT
DTSTART;TZID=America/Chicago:20250522T180000
DTEND;TZID=America/Chicago:20250522T180000
DTSTAMP:20260423T175320
CREATED:20250502T203720Z
LAST-MODIFIED:20250502T203759Z
UID:7977-1747936800-1747936800@fpcbentonville.org
SUMMARY:Elizabeth Circle (Library)
DESCRIPTION:
URL:https://fpcbentonville.org/event/elizabeth-circle/
END:VEVENT
BEGIN:VEVENT
DTSTART;TZID=America/Chicago:20250522T110000
DTEND;TZID=America/Chicago:20250522T110000
DTSTAMP:20260423T175320
CREATED:20250502T203639Z
LAST-MODIFIED:20250502T203640Z
UID:7975-1747911600-1747911600@fpcbentonville.org
SUMMARY:J.O.Y. Life Group (Library)
DESCRIPTION:
URL:https://fpcbentonville.org/event/j-o-y-life-group-library/
END:VEVENT
BEGIN:VEVENT
DTSTART;TZID=America/Chicago:20250522T093000
DTEND;TZID=America/Chicago:20250522T093000
DTSTAMP:20260423T175320
CREATED:20250502T203600Z
LAST-MODIFIED:20250502T203602Z
UID:7973-1747906200-1747906200@fpcbentonville.org
SUMMARY:Women of the Word (W.O.W.) Bible Study (Bird's Eye Room)
DESCRIPTION:
URL:https://fpcbentonville.org/event/women-of-the-word-w-o-w-bible-study-birds-eye-room/
END:VEVENT
BEGIN:VEVENT
DTSTART;TZID=America/Chicago:20250521T113000
DTEND;TZID=America/Chicago:20250521T113000
DTSTAMP:20260423T175320
CREATED:20250502T203240Z
LAST-MODIFIED:20250502T203242Z
UID:7971-1747827000-1747827000@fpcbentonville.org
SUMMARY:Choir Practice
DESCRIPTION:
URL:https://fpcbentonville.org/event/choir-practice-55/
END:VEVENT
BEGIN:VEVENT
DTSTART;TZID=America/Chicago:20250518T113000
DTEND;TZID=America/Chicago:20250518T113000
DTSTAMP:20260423T175320
CREATED:20250502T203150Z
LAST-MODIFIED:20250502T203151Z
UID:7969-1747567800-1747567800@fpcbentonville.org
SUMMARY:Deacons Meeting (Library)
DESCRIPTION:
URL:https://fpcbentonville.org/event/deacons-meeting-library-6/
END:VEVENT
BEGIN:VEVENT
DTSTART;TZID=America/Chicago:20250518T113000
DTEND;TZID=America/Chicago:20250518T113000
DTSTAMP:20260423T175320
CREATED:20250502T203109Z
LAST-MODIFIED:20250502T203110Z
UID:7967-1747567800-1747567800@fpcbentonville.org
SUMMARY:Handbell Rehearsal
DESCRIPTION:
URL:https://fpcbentonville.org/event/handbell-rehearsal-16/
END:VEVENT
BEGIN:VEVENT
DTSTART;TZID=America/Chicago:20250518T101500
DTEND;TZID=America/Chicago:20250518T101500
DTSTAMP:20260423T175320
CREATED:20250502T194445Z
LAST-MODIFIED:20250502T194447Z
UID:7906-1747563300-1747563300@fpcbentonville.org
SUMMARY:Worship (in person and online via Facebook and YouTube)
DESCRIPTION:
URL:https://fpcbentonville.org/event/worship-in-person-and-online-via-facebook-and-youtube-2/
END:VEVENT
BEGIN:VEVENT
DTSTART;TZID=America/Chicago:20250518T090000
DTEND;TZID=America/Chicago:20250518T090000
DTSTAMP:20260423T175320
CREATED:20250502T191438Z
LAST-MODIFIED:20250502T191440Z
UID:7865-1747558800-1747558800@fpcbentonville.org
SUMMARY:Adult Bible Study (Library)
DESCRIPTION:
URL:https://fpcbentonville.org/event/adult-bible-study-library-111/
END:VEVENT
BEGIN:VEVENT
DTSTART;TZID=America/Chicago:20250517T090000
DTEND;TZID=America/Chicago:20250517T110000
DTSTAMP:20260423T175320
CREATED:20250325T201432Z
LAST-MODIFIED:20250325T201434Z
UID:7812-1747472400-1747479600@fpcbentonville.org
SUMMARY:FPC Food Pantry
DESCRIPTION:
URL:https://fpcbentonville.org/event/fpc-food-pantry-133/
END:VEVENT
BEGIN:VEVENT
DTSTART;TZID=America/Chicago:20250515T093000
DTEND;TZID=America/Chicago:20250515T093000
DTSTAMP:20260423T175320
CREATED:20250502T202415Z
LAST-MODIFIED:20250502T202416Z
UID:7962-1747301400-1747301400@fpcbentonville.org
SUMMARY:Women of the Word (W.O.W) Bible Study
DESCRIPTION:
URL:https://fpcbentonville.org/event/women-of-the-word-w-o-w-bible-study-2/
END:VEVENT
BEGIN:VEVENT
DTSTART;TZID=America/Chicago:20250514T183000
DTEND;TZID=America/Chicago:20250514T183000
DTSTAMP:20260423T175320
CREATED:20250502T202322Z
LAST-MODIFIED:20250502T202324Z
UID:7960-1747247400-1747247400@fpcbentonville.org
SUMMARY:Choir Practice
DESCRIPTION:
URL:https://fpcbentonville.org/event/choir-practice-54/
END:VEVENT
BEGIN:VEVENT
DTSTART;TZID=America/Chicago:20250511T113000
DTEND;TZID=America/Chicago:20250511T113000
DTSTAMP:20260423T175320
CREATED:20250502T202251Z
LAST-MODIFIED:20250502T202253Z
UID:7958-1746963000-1746963000@fpcbentonville.org
SUMMARY:Handbell Rehearsal
DESCRIPTION:
URL:https://fpcbentonville.org/event/handbell-rehearsal-15/
END:VEVENT
BEGIN:VEVENT
DTSTART;TZID=America/Chicago:20250511T101500
DTEND;TZID=America/Chicago:20250511T101500
DTSTAMP:20260423T175320
CREATED:20250502T194419Z
LAST-MODIFIED:20250502T194421Z
UID:7904-1746958500-1746958500@fpcbentonville.org
SUMMARY:Worship (in person and online via Facebook and YouTube)
DESCRIPTION:
URL:https://fpcbentonville.org/event/worship-in-person-and-online-via-facebook-and-youtube/
END:VEVENT
BEGIN:VEVENT
DTSTART;TZID=America/Chicago:20250511T090000
DTEND;TZID=America/Chicago:20250511T090000
DTSTAMP:20260423T175320
CREATED:20250502T191403Z
LAST-MODIFIED:20250502T191405Z
UID:7863-1746954000-1746954000@fpcbentonville.org
SUMMARY:Adult Bible Study (Library)
DESCRIPTION:
URL:https://fpcbentonville.org/event/adult-bible-study-library-110/
END:VEVENT
BEGIN:VEVENT
DTSTART;TZID=America/Chicago:20250510T090000
DTEND;TZID=America/Chicago:20250510T110000
DTSTAMP:20260423T175320
CREATED:20250325T201340Z
LAST-MODIFIED:20250325T201342Z
UID:7810-1746867600-1746874800@fpcbentonville.org
SUMMARY:FPC Food Pantry
DESCRIPTION:
URL:https://fpcbentonville.org/event/fpc-food-pantry-132/
END:VEVENT
BEGIN:VEVENT
DTSTART;TZID=America/Chicago:20250508T093000
DTEND;TZID=America/Chicago:20250508T093000
DTSTAMP:20260423T175320
CREATED:20250502T202532Z
LAST-MODIFIED:20250502T202639Z
UID:7964-1746696600-1746696600@fpcbentonville.org
SUMMARY:Men's Fellowship Group
DESCRIPTION:
URL:https://fpcbentonville.org/event/mens-fellowship-group/
END:VEVENT
BEGIN:VEVENT
DTSTART;TZID=America/Chicago:20250508T093000
DTEND;TZID=America/Chicago:20250508T093000
DTSTAMP:20260423T175320
CREATED:20250502T201931Z
LAST-MODIFIED:20250502T201933Z
UID:7952-1746696600-1746696600@fpcbentonville.org
SUMMARY:Rachel Circle (Bird's Eye Room)
DESCRIPTION:
URL:https://fpcbentonville.org/event/rachel-circle-birds-eye-room/
END:VEVENT
END:VCALENDAR