BEGIN:VCALENDAR
VERSION:2.0
PRODID:-//First Presbyterian Church, Bentonville - ECPv6.15.20//NONSGML v1.0//EN
CALSCALE:GREGORIAN
METHOD:PUBLISH
X-WR-CALNAME:First Presbyterian Church, Bentonville
X-ORIGINAL-URL:https://fpcbentonville.org
X-WR-CALDESC:Events for First Presbyterian Church, Bentonville
REFRESH-INTERVAL;VALUE=DURATION:PT1H
X-Robots-Tag:noindex
X-PUBLISHED-TTL:PT1H
BEGIN:VTIMEZONE
TZID:America/Chicago
BEGIN:DAYLIGHT
TZOFFSETFROM:-0600
TZOFFSETTO:-0500
TZNAME:CDT
DTSTART:20240310T080000
END:DAYLIGHT
BEGIN:STANDARD
TZOFFSETFROM:-0500
TZOFFSETTO:-0600
TZNAME:CST
DTSTART:20241103T070000
END:STANDARD
BEGIN:DAYLIGHT
TZOFFSETFROM:-0600
TZOFFSETTO:-0500
TZNAME:CDT
DTSTART:20250309T080000
END:DAYLIGHT
BEGIN:STANDARD
TZOFFSETFROM:-0500
TZOFFSETTO:-0600
TZNAME:CST
DTSTART:20251102T070000
END:STANDARD
BEGIN:DAYLIGHT
TZOFFSETFROM:-0600
TZOFFSETTO:-0500
TZNAME:CDT
DTSTART:20260308T080000
END:DAYLIGHT
BEGIN:STANDARD
TZOFFSETFROM:-0500
TZOFFSETTO:-0600
TZNAME:CST
DTSTART:20261101T070000
END:STANDARD
END:VTIMEZONE
BEGIN:VEVENT
DTSTART;TZID=America/Chicago:20250817T160000
DTEND;TZID=America/Chicago:20250817T160000
DTSTAMP:20260423T134825
CREATED:20250801T183537Z
LAST-MODIFIED:20250801T183540Z
UID:8301-1755446400-1755446400@fpcbentonville.org
SUMMARY:Youth Group Kick-Off Meeting with Parents
DESCRIPTION:
URL:https://fpcbentonville.org/event/youth-group-kick-off-meeting-with-parents/
END:VEVENT
BEGIN:VEVENT
DTSTART;TZID=America/Chicago:20250817T113000
DTEND;TZID=America/Chicago:20250817T113000
DTSTAMP:20260423T134825
CREATED:20250801T183451Z
LAST-MODIFIED:20250801T183454Z
UID:8299-1755430200-1755430200@fpcbentonville.org
SUMMARY:J St. Kids Kick-Off Meeting with Parents
DESCRIPTION:
URL:https://fpcbentonville.org/event/j-st-kids-kick-off-meeting-with-parents/
END:VEVENT
BEGIN:VEVENT
DTSTART;TZID=America/Chicago:20250817T113000
DTEND;TZID=America/Chicago:20250817T113000
DTSTAMP:20260423T134825
CREATED:20250801T183404Z
LAST-MODIFIED:20250801T183407Z
UID:8297-1755430200-1755430200@fpcbentonville.org
SUMMARY:Deacon Meeting (Library)
DESCRIPTION:
URL:https://fpcbentonville.org/event/deacon-meeting-library-9/
END:VEVENT
BEGIN:VEVENT
DTSTART;TZID=America/Chicago:20250817T101500
DTEND;TZID=America/Chicago:20250817T101500
DTSTAMP:20260423T134825
CREATED:20250502T200706Z
LAST-MODIFIED:20250502T200708Z
UID:7938-1755425700-1755425700@fpcbentonville.org
SUMMARY:Worship (in person and online via Facebook and YouTube)
DESCRIPTION:
URL:https://fpcbentonville.org/event/worship-in-person-and-online-via-facebook-and-youtube-13/
END:VEVENT
BEGIN:VEVENT
DTSTART;TZID=America/Chicago:20250817T091500
DTEND;TZID=America/Chicago:20250817T091500
DTSTAMP:20260423T134825
CREATED:20250801T183323Z
LAST-MODIFIED:20250801T183325Z
UID:8295-1755422100-1755422100@fpcbentonville.org
SUMMARY:Summer Choir
DESCRIPTION:
URL:https://fpcbentonville.org/event/summer-choir/
END:VEVENT
BEGIN:VEVENT
DTSTART;TZID=America/Chicago:20250816T090000
DTEND;TZID=America/Chicago:20250816T110000
DTSTAMP:20260423T134825
CREATED:20250801T184555Z
LAST-MODIFIED:20250801T184558Z
UID:8327-1755334800-1755342000@fpcbentonville.org
SUMMARY:FPC Food Pantry
DESCRIPTION:
URL:https://fpcbentonville.org/event/fpc-food-pantry-146/
END:VEVENT
BEGIN:VEVENT
DTSTART;TZID=America/Chicago:20250816T090000
DTEND;TZID=America/Chicago:20250816T090000
DTSTAMP:20260423T134825
CREATED:20250801T183041Z
LAST-MODIFIED:20250801T183043Z
UID:8293-1755334800-1755334800@fpcbentonville.org
SUMMARY:Preschool/PreK Playgroup (Park Springs Park)
DESCRIPTION:
URL:https://fpcbentonville.org/event/preschool-prek-playgroup-park-springs-park/
END:VEVENT
BEGIN:VEVENT
DTSTART;TZID=America/Chicago:20250814T093000
DTEND;TZID=America/Chicago:20250814T093000
DTSTAMP:20260423T134825
CREATED:20250801T182933Z
LAST-MODIFIED:20250801T182936Z
UID:8291-1755163800-1755163800@fpcbentonville.org
SUMMARY:Men's Fellowship (Library)
DESCRIPTION:
URL:https://fpcbentonville.org/event/mens-fellowship-library-11/
END:VEVENT
BEGIN:VEVENT
DTSTART;TZID=America/Chicago:20250810T113000
DTEND;TZID=America/Chicago:20250810T113000
DTSTAMP:20260423T134825
CREATED:20250801T182813Z
LAST-MODIFIED:20250801T182815Z
UID:8289-1754825400-1754825400@fpcbentonville.org
SUMMARY:Children's Ministry Open House
DESCRIPTION:
URL:https://fpcbentonville.org/event/childrens-ministry-open-house/
END:VEVENT
BEGIN:VEVENT
DTSTART;TZID=America/Chicago:20250810T111500
DTEND;TZID=America/Chicago:20250810T111500
DTSTAMP:20260423T134825
CREATED:20250801T182356Z
LAST-MODIFIED:20250801T182358Z
UID:8287-1754824500-1754824500@fpcbentonville.org
SUMMARY:Sandwich and Cookie Social (Welcome Hall)
DESCRIPTION:
URL:https://fpcbentonville.org/event/sandwich-and-cookie-social-welcome-hall/
END:VEVENT
BEGIN:VEVENT
DTSTART;TZID=America/Chicago:20250810T101500
DTEND;TZID=America/Chicago:20250810T101500
DTSTAMP:20260423T134825
CREATED:20250502T200512Z
LAST-MODIFIED:20250801T181932Z
UID:7936-1754820900-1754820900@fpcbentonville.org
SUMMARY:Worship with Guest Preacher Joel Gill\,(in person and online via Facebook and YouTube)
DESCRIPTION:
URL:https://fpcbentonville.org/event/worship-in-person-and-online-via-facebook-and-youtube-12/
END:VEVENT
BEGIN:VEVENT
DTSTART;TZID=America/Chicago:20250809T090000
DTEND;TZID=America/Chicago:20250809T110000
DTSTAMP:20260423T134825
CREATED:20250801T184503Z
LAST-MODIFIED:20250801T184506Z
UID:8325-1754730000-1754737200@fpcbentonville.org
SUMMARY:FPC Food Pantry
DESCRIPTION:
URL:https://fpcbentonville.org/event/fpc-food-pantry-144/
END:VEVENT
BEGIN:VEVENT
DTSTART;TZID=America/Chicago:20250803T180000
DTEND;TZID=America/Chicago:20250803T200000
DTSTAMP:20260423T134825
CREATED:20250801T181811Z
LAST-MODIFIED:20250801T181814Z
UID:8284-1754244000-1754251200@fpcbentonville.org
SUMMARY:FPC Night at the Amazeum
DESCRIPTION:
URL:https://fpcbentonville.org/event/fpc-night-at-the-amazeum-2/
END:VEVENT
BEGIN:VEVENT
DTSTART;TZID=America/Chicago:20250803T130000
DTEND;TZID=America/Chicago:20250803T130000
DTSTAMP:20260423T134825
CREATED:20250801T181720Z
LAST-MODIFIED:20250801T181722Z
UID:8282-1754226000-1754226000@fpcbentonville.org
SUMMARY:Youth Group
DESCRIPTION:
URL:https://fpcbentonville.org/event/youth-group-49/
END:VEVENT
BEGIN:VEVENT
DTSTART;TZID=America/Chicago:20250803T101500
DTEND;TZID=America/Chicago:20250803T101500
DTSTAMP:20260423T134825
CREATED:20250502T200427Z
LAST-MODIFIED:20250502T200429Z
UID:7934-1754216100-1754216100@fpcbentonville.org
SUMMARY:Worship with the Sacrament of the Lord's Supper (in person and online via Facebook and YouTube)
DESCRIPTION:
URL:https://fpcbentonville.org/event/worship-with-the-sacrament-of-the-lords-supper-in-person-and-online-via-facebook-and-youtube-3/
END:VEVENT
BEGIN:VEVENT
DTSTART;TZID=America/Chicago:20250802T090000
DTEND;TZID=America/Chicago:20250802T110000
DTSTAMP:20260423T134825
CREATED:20250801T184403Z
LAST-MODIFIED:20250801T184406Z
UID:8323-1754125200-1754132400@fpcbentonville.org
SUMMARY:FPC Food Pantry
DESCRIPTION:
URL:https://fpcbentonville.org/event/fpc-food-pantry-145/
END:VEVENT
BEGIN:VEVENT
DTSTART;TZID=America/Chicago:20250728T130000
DTEND;TZID=America/Chicago:20250728T180000
DTSTAMP:20260423T134825
CREATED:20250624T183540Z
LAST-MODIFIED:20250624T183542Z
UID:8223-1753707600-1753725600@fpcbentonville.org
SUMMARY:Red Cross Blood Drive
DESCRIPTION:
URL:https://fpcbentonville.org/event/red-cross-blood-drive/
END:VEVENT
BEGIN:VEVENT
DTSTART;TZID=America/Chicago:20250727T101500
DTEND;TZID=America/Chicago:20250727T101500
DTSTAMP:20260423T134825
CREATED:20250502T195946Z
LAST-MODIFIED:20250502T200300Z
UID:7929-1753611300-1753611300@fpcbentonville.org
SUMMARY:Worship (in person and online via Facebook and YouTube)
DESCRIPTION:
URL:https://fpcbentonville.org/event/worship-in-person-and-online-via-facebook-and-youtube-11/
END:VEVENT
BEGIN:VEVENT
DTSTART;TZID=America/Chicago:20250726T090000
DTEND;TZID=America/Chicago:20250726T110000
DTSTAMP:20260423T134825
CREATED:20250624T160036Z
LAST-MODIFIED:20250624T160038Z
UID:8180-1753520400-1753527600@fpcbentonville.org
SUMMARY:FPC Food Pantry
DESCRIPTION:
URL:https://fpcbentonville.org/event/fpc-food-pantry-143/
END:VEVENT
BEGIN:VEVENT
DTSTART;TZID=America/Chicago:20250724T110000
DTEND;TZID=America/Chicago:20250724T110000
DTSTAMP:20260423T134825
CREATED:20250624T183156Z
LAST-MODIFIED:20250624T183158Z
UID:8221-1753354800-1753354800@fpcbentonville.org
SUMMARY:J.O.Y. (Just Older Youth) Group (Library)
DESCRIPTION:
URL:https://fpcbentonville.org/event/j-o-y-just-older-youth-group-library/
END:VEVENT
BEGIN:VEVENT
DTSTART;TZID=America/Chicago:20250723T173000
DTEND;TZID=America/Chicago:20250723T173000
DTSTAMP:20260423T134825
CREATED:20250624T182821Z
LAST-MODIFIED:20250624T182823Z
UID:8219-1753291800-1753291800@fpcbentonville.org
SUMMARY:Family Faith Night (Fellowship Hall)
DESCRIPTION:
URL:https://fpcbentonville.org/event/family-faith-night-fellowship-hall-2/
END:VEVENT
BEGIN:VEVENT
DTSTART;TZID=America/Chicago:20250723T170000
DTEND;TZID=America/Chicago:20250723T170000
DTSTAMP:20260423T134825
CREATED:20250624T182732Z
LAST-MODIFIED:20250624T182733Z
UID:8217-1753290000-1753290000@fpcbentonville.org
SUMMARY:Stewardship Committee Meeting (Library)
DESCRIPTION:
URL:https://fpcbentonville.org/event/stewardship-committee-meeting-library/
END:VEVENT
BEGIN:VEVENT
DTSTART;TZID=America/Chicago:20250720T113000
DTEND;TZID=America/Chicago:20250720T113000
DTSTAMP:20260423T134825
CREATED:20250624T182336Z
LAST-MODIFIED:20250624T182338Z
UID:8215-1753011000-1753011000@fpcbentonville.org
SUMMARY:Deacon Meeting (Library)
DESCRIPTION:
URL:https://fpcbentonville.org/event/deacon-meeting-library-8/
END:VEVENT
BEGIN:VEVENT
DTSTART;TZID=America/Chicago:20250720T101500
DTEND;TZID=America/Chicago:20250720T101500
DTSTAMP:20260423T134825
CREATED:20250502T195740Z
LAST-MODIFIED:20250502T195741Z
UID:7927-1753006500-1753006500@fpcbentonville.org
SUMMARY:Worship (in person and online via Facebook and YouTube)
DESCRIPTION:
URL:https://fpcbentonville.org/event/worship-in-person-and-online-via-facebook-and-youtube-10/
END:VEVENT
BEGIN:VEVENT
DTSTART;TZID=America/Chicago:20250719T090000
DTEND;TZID=America/Chicago:20250719T110000
DTSTAMP:20260423T134825
CREATED:20250624T155948Z
LAST-MODIFIED:20250624T155950Z
UID:8178-1752915600-1752922800@fpcbentonville.org
SUMMARY:FPC Food Pantry
DESCRIPTION:
URL:https://fpcbentonville.org/event/fpc-food-pantry-142/
END:VEVENT
BEGIN:VEVENT
DTSTART;TZID=America/Chicago:20250716T173000
DTEND;TZID=America/Chicago:20250716T173000
DTSTAMP:20260423T134825
CREATED:20250624T182240Z
LAST-MODIFIED:20250624T182242Z
UID:8213-1752687000-1752687000@fpcbentonville.org
SUMMARY:Family Faith Night (Fellowship Hall)
DESCRIPTION:
URL:https://fpcbentonville.org/event/family-faith-night-fellowship-hall/
END:VEVENT
BEGIN:VEVENT
DTSTART;TZID=America/Chicago:20250716T093000
DTEND;TZID=America/Chicago:20250716T093000
DTSTAMP:20260423T134825
CREATED:20250624T182023Z
LAST-MODIFIED:20250624T182025Z
UID:8211-1752658200-1752658200@fpcbentonville.org
SUMMARY:My Friends and Me Committee Meeting (Bird's Eye Room)
DESCRIPTION:
URL:https://fpcbentonville.org/event/my-friends-and-me-committee-meeting-birds-eye-room-6/
END:VEVENT
BEGIN:VEVENT
DTSTART;TZID=America/Chicago:20250713T120000
DTEND;TZID=America/Chicago:20250713T120000
DTSTAMP:20260423T134825
CREATED:20250624T181746Z
LAST-MODIFIED:20250624T181748Z
UID:8207-1752408000-1752408000@fpcbentonville.org
SUMMARY:Composting Workshop
DESCRIPTION:
URL:https://fpcbentonville.org/event/composting-workshop/
END:VEVENT
BEGIN:VEVENT
DTSTART;TZID=America/Chicago:20250713T113000
DTEND;TZID=America/Chicago:20250713T113000
DTSTAMP:20260423T134825
CREATED:20250624T181832Z
LAST-MODIFIED:20250624T181834Z
UID:8209-1752406200-1752406200@fpcbentonville.org
SUMMARY:Ice Cream Social (Welcome Hall)
DESCRIPTION:
URL:https://fpcbentonville.org/event/ice-cream-social-welcome-hall-2/
END:VEVENT
BEGIN:VEVENT
DTSTART;TZID=America/Chicago:20250713T101500
DTEND;TZID=America/Chicago:20250713T101500
DTSTAMP:20260423T134825
CREATED:20250502T195433Z
LAST-MODIFIED:20250502T195434Z
UID:7925-1752401700-1752401700@fpcbentonville.org
SUMMARY:Worship (in person and online via Facebook and YouTube)
DESCRIPTION:
URL:https://fpcbentonville.org/event/worship-in-person-and-online-via-facebook-and-youtube-9/
END:VEVENT
END:VCALENDAR