BEGIN:VCALENDAR
VERSION:2.0
PRODID:-//First Presbyterian Church, Bentonville - ECPv6.15.20//NONSGML v1.0//EN
CALSCALE:GREGORIAN
METHOD:PUBLISH
X-ORIGINAL-URL:https://fpcbentonville.org
X-WR-CALDESC:Events for First Presbyterian Church, Bentonville
REFRESH-INTERVAL;VALUE=DURATION:PT1H
X-Robots-Tag:noindex
X-PUBLISHED-TTL:PT1H
BEGIN:VTIMEZONE
TZID:America/Chicago
BEGIN:DAYLIGHT
TZOFFSETFROM:-0600
TZOFFSETTO:-0500
TZNAME:CDT
DTSTART:20250309T080000
END:DAYLIGHT
BEGIN:STANDARD
TZOFFSETFROM:-0500
TZOFFSETTO:-0600
TZNAME:CST
DTSTART:20251102T070000
END:STANDARD
BEGIN:DAYLIGHT
TZOFFSETFROM:-0600
TZOFFSETTO:-0500
TZNAME:CDT
DTSTART:20260308T080000
END:DAYLIGHT
BEGIN:STANDARD
TZOFFSETFROM:-0500
TZOFFSETTO:-0600
TZNAME:CST
DTSTART:20261101T070000
END:STANDARD
BEGIN:DAYLIGHT
TZOFFSETFROM:-0600
TZOFFSETTO:-0500
TZNAME:CDT
DTSTART:20270314T080000
END:DAYLIGHT
BEGIN:STANDARD
TZOFFSETFROM:-0500
TZOFFSETTO:-0600
TZNAME:CST
DTSTART:20271107T070000
END:STANDARD
END:VTIMEZONE
BEGIN:VEVENT
DTSTART;TZID=America/Chicago:20260208T084500
DTEND;TZID=America/Chicago:20260208T084500
DTSTAMP:20260421T143307
CREATED:20260205T202107Z
LAST-MODIFIED:20260205T213217Z
UID:8703-1770540300-1770540300@fpcbentonville.org
SUMMARY:J St. Kids
DESCRIPTION:Faith Formation for K-6th Graders
URL:https://fpcbentonville.org/event/j-st-kids-23/
END:VEVENT
BEGIN:VEVENT
DTSTART;TZID=America/Chicago:20260208T090000
DTEND;TZID=America/Chicago:20260208T090000
DTSTAMP:20260421T143307
CREATED:20260205T202318Z
LAST-MODIFIED:20260205T202608Z
UID:8709-1770541200-1770541200@fpcbentonville.org
SUMMARY:Adult Faith Formation (Library)
DESCRIPTION:
URL:https://fpcbentonville.org/event/adult-faith-formation-2/
END:VEVENT
BEGIN:VEVENT
DTSTART;TZID=America/Chicago:20260208T101500
DTEND;TZID=America/Chicago:20260208T101500
DTSTAMP:20260421T143307
CREATED:20260205T202858Z
LAST-MODIFIED:20260205T202900Z
UID:8719-1770545700-1770545700@fpcbentonville.org
SUMMARY:Youth Sunday Worship (in person and online via Facebook and YouTube)
DESCRIPTION:
URL:https://fpcbentonville.org/event/youth-sunday-worship-in-person-and-online-via-facebook-and-youtube/
END:VEVENT
BEGIN:VEVENT
DTSTART;TZID=America/Chicago:20260208T103000
DTEND;TZID=America/Chicago:20260208T111500
DTSTAMP:20260421T143307
CREATED:20260205T213657Z
LAST-MODIFIED:20260205T213659Z
UID:8799-1770546600-1770549300@fpcbentonville.org
SUMMARY:Children's Church
DESCRIPTION:Faith Formation for Children age 3-2nd Grade
URL:https://fpcbentonville.org/event/childrens-church/
END:VEVENT
BEGIN:VEVENT
DTSTART;TZID=America/Chicago:20260208T113000
DTEND;TZID=America/Chicago:20260208T113000
DTSTAMP:20260421T143307
CREATED:20260205T205851Z
LAST-MODIFIED:20260205T205853Z
UID:8755-1770550200-1770550200@fpcbentonville.org
SUMMARY:Newcomer Gathering (Library)
DESCRIPTION:
URL:https://fpcbentonville.org/event/newcomer-gathering-library-7/
END:VEVENT
BEGIN:VEVENT
DTSTART;TZID=America/Chicago:20260211T183000
DTEND;TZID=America/Chicago:20260211T183000
DTSTAMP:20260421T143307
CREATED:20260205T203741Z
LAST-MODIFIED:20260205T203744Z
UID:8738-1770834600-1770834600@fpcbentonville.org
SUMMARY:Choir Practice
DESCRIPTION:
URL:https://fpcbentonville.org/event/choir-practice-73/
END:VEVENT
BEGIN:VEVENT
DTSTART;TZID=America/Chicago:20260212T093000
DTEND;TZID=America/Chicago:20260212T093000
DTSTAMP:20260421T143307
CREATED:20260205T204200Z
LAST-MODIFIED:20260205T204203Z
UID:8744-1770888600-1770888600@fpcbentonville.org
SUMMARY:Presbyterian Women Horizons Bible Study (Bird's Eye Room)
DESCRIPTION:
URL:https://fpcbentonville.org/event/presbyterian-women-horizons-bible-study-birds-eye-room/
END:VEVENT
BEGIN:VEVENT
DTSTART;TZID=America/Chicago:20260212T093000
DTEND;TZID=America/Chicago:20260212T093000
DTSTAMP:20260421T143307
CREATED:20260205T204251Z
LAST-MODIFIED:20260205T204254Z
UID:8746-1770888600-1770888600@fpcbentonville.org
SUMMARY:Men's Fellowship (Library)
DESCRIPTION:
URL:https://fpcbentonville.org/event/mens-fellowship-library-13/
END:VEVENT
BEGIN:VEVENT
DTSTART;TZID=America/Chicago:20260214T090000
DTEND;TZID=America/Chicago:20260214T110000
DTSTAMP:20260421T143307
CREATED:20260205T211438Z
LAST-MODIFIED:20260205T211440Z
UID:8773-1771059600-1771066800@fpcbentonville.org
SUMMARY:FPC Food Pantry
DESCRIPTION:
URL:https://fpcbentonville.org/event/fpc-food-pantry-156/
END:VEVENT
BEGIN:VEVENT
DTSTART;TZID=America/Chicago:20260215T084500
DTEND;TZID=America/Chicago:20260215T084500
DTSTAMP:20260421T143307
CREATED:20260205T202149Z
LAST-MODIFIED:20260205T213339Z
UID:8705-1771145100-1771145100@fpcbentonville.org
SUMMARY:J St. Kids
DESCRIPTION:Faith Formation for K-6th Graders
URL:https://fpcbentonville.org/event/j-st-kids-24/
END:VEVENT
BEGIN:VEVENT
DTSTART;TZID=America/Chicago:20260215T090000
DTEND;TZID=America/Chicago:20260215T090000
DTSTAMP:20260421T143307
CREATED:20260205T202530Z
LAST-MODIFIED:20260205T202532Z
UID:8714-1771146000-1771146000@fpcbentonville.org
SUMMARY:Adult Faith Formation (Library)
DESCRIPTION:
URL:https://fpcbentonville.org/event/adult-faith-formation-library-4/
END:VEVENT
BEGIN:VEVENT
DTSTART;TZID=America/Chicago:20260215T101500
DTEND;TZID=America/Chicago:20260215T101500
DTSTAMP:20260421T143307
CREATED:20260205T202939Z
LAST-MODIFIED:20260205T202941Z
UID:8721-1771150500-1771150500@fpcbentonville.org
SUMMARY:Worship (in person and online via Facebook and YouTube)
DESCRIPTION:
URL:https://fpcbentonville.org/event/worship-in-person-and-online-via-facebook-and-youtube-20/
END:VEVENT
BEGIN:VEVENT
DTSTART;TZID=America/Chicago:20260215T103000
DTEND;TZID=America/Chicago:20260215T111500
DTSTAMP:20260421T143307
CREATED:20260205T213812Z
LAST-MODIFIED:20260205T213815Z
UID:8801-1771151400-1771154100@fpcbentonville.org
SUMMARY:Children's Church
DESCRIPTION:Faith Formation for Children age 3-2nd Grade
URL:https://fpcbentonville.org/event/childrens-church-2/
END:VEVENT
BEGIN:VEVENT
DTSTART;TZID=America/Chicago:20260215T113000
DTEND;TZID=America/Chicago:20260215T113000
DTSTAMP:20260421T143307
CREATED:20260205T210048Z
LAST-MODIFIED:20260205T210050Z
UID:8757-1771155000-1771155000@fpcbentonville.org
SUMMARY:Share the Warmth Fellowship
DESCRIPTION:
URL:https://fpcbentonville.org/event/share-the-warmth-fellowship/
END:VEVENT
BEGIN:VEVENT
DTSTART;TZID=America/Chicago:20260215T160000
DTEND;TZID=America/Chicago:20260215T160000
DTSTAMP:20260421T143307
CREATED:20260205T203204Z
LAST-MODIFIED:20260205T214135Z
UID:8727-1771171200-1771171200@fpcbentonville.org
SUMMARY:Youth Group
DESCRIPTION:Faith Formation for 7-12th Graders
URL:https://fpcbentonville.org/event/youth-group-55/
END:VEVENT
BEGIN:VEVENT
DTSTART;TZID=America/Chicago:20260217T183000
DTEND;TZID=America/Chicago:20260217T203000
DTSTAMP:20260421T143307
CREATED:20260205T210202Z
LAST-MODIFIED:20260205T210205Z
UID:8759-1771353000-1771360200@fpcbentonville.org
SUMMARY:Mardi Gras Game Night (Fellowship Hall)
DESCRIPTION:
URL:https://fpcbentonville.org/event/mardi-gras-game-night-fellowship-hall-2/
END:VEVENT
BEGIN:VEVENT
DTSTART;TZID=America/Chicago:20260218T190000
DTEND;TZID=America/Chicago:20260218T190000
DTSTAMP:20260421T143307
CREATED:20260205T210331Z
LAST-MODIFIED:20260205T210657Z
UID:8761-1771441200-1771441200@fpcbentonville.org
SUMMARY:Ash Wednesday Service
DESCRIPTION:
URL:https://fpcbentonville.org/event/ash-wednesday-worship/
END:VEVENT
BEGIN:VEVENT
DTSTART;TZID=America/Chicago:20260219T093000
DTEND;TZID=America/Chicago:20260219T093000
DTSTAMP:20260421T143307
CREATED:20260205T205127Z
LAST-MODIFIED:20260205T205231Z
UID:8748-1771493400-1771493400@fpcbentonville.org
SUMMARY:W.O.W. (Women of the Word) Bible Study (Bird's Eye Room)
DESCRIPTION:
URL:https://fpcbentonville.org/event/w-o-w-women-of-the-word-bible-study-birds-eye-room-5/
END:VEVENT
BEGIN:VEVENT
DTSTART;TZID=America/Chicago:20260219T180000
DTEND;TZID=America/Chicago:20260219T180000
DTSTAMP:20260421T143307
CREATED:20260205T205734Z
LAST-MODIFIED:20260205T205737Z
UID:8753-1771524000-1771524000@fpcbentonville.org
SUMMARY:Presbyterian Women Elizabeth Circle (Library)
DESCRIPTION:
URL:https://fpcbentonville.org/event/presbyterian-women-elizabeth-circle-library/
END:VEVENT
BEGIN:VEVENT
DTSTART;TZID=America/Chicago:20260221T090000
DTEND;TZID=America/Chicago:20260221T110000
DTSTAMP:20260421T143307
CREATED:20260205T211525Z
LAST-MODIFIED:20260205T211526Z
UID:8775-1771664400-1771671600@fpcbentonville.org
SUMMARY:FPC Food Pantry
DESCRIPTION:
URL:https://fpcbentonville.org/event/fpc-food-pantry-157/
END:VEVENT
BEGIN:VEVENT
DTSTART;TZID=America/Chicago:20260222T000000
DTEND;TZID=America/Chicago:20260222T235959
DTSTAMP:20260421T143307
CREATED:20260205T210844Z
LAST-MODIFIED:20260205T210846Z
UID:8764-1771718400-1771804799@fpcbentonville.org
SUMMARY:First Sunday in Lent
DESCRIPTION:
URL:https://fpcbentonville.org/event/first-sunday-in-lent/
END:VEVENT
BEGIN:VEVENT
DTSTART;TZID=America/Chicago:20260222T084500
DTEND;TZID=America/Chicago:20260222T084500
DTSTAMP:20260421T143307
CREATED:20260205T202237Z
LAST-MODIFIED:20260205T213426Z
UID:8707-1771749900-1771749900@fpcbentonville.org
SUMMARY:J St. Kids
DESCRIPTION:Faith Formation for K-6th Graders
URL:https://fpcbentonville.org/event/j-st-kids-25/
END:VEVENT
BEGIN:VEVENT
DTSTART;TZID=America/Chicago:20260222T090000
DTEND;TZID=America/Chicago:20260222T090000
DTSTAMP:20260421T143307
CREATED:20260205T202406Z
LAST-MODIFIED:20260205T202435Z
UID:8711-1771750800-1771750800@fpcbentonville.org
SUMMARY:Adult Faith Formation (Library)
DESCRIPTION:
URL:https://fpcbentonville.org/event/adult-faith-formation-library-3/
END:VEVENT
BEGIN:VEVENT
DTSTART;TZID=America/Chicago:20260222T101500
DTEND;TZID=America/Chicago:20260222T101500
DTSTAMP:20260421T143307
CREATED:20260205T203014Z
LAST-MODIFIED:20260205T203018Z
UID:8723-1771755300-1771755300@fpcbentonville.org
SUMMARY:Worship (in person and online via Facebook and YouTube)
DESCRIPTION:
URL:https://fpcbentonville.org/event/worship-in-person-and-online-via-facebook-and-youtube-21/
END:VEVENT
BEGIN:VEVENT
DTSTART;TZID=America/Chicago:20260222T103000
DTEND;TZID=America/Chicago:20260222T111500
DTSTAMP:20260421T143307
CREATED:20260205T213924Z
LAST-MODIFIED:20260205T213927Z
UID:8803-1771756200-1771758900@fpcbentonville.org
SUMMARY:Children's Church
DESCRIPTION:Faith Formation for Children age 3-2nd Grade
URL:https://fpcbentonville.org/event/childrens-church-3/
END:VEVENT
BEGIN:VEVENT
DTSTART;TZID=America/Chicago:20260222T160000
DTEND;TZID=America/Chicago:20260222T160000
DTSTAMP:20260421T143307
CREATED:20260205T203353Z
LAST-MODIFIED:20260205T214202Z
UID:8730-1771776000-1771776000@fpcbentonville.org
SUMMARY:Youth Group
DESCRIPTION:Faith Formation for 7-12th Graders
URL:https://fpcbentonville.org/event/youth-group-56/
END:VEVENT
BEGIN:VEVENT
DTSTART;TZID=America/Chicago:20260223T180000
DTEND;TZID=America/Chicago:20260223T180000
DTSTAMP:20260421T143307
CREATED:20260205T211016Z
LAST-MODIFIED:20260205T211019Z
UID:8766-1771869600-1771869600@fpcbentonville.org
SUMMARY:Stated Session Meeting (Library)
DESCRIPTION:
URL:https://fpcbentonville.org/event/stated-session-meeting-library-15/
END:VEVENT
BEGIN:VEVENT
DTSTART;TZID=America/Chicago:20260225T183000
DTEND;TZID=America/Chicago:20260225T183000
DTSTAMP:20260421T143307
CREATED:20260205T203909Z
LAST-MODIFIED:20260205T203912Z
UID:8740-1772044200-1772044200@fpcbentonville.org
SUMMARY:Choir Practice
DESCRIPTION:
URL:https://fpcbentonville.org/event/choir-practice-74/
END:VEVENT
BEGIN:VEVENT
DTSTART;TZID=America/Chicago:20260226T093000
DTEND;TZID=America/Chicago:20260226T093000
DTSTAMP:20260421T143307
CREATED:20260205T205614Z
LAST-MODIFIED:20260205T205618Z
UID:8751-1772098200-1772098200@fpcbentonville.org
SUMMARY:W.O.W. (Women of the Word) Bible Study (Bird's Eye Room)
DESCRIPTION:
URL:https://fpcbentonville.org/event/w-o-w-women-of-the-word-bible-study-birds-eye-room-6/
END:VEVENT
BEGIN:VEVENT
DTSTART;TZID=America/Chicago:20260226T110000
DTEND;TZID=America/Chicago:20260226T110000
DTSTAMP:20260421T143307
CREATED:20260205T211121Z
LAST-MODIFIED:20260205T211124Z
UID:8768-1772103600-1772103600@fpcbentonville.org
SUMMARY:J.O.Y. (Just Older Youth) Group (Library)
DESCRIPTION:
URL:https://fpcbentonville.org/event/j-o-y-just-older-youth-group-library-2/
END:VEVENT
END:VCALENDAR