BEGIN:VCALENDAR
VERSION:2.0
PRODID:-//First Presbyterian Church, Bentonville - ECPv6.15.20//NONSGML v1.0//EN
CALSCALE:GREGORIAN
METHOD:PUBLISH
X-ORIGINAL-URL:https://fpcbentonville.org
X-WR-CALDESC:Events for First Presbyterian Church, Bentonville
REFRESH-INTERVAL;VALUE=DURATION:PT1H
X-Robots-Tag:noindex
X-PUBLISHED-TTL:PT1H
BEGIN:VTIMEZONE
TZID:America/Chicago
BEGIN:DAYLIGHT
TZOFFSETFROM:-0600
TZOFFSETTO:-0500
TZNAME:CDT
DTSTART:20250309T080000
END:DAYLIGHT
BEGIN:STANDARD
TZOFFSETFROM:-0500
TZOFFSETTO:-0600
TZNAME:CST
DTSTART:20251102T070000
END:STANDARD
BEGIN:DAYLIGHT
TZOFFSETFROM:-0600
TZOFFSETTO:-0500
TZNAME:CDT
DTSTART:20260308T080000
END:DAYLIGHT
BEGIN:STANDARD
TZOFFSETFROM:-0500
TZOFFSETTO:-0600
TZNAME:CST
DTSTART:20261101T070000
END:STANDARD
BEGIN:DAYLIGHT
TZOFFSETFROM:-0600
TZOFFSETTO:-0500
TZNAME:CDT
DTSTART:20270314T080000
END:DAYLIGHT
BEGIN:STANDARD
TZOFFSETFROM:-0500
TZOFFSETTO:-0600
TZNAME:CST
DTSTART:20271107T070000
END:STANDARD
END:VTIMEZONE
BEGIN:VEVENT
DTSTART;TZID=America/Chicago:20260531T084500
DTEND;TZID=America/Chicago:20260531T084500
DTSTAMP:20260425T123626
CREATED:20260409T183235Z
LAST-MODIFIED:20260409T183237Z
UID:9180-1780217100-1780217100@fpcbentonville.org
SUMMARY:J St. Kids
DESCRIPTION:
URL:https://fpcbentonville.org/event/j-st-kids-37/
END:VEVENT
BEGIN:VEVENT
DTSTART;TZID=America/Chicago:20260531T090000
DTEND;TZID=America/Chicago:20260531T090000
DTSTAMP:20260425T123626
CREATED:20260409T183957Z
LAST-MODIFIED:20260409T183959Z
UID:9190-1780218000-1780218000@fpcbentonville.org
SUMMARY:Adult Faith Formation (Library)
DESCRIPTION:
URL:https://fpcbentonville.org/event/adult-faith-formation-library-14/
END:VEVENT
BEGIN:VEVENT
DTSTART;TZID=America/Chicago:20260531T101500
DTEND;TZID=America/Chicago:20260531T101500
DTSTAMP:20260425T123626
CREATED:20260409T184753Z
LAST-MODIFIED:20260409T184755Z
UID:9200-1780222500-1780222500@fpcbentonville.org
SUMMARY:Worship (in person and online via Facebook and YouTube)
DESCRIPTION:
URL:https://fpcbentonville.org/event/worship-in-person-and-online-via-facebook-and-youtube-29/
END:VEVENT
END:VCALENDAR