BEGIN:VCALENDAR
VERSION:2.0
PRODID:-//First Presbyterian Church, Bentonville - ECPv6.15.20//NONSGML v1.0//EN
CALSCALE:GREGORIAN
METHOD:PUBLISH
X-WR-CALNAME:First Presbyterian Church, Bentonville
X-ORIGINAL-URL:https://fpcbentonville.org
X-WR-CALDESC:Events for First Presbyterian Church, Bentonville
REFRESH-INTERVAL;VALUE=DURATION:PT1H
X-Robots-Tag:noindex
X-PUBLISHED-TTL:PT1H
BEGIN:VTIMEZONE
TZID:America/Chicago
BEGIN:DAYLIGHT
TZOFFSETFROM:-0600
TZOFFSETTO:-0500
TZNAME:CDT
DTSTART:20250309T080000
END:DAYLIGHT
BEGIN:STANDARD
TZOFFSETFROM:-0500
TZOFFSETTO:-0600
TZNAME:CST
DTSTART:20251102T070000
END:STANDARD
BEGIN:DAYLIGHT
TZOFFSETFROM:-0600
TZOFFSETTO:-0500
TZNAME:CDT
DTSTART:20260308T080000
END:DAYLIGHT
BEGIN:STANDARD
TZOFFSETFROM:-0500
TZOFFSETTO:-0600
TZNAME:CST
DTSTART:20261101T070000
END:STANDARD
BEGIN:DAYLIGHT
TZOFFSETFROM:-0600
TZOFFSETTO:-0500
TZNAME:CDT
DTSTART:20270314T080000
END:DAYLIGHT
BEGIN:STANDARD
TZOFFSETFROM:-0500
TZOFFSETTO:-0600
TZNAME:CST
DTSTART:20271107T070000
END:STANDARD
END:VTIMEZONE
BEGIN:VEVENT
DTSTART;TZID=America/Chicago:20260329T000000
DTEND;TZID=America/Chicago:20260329T235959
DTSTAMP:20260423T043445
CREATED:20260205T212000Z
LAST-MODIFIED:20260205T212003Z
UID:8788-1774742400-1774828799@fpcbentonville.org
SUMMARY:Palm Sunday
DESCRIPTION:
URL:https://fpcbentonville.org/event/palm-sunday-4/
END:VEVENT
BEGIN:VEVENT
DTSTART;TZID=America/Chicago:20260329T084500
DTEND;TZID=America/Chicago:20260329T084500
DTSTAMP:20260423T043445
CREATED:20260205T214856Z
LAST-MODIFIED:20260205T214858Z
UID:8811-1774773900-1774773900@fpcbentonville.org
SUMMARY:J St. Kids
DESCRIPTION:Faith Formation for K-6th Graders
URL:https://fpcbentonville.org/event/j-st-kids-28/
END:VEVENT
BEGIN:VEVENT
DTSTART;TZID=America/Chicago:20260329T090000
DTEND;TZID=America/Chicago:20260329T090000
DTSTAMP:20260423T043445
CREATED:20260206T163129Z
LAST-MODIFIED:20260206T163132Z
UID:8842-1774774800-1774774800@fpcbentonville.org
SUMMARY:Adult Faith Formation (Library)
DESCRIPTION:
URL:https://fpcbentonville.org/event/adult-faith-formation-library-9/
END:VEVENT
BEGIN:VEVENT
DTSTART;TZID=America/Chicago:20260329T101500
DTEND;TZID=America/Chicago:20260329T101500
DTSTAMP:20260423T043445
CREATED:20260206T154810Z
LAST-MODIFIED:20260206T154812Z
UID:8821-1774779300-1774779300@fpcbentonville.org
SUMMARY:Worship with Palm Processional (in person and online via Facebook)
DESCRIPTION:
URL:https://fpcbentonville.org/event/worship-with-palm-processional-in-person-and-online-via-facebook/
END:VEVENT
BEGIN:VEVENT
DTSTART;TZID=America/Chicago:20260329T103000
DTEND;TZID=America/Chicago:20260329T113000
DTSTAMP:20260423T043445
CREATED:20260206T162341Z
LAST-MODIFIED:20260206T162344Z
UID:8832-1774780200-1774783800@fpcbentonville.org
SUMMARY:Children's Church
DESCRIPTION:Faith Formation for Children age 3-2nd Grade
URL:https://fpcbentonville.org/event/childrens-church-7/
END:VEVENT
BEGIN:VEVENT
DTSTART;TZID=America/Chicago:20260329T130000
DTEND;TZID=America/Chicago:20260329T143000
DTSTAMP:20260423T043445
CREATED:20260219T182403Z
LAST-MODIFIED:20260219T182406Z
UID:8967-1774789200-1774794600@fpcbentonville.org
SUMMARY:Holy Week Rocks (Fellowship Hall)
DESCRIPTION:An Interactive Faith Formation Experience for children and their families.
URL:https://fpcbentonville.org/event/holy-week-rocks-fellowship-hall/
END:VEVENT
END:VCALENDAR