BEGIN:VCALENDAR
VERSION:2.0
PRODID:-//First Presbyterian Church, Bentonville - ECPv6.15.20//NONSGML v1.0//EN
CALSCALE:GREGORIAN
METHOD:PUBLISH
X-WR-CALNAME:First Presbyterian Church, Bentonville
X-ORIGINAL-URL:https://fpcbentonville.org
X-WR-CALDESC:Events for First Presbyterian Church, Bentonville
REFRESH-INTERVAL;VALUE=DURATION:PT1H
X-Robots-Tag:noindex
X-PUBLISHED-TTL:PT1H
BEGIN:VTIMEZONE
TZID:America/Chicago
BEGIN:DAYLIGHT
TZOFFSETFROM:-0600
TZOFFSETTO:-0500
TZNAME:CDT
DTSTART:20250309T080000
END:DAYLIGHT
BEGIN:STANDARD
TZOFFSETFROM:-0500
TZOFFSETTO:-0600
TZNAME:CST
DTSTART:20251102T070000
END:STANDARD
BEGIN:DAYLIGHT
TZOFFSETFROM:-0600
TZOFFSETTO:-0500
TZNAME:CDT
DTSTART:20260308T080000
END:DAYLIGHT
BEGIN:STANDARD
TZOFFSETFROM:-0500
TZOFFSETTO:-0600
TZNAME:CST
DTSTART:20261101T070000
END:STANDARD
BEGIN:DAYLIGHT
TZOFFSETFROM:-0600
TZOFFSETTO:-0500
TZNAME:CDT
DTSTART:20270314T080000
END:DAYLIGHT
BEGIN:STANDARD
TZOFFSETFROM:-0500
TZOFFSETTO:-0600
TZNAME:CST
DTSTART:20271107T070000
END:STANDARD
END:VTIMEZONE
BEGIN:VEVENT
DTSTART;TZID=America/Chicago:20260308T000000
DTEND;TZID=America/Chicago:20260308T235959
DTSTAMP:20260421T105934
CREATED:20260205T211752Z
LAST-MODIFIED:20260205T211755Z
UID:8781-1772928000-1773014399@fpcbentonville.org
SUMMARY:Third Sunday in Lent
DESCRIPTION:
URL:https://fpcbentonville.org/event/third-sunday-in-lent/
END:VEVENT
BEGIN:VEVENT
DTSTART;TZID=America/Chicago:20260308T084500
DTEND;TZID=America/Chicago:20260308T084500
DTSTAMP:20260421T105934
CREATED:20260205T214733Z
LAST-MODIFIED:20260205T214736Z
UID:8809-1772959500-1772959500@fpcbentonville.org
SUMMARY:J St. Kids
DESCRIPTION:Faith Formation for K-6th Graders
URL:https://fpcbentonville.org/event/j-st-kids-27/
END:VEVENT
BEGIN:VEVENT
DTSTART;TZID=America/Chicago:20260308T090000
DTEND;TZID=America/Chicago:20260308T090000
DTSTAMP:20260421T105934
CREATED:20260206T162553Z
LAST-MODIFIED:20260206T162556Z
UID:8836-1772960400-1772960400@fpcbentonville.org
SUMMARY:Adult Faith Formation (Library)
DESCRIPTION:
URL:https://fpcbentonville.org/event/adult-faith-formation-library-6/
END:VEVENT
BEGIN:VEVENT
DTSTART;TZID=America/Chicago:20260308T101500
DTEND;TZID=America/Chicago:20260308T101500
DTSTAMP:20260421T105934
CREATED:20260206T154231Z
LAST-MODIFIED:20260206T161424Z
UID:8815-1772964900-1772964900@fpcbentonville.org
SUMMARY:Worship (in person and online via Facebook and YouTube)
DESCRIPTION:
URL:https://fpcbentonville.org/event/worship-in-person-and-online-via-facebook/
END:VEVENT
BEGIN:VEVENT
DTSTART;TZID=America/Chicago:20260308T103000
DTEND;TZID=America/Chicago:20260308T113000
DTSTAMP:20260421T105934
CREATED:20260206T162008Z
LAST-MODIFIED:20260206T162010Z
UID:8826-1772965800-1772969400@fpcbentonville.org
SUMMARY:Children's Church
DESCRIPTION:Faith Formation for Children age 3-2nd Grade
URL:https://fpcbentonville.org/event/childrens-church-4/
END:VEVENT
BEGIN:VEVENT
DTSTART;TZID=America/Chicago:20260308T160000
DTEND;TZID=America/Chicago:20260308T160000
DTSTAMP:20260421T105934
CREATED:20260206T163838Z
LAST-MODIFIED:20260206T163841Z
UID:8846-1772985600-1772985600@fpcbentonville.org
SUMMARY:Youth Group
DESCRIPTION:Faith Formation for 7-12th Graders
URL:https://fpcbentonville.org/event/youth-group-58/
END:VEVENT
END:VCALENDAR